BEGIN:VCALENDAR
VERSION:2.0
PRODID:-//Centrumkyrkan i Sundbyberg - ECPv6.15.20//NONSGML v1.0//EN
CALSCALE:GREGORIAN
METHOD:PUBLISH
X-ORIGINAL-URL:https://www.centrumkyrkan.se
X-WR-CALDESC:Händelser för Centrumkyrkan i Sundbyberg
REFRESH-INTERVAL;VALUE=DURATION:PT1H
X-Robots-Tag:noindex
X-PUBLISHED-TTL:PT1H
BEGIN:VTIMEZONE
TZID:Europe/Stockholm
BEGIN:DAYLIGHT
TZOFFSETFROM:+0100
TZOFFSETTO:+0200
TZNAME:CEST
DTSTART:20220327T010000
END:DAYLIGHT
BEGIN:STANDARD
TZOFFSETFROM:+0200
TZOFFSETTO:+0100
TZNAME:CET
DTSTART:20221030T010000
END:STANDARD
BEGIN:DAYLIGHT
TZOFFSETFROM:+0100
TZOFFSETTO:+0200
TZNAME:CEST
DTSTART:20230326T010000
END:DAYLIGHT
BEGIN:STANDARD
TZOFFSETFROM:+0200
TZOFFSETTO:+0100
TZNAME:CET
DTSTART:20231029T010000
END:STANDARD
BEGIN:DAYLIGHT
TZOFFSETFROM:+0100
TZOFFSETTO:+0200
TZNAME:CEST
DTSTART:20240331T010000
END:DAYLIGHT
BEGIN:STANDARD
TZOFFSETFROM:+0200
TZOFFSETTO:+0100
TZNAME:CET
DTSTART:20241027T010000
END:STANDARD
END:VTIMEZONE
BEGIN:VEVENT
DTSTART;TZID=Europe/Stockholm:20230304T100000
DTEND;TZID=Europe/Stockholm:20230304T120000
DTSTAMP:20260423T135835
CREATED:20221216T125250Z
LAST-MODIFIED:20221216T125250Z
UID:4436-1677924000-1677931200@www.centrumkyrkan.se
SUMMARY:Sopplunch
DESCRIPTION:Sopplunch kl.10.00-12.00.
URL:https://www.centrumkyrkan.se/kalender-namn/sopplunch-76/
LOCATION:Centrumkyrkan i Sundbyberg\, Prästgårdsgatan 13\, Sundbyberg\, 17268
ORGANIZER;CN="Centrumkyrkan i Sundbyberg":MAILTO:info@centrumkyrkan.se
END:VEVENT
BEGIN:VEVENT
DTSTART;TZID=Europe/Stockholm:20230305T110000
DTEND;TZID=Europe/Stockholm:20230305T123000
DTSTAMP:20260423T135835
CREATED:20221220T105748Z
LAST-MODIFIED:20230118T082411Z
UID:4454-1678014000-1678019400@www.centrumkyrkan.se
SUMMARY:Gudstjänst
DESCRIPTION:11.00 ”Den kämpande tron”.\nPredikan: Malin Aronsson\nMusik:
URL:https://www.centrumkyrkan.se/kalender-namn/gudstjanst-69/
LOCATION:Centrumkyrkan i Sundbyberg\, Prästgårdsgatan 13\, Sundbyberg\, 17268
ORGANIZER;CN="Centrumkyrkan i Sundbyberg":MAILTO:info@centrumkyrkan.se
END:VEVENT
BEGIN:VEVENT
DTSTART;TZID=Europe/Stockholm:20230308T183000
DTEND;TZID=Europe/Stockholm:20230308T193000
DTSTAMP:20260423T135835
CREATED:20221216T091906Z
LAST-MODIFIED:20221216T091906Z
UID:4422-1678300200-1678303800@www.centrumkyrkan.se
SUMMARY:Inför Hans Ansikte
DESCRIPTION:18.30-19.30\nBönegudstjänst med nattvard.
URL:https://www.centrumkyrkan.se/kalender-namn/infor-hans-ansikte-30/
LOCATION:Centrumkyrkan i Sundbyberg\, Prästgårdsgatan 13\, Sundbyberg\, 17268
ORGANIZER;CN="Centrumkyrkan i Sundbyberg":MAILTO:info@centrumkyrkan.se
END:VEVENT
BEGIN:VEVENT
DTSTART;TZID=Europe/Stockholm:20230311T100000
DTEND;TZID=Europe/Stockholm:20230311T120000
DTSTAMP:20260423T135835
CREATED:20221216T125420Z
LAST-MODIFIED:20221216T125420Z
UID:4438-1678528800-1678536000@www.centrumkyrkan.se
SUMMARY:Sopplunch
DESCRIPTION:Sopplunch kl.10.00-12.00.
URL:https://www.centrumkyrkan.se/kalender-namn/sopplunch-77/
LOCATION:Centrumkyrkan i Sundbyberg\, Prästgårdsgatan 13\, Sundbyberg\, 17268
ORGANIZER;CN="Centrumkyrkan i Sundbyberg":MAILTO:info@centrumkyrkan.se
END:VEVENT
BEGIN:VEVENT
DTSTART;TZID=Europe/Stockholm:20230312T093000
DTEND;TZID=Europe/Stockholm:20230312T103000
DTSTAMP:20260423T135835
CREATED:20221220T130242Z
LAST-MODIFIED:20230310T131300Z
UID:4464-1678613400-1678617000@www.centrumkyrkan.se
SUMMARY:Bibelstudium
DESCRIPTION:09.30 Frukostbibelstudium med Lars Johansson.\n”Konspirationsteorier och kyrkan”.\nI samarbete med Bilda.
URL:https://www.centrumkyrkan.se/kalender-namn/frukostbibelstudium-4/
LOCATION:Centrumkyrkan i Sundbyberg\, Prästgårdsgatan 13\, Sundbyberg\, 17268
ORGANIZER;CN="Centrumkyrkan i Sundbyberg":MAILTO:info@centrumkyrkan.se
END:VEVENT
BEGIN:VEVENT
DTSTART;TZID=Europe/Stockholm:20230312T110000
DTEND;TZID=Europe/Stockholm:20230312T123000
DTSTAMP:20260423T135835
CREATED:20221220T125934Z
LAST-MODIFIED:20230118T082537Z
UID:4462-1678618800-1678624200@www.centrumkyrkan.se
SUMMARY:Gudstjänst
DESCRIPTION:11.00 ”Kampen mot ondskan”\nPredikan: Lars Johansson\nMusik:
URL:https://www.centrumkyrkan.se/kalender-namn/gudstjanst-70/
LOCATION:Centrumkyrkan i Sundbyberg\, Prästgårdsgatan 13\, Sundbyberg\, 17268
ORGANIZER;CN="Centrumkyrkan i Sundbyberg":MAILTO:info@centrumkyrkan.se
END:VEVENT
BEGIN:VEVENT
DTSTART;TZID=Europe/Stockholm:20230312T180000
DTEND;TZID=Europe/Stockholm:20230312T193000
DTSTAMP:20260423T135835
CREATED:20230310T115513Z
LAST-MODIFIED:20230310T115513Z
UID:4752-1678644000-1678649400@www.centrumkyrkan.se
SUMMARY:Församlingsbön
DESCRIPTION:Kl. 18.00. Vi möts för bön och lovsång.\nErik Valier leder.
URL:https://www.centrumkyrkan.se/kalender-namn/forsamlingsbon/
LOCATION:Centrumkyrkan i Sundbyberg\, Prästgårdsgatan 13\, Sundbyberg\, 17268
ORGANIZER;CN="Centrumkyrkan i Sundbyberg":MAILTO:info@centrumkyrkan.se
END:VEVENT
BEGIN:VEVENT
DTSTART;TZID=Europe/Stockholm:20230315T140000
DTEND;TZID=Europe/Stockholm:20230315T160000
DTSTAMP:20260423T135835
CREATED:20230209T120320Z
LAST-MODIFIED:20230310T131445Z
UID:4673-1678888800-1678896000@www.centrumkyrkan.se
SUMMARY:Dagledig träff
DESCRIPTION:Kl 14 Huskören med Bernt Nordström\nKaffeservering kl 15.\nI samarbete med Bilda.
URL:https://www.centrumkyrkan.se/kalender-namn/dagledig-traff/
LOCATION:Centrumkyrkan i Sundbyberg\, Prästgårdsgatan 13\, Sundbyberg\, 17268
ORGANIZER;CN="Centrumkyrkan i Sundbyberg":MAILTO:info@centrumkyrkan.se
END:VEVENT
BEGIN:VEVENT
DTSTART;TZID=Europe/Stockholm:20230317T180000
DTEND;TZID=Europe/Stockholm:20230317T210000
DTSTAMP:20260423T135835
CREATED:20230112T145038Z
LAST-MODIFIED:20230310T115745Z
UID:4516-1679076000-1679086800@www.centrumkyrkan.se
SUMMARY:CK-Tillsammans Ukraina
DESCRIPTION:CK- tillsammans Ukraina kl 18.00-21.00.\nPizza\, kahoot\, livemusik och gemenskap.
URL:https://www.centrumkyrkan.se/kalender-namn/ck-tillsammans-5/
LOCATION:Centrumkyrkan i Sundbyberg\, Prästgårdsgatan 13\, Sundbyberg\, 17268
ORGANIZER;CN="Centrumkyrkan i Sundbyberg":MAILTO:info@centrumkyrkan.se
END:VEVENT
BEGIN:VEVENT
DTSTART;TZID=Europe/Stockholm:20230318T100000
DTEND;TZID=Europe/Stockholm:20230318T120000
DTSTAMP:20260423T135835
CREATED:20221216T132231Z
LAST-MODIFIED:20221216T132231Z
UID:4440-1679133600-1679140800@www.centrumkyrkan.se
SUMMARY:Sopplunch
DESCRIPTION:Sopplunch kl.10.00-12.00.
URL:https://www.centrumkyrkan.se/kalender-namn/sopplunch-78/
LOCATION:Centrumkyrkan i Sundbyberg\, Prästgårdsgatan 13\, Sundbyberg\, 17268
ORGANIZER;CN="Centrumkyrkan i Sundbyberg":MAILTO:info@centrumkyrkan.se
END:VEVENT
BEGIN:VEVENT
DTSTART;TZID=Europe/Stockholm:20230319T110000
DTEND;TZID=Europe/Stockholm:20230319T123000
DTSTAMP:20260423T135835
CREATED:20230118T082959Z
LAST-MODIFIED:20230118T082959Z
UID:4548-1679223600-1679229000@www.centrumkyrkan.se
SUMMARY:Gudstjänst
DESCRIPTION:11.00 ”Livets bröd”\nPredikan: Bertil Edin
URL:https://www.centrumkyrkan.se/kalender-namn/gudstjanst-74/
LOCATION:Centrumkyrkan i Sundbyberg\, Prästgårdsgatan 13\, Sundbyberg\, 17268
ORGANIZER;CN="Centrumkyrkan i Sundbyberg":MAILTO:info@centrumkyrkan.se
END:VEVENT
BEGIN:VEVENT
DTSTART;TZID=Europe/Stockholm:20230319T180000
DTEND;TZID=Europe/Stockholm:20230319T193000
DTSTAMP:20260423T135835
CREATED:20230314T121900Z
LAST-MODIFIED:20230314T121900Z
UID:4760-1679248800-1679254200@www.centrumkyrkan.se
SUMMARY:Församlingsbön
DESCRIPTION:Kl. 18.00. Vi möts för bön och lovsång.\nErik Valier leder.
URL:https://www.centrumkyrkan.se/kalender-namn/forsamlingsbon-2/
LOCATION:Centrumkyrkan i Sundbyberg\, Prästgårdsgatan 13\, Sundbyberg\, 17268
ORGANIZER;CN="Centrumkyrkan i Sundbyberg":MAILTO:info@centrumkyrkan.se
END:VEVENT
BEGIN:VEVENT
DTSTART;TZID=Europe/Stockholm:20230320T193000
DTEND;TZID=Europe/Stockholm:20230320T210000
DTSTAMP:20260423T135835
CREATED:20230309T123134Z
LAST-MODIFIED:20230309T123533Z
UID:4737-1679340600-1679346000@www.centrumkyrkan.se
SUMMARY:Konsert - By Grace
DESCRIPTION:Kl. 19.30\nFör köp av biljetter\, se affisch på hemsidan.
URL:https://www.centrumkyrkan.se/kalender-namn/konsert-by-grace/
LOCATION:Centrumkyrkan i Sundbyberg\, Prästgårdsgatan 13\, Sundbyberg\, 17268
ORGANIZER;CN="Centrumkyrkan i Sundbyberg":MAILTO:info@centrumkyrkan.se
END:VEVENT
BEGIN:VEVENT
DTSTART;TZID=Europe/Stockholm:20230322T183000
DTEND;TZID=Europe/Stockholm:20230322T190000
DTSTAMP:20260423T135835
CREATED:20221216T123452Z
LAST-MODIFIED:20221216T123452Z
UID:4424-1679509800-1679511600@www.centrumkyrkan.se
SUMMARY:Inför Hans Ansikte
DESCRIPTION:18.30-19.30\nBönegudstjänst med nattvard.
URL:https://www.centrumkyrkan.se/kalender-namn/infor-hans-ansikte-31/
LOCATION:Centrumkyrkan i Sundbyberg\, Prästgårdsgatan 13\, Sundbyberg\, 17268
ORGANIZER;CN="Centrumkyrkan i Sundbyberg":MAILTO:info@centrumkyrkan.se
END:VEVENT
BEGIN:VEVENT
DTSTART;VALUE=DATE:20230325
DTEND;VALUE=DATE:20230327
DTSTAMP:20260423T135835
CREATED:20230112T145613Z
LAST-MODIFIED:20230112T145613Z
UID:4521-1679702400-1679875199@www.centrumkyrkan.se
SUMMARY:Ungdomsdygn i Strängnäs
DESCRIPTION:25 mars – 26 mars.\nUngdomsdygn i Strängnäs.
URL:https://www.centrumkyrkan.se/kalender-namn/ungdomsdygn-i-strangnas/
LOCATION:Centrumkyrkan i Sundbyberg\, Prästgårdsgatan 13\, Sundbyberg\, 17268
ORGANIZER;CN="Centrumkyrkan i Sundbyberg":MAILTO:info@centrumkyrkan.se
END:VEVENT
BEGIN:VEVENT
DTSTART;TZID=Europe/Stockholm:20230325T100000
DTEND;TZID=Europe/Stockholm:20230325T120000
DTSTAMP:20260423T135835
CREATED:20221216T132357Z
LAST-MODIFIED:20221216T132357Z
UID:4442-1679738400-1679745600@www.centrumkyrkan.se
SUMMARY:Sopplunch
DESCRIPTION:Sopplunch kl. 10.00-12.00.
URL:https://www.centrumkyrkan.se/kalender-namn/sopplunch-79/
LOCATION:Centrumkyrkan i Sundbyberg\, Prästgårdsgatan 13\, Sundbyberg\, 17268
ORGANIZER;CN="Centrumkyrkan i Sundbyberg":MAILTO:info@centrumkyrkan.se
END:VEVENT
BEGIN:VEVENT
DTSTART;TZID=Europe/Stockholm:20230326T110000
DTEND;TZID=Europe/Stockholm:20230326T123000
DTSTAMP:20260423T135835
CREATED:20230118T083147Z
LAST-MODIFIED:20230118T083147Z
UID:4550-1679828400-1679833800@www.centrumkyrkan.se
SUMMARY:Gudstjänst
DESCRIPTION:11.00 ”Guds mäktiga verk”\nPredikan: Erik Valier \n 
URL:https://www.centrumkyrkan.se/kalender-namn/gudstjanst-75/
LOCATION:Centrumkyrkan i Sundbyberg\, Prästgårdsgatan 13\, Sundbyberg\, 17268
ORGANIZER;CN="Centrumkyrkan i Sundbyberg":MAILTO:info@centrumkyrkan.se
END:VEVENT
BEGIN:VEVENT
DTSTART;TZID=Europe/Stockholm:20230326T180000
DTEND;TZID=Europe/Stockholm:20230326T193000
DTSTAMP:20260423T135835
CREATED:20230314T122014Z
LAST-MODIFIED:20230314T122014Z
UID:4762-1679853600-1679859000@www.centrumkyrkan.se
SUMMARY:Församlingsbön
DESCRIPTION:Kl. 18.00. Vi möts för bön och lovsång.\nErik Valier leder.
URL:https://www.centrumkyrkan.se/kalender-namn/forsamlingsbon-3/
LOCATION:Centrumkyrkan i Sundbyberg\, Prästgårdsgatan 13\, Sundbyberg\, 17268
ORGANIZER;CN="Centrumkyrkan i Sundbyberg":MAILTO:info@centrumkyrkan.se
END:VEVENT
END:VCALENDAR