BEGIN:VCALENDAR
VERSION:2.0
PRODID:-//Centrumkyrkan i Sundbyberg - ECPv6.15.20//NONSGML v1.0//EN
CALSCALE:GREGORIAN
METHOD:PUBLISH
X-WR-CALNAME:Centrumkyrkan i Sundbyberg
X-ORIGINAL-URL:https://www.centrumkyrkan.se
X-WR-CALDESC:Händelser för Centrumkyrkan i Sundbyberg
REFRESH-INTERVAL;VALUE=DURATION:PT1H
X-Robots-Tag:noindex
X-PUBLISHED-TTL:PT1H
BEGIN:VTIMEZONE
TZID:Europe/Stockholm
BEGIN:DAYLIGHT
TZOFFSETFROM:+0100
TZOFFSETTO:+0200
TZNAME:CEST
DTSTART:20200329T010000
END:DAYLIGHT
BEGIN:STANDARD
TZOFFSETFROM:+0200
TZOFFSETTO:+0100
TZNAME:CET
DTSTART:20201025T010000
END:STANDARD
BEGIN:DAYLIGHT
TZOFFSETFROM:+0100
TZOFFSETTO:+0200
TZNAME:CEST
DTSTART:20210328T010000
END:DAYLIGHT
BEGIN:STANDARD
TZOFFSETFROM:+0200
TZOFFSETTO:+0100
TZNAME:CET
DTSTART:20211031T010000
END:STANDARD
BEGIN:DAYLIGHT
TZOFFSETFROM:+0100
TZOFFSETTO:+0200
TZNAME:CEST
DTSTART:20220327T010000
END:DAYLIGHT
BEGIN:STANDARD
TZOFFSETFROM:+0200
TZOFFSETTO:+0100
TZNAME:CET
DTSTART:20221030T010000
END:STANDARD
END:VTIMEZONE
BEGIN:VEVENT
DTSTART;TZID=Europe/Stockholm:20211103T120000
DTEND;TZID=Europe/Stockholm:20211103T133000
DTSTAMP:20260424T193120
CREATED:20210921T081527Z
LAST-MODIFIED:20210921T081527Z
UID:3421-1635940800-1635946200@www.centrumkyrkan.se
SUMMARY:Bibelstudium
DESCRIPTION:Välkommen du som är dagledig. Vi fikar tillsammans och lyssnar till ett bibelstudium.
URL:https://www.centrumkyrkan.se/kalender-namn/bibelstudium-4/
LOCATION:Centrumkyrkan i Sundbyberg\, Prästgårdsgatan 13\, Sundbyberg\, 17268
ATTACH;FMTTYPE=image/jpeg:https://www.centrumkyrkan.se/wp-content/uploads/2020/12/bibel-host-scaled.jpg
END:VEVENT
BEGIN:VEVENT
DTSTART;TZID=Europe/Stockholm:20211106T100000
DTEND;TZID=Europe/Stockholm:20211106T120000
DTSTAMP:20260424T193120
CREATED:20210824T133909Z
LAST-MODIFIED:20210824T143053Z
UID:3235-1636192800-1636200000@www.centrumkyrkan.se
SUMMARY:Sopplunch
DESCRIPTION:Sopplunch varje lördag kl 10-12 \nEn värmande skål med soppa för den som behöver det. \nVälkommen!
URL:https://www.centrumkyrkan.se/kalender-namn/sopplunch-20/
LOCATION:Centrumkyrkan i Sundbyberg\, Prästgårdsgatan 13\, Sundbyberg\, 17268
END:VEVENT
BEGIN:VEVENT
DTSTART;TZID=Europe/Stockholm:20211107T110000
DTEND;TZID=Europe/Stockholm:20211107T123000
DTSTAMP:20260424T193120
CREATED:20210824T144248Z
LAST-MODIFIED:20211012T081449Z
UID:3295-1636282800-1636288200@www.centrumkyrkan.se
SUMMARY:Gudstjänst
DESCRIPTION:”Vårt evighetshopp”\nPredikan: Malin Aronsson\nMusik: Elise Nestor med team
URL:https://www.centrumkyrkan.se/kalender-namn/gudstjanst-11/
LOCATION:Centrumkyrkan i Sundbyberg\, Prästgårdsgatan 13\, Sundbyberg\, 17268
END:VEVENT
BEGIN:VEVENT
DTSTART;TZID=Europe/Stockholm:20211110T183000
DTEND;TZID=Europe/Stockholm:20211110T193000
DTSTAMP:20260424T193120
CREATED:20210824T141752Z
LAST-MODIFIED:20210824T145003Z
UID:3268-1636569000-1636572600@www.centrumkyrkan.se
SUMMARY:Inför Hans ansikte
DESCRIPTION:Bön- och nattvardsgudstjänst
URL:https://www.centrumkyrkan.se/kalender-namn/infor-hans-ansikte-6/
LOCATION:Centrumkyrkan i Sundbyberg\, Prästgårdsgatan 13\, Sundbyberg\, 17268
ATTACH;FMTTYPE=image/jpeg:https://www.centrumkyrkan.se/wp-content/uploads/2021/05/Infor-Hans-ansikte-text-20-002.jpg
END:VEVENT
BEGIN:VEVENT
DTSTART;TZID=Europe/Stockholm:20211113T100000
DTEND;TZID=Europe/Stockholm:20211113T120000
DTSTAMP:20260424T193120
CREATED:20210824T133938Z
LAST-MODIFIED:20210824T145003Z
UID:3237-1636797600-1636804800@www.centrumkyrkan.se
SUMMARY:Sopplunch
DESCRIPTION:Sopplunch varje lördag kl 10-12 \nEn värmande skål med soppa för den som behöver det. \nVälkommen!
URL:https://www.centrumkyrkan.se/kalender-namn/sopplunch-21/
LOCATION:Centrumkyrkan i Sundbyberg\, Prästgårdsgatan 13\, Sundbyberg\, 17268
END:VEVENT
BEGIN:VEVENT
DTSTART;TZID=Europe/Stockholm:20211114T110000
DTEND;TZID=Europe/Stockholm:20211114T123000
DTSTAMP:20260424T193120
CREATED:20210824T144322Z
LAST-MODIFIED:20210824T145003Z
UID:3297-1636887600-1636893000@www.centrumkyrkan.se
SUMMARY:Gudstjänst
DESCRIPTION:”Vaksamhet och väntan”
URL:https://www.centrumkyrkan.se/kalender-namn/gudstjanst-12/
LOCATION:Centrumkyrkan i Sundbyberg\, Prästgårdsgatan 13\, Sundbyberg\, 17268
END:VEVENT
BEGIN:VEVENT
DTSTART;TZID=Europe/Stockholm:20211117T120000
DTEND;TZID=Europe/Stockholm:20211117T133000
DTSTAMP:20260424T193120
CREATED:20210921T081623Z
LAST-MODIFIED:20210921T081623Z
UID:3423-1637150400-1637155800@www.centrumkyrkan.se
SUMMARY:Bibelstudium
DESCRIPTION:Välkommen du som är dagledig. Vi fikar tillsammans och lyssnar till ett bibelstudium.
URL:https://www.centrumkyrkan.se/kalender-namn/bibelstudium-5/
LOCATION:Centrumkyrkan i Sundbyberg\, Prästgårdsgatan 13\, Sundbyberg\, 17268
ATTACH;FMTTYPE=image/jpeg:https://www.centrumkyrkan.se/wp-content/uploads/2020/12/bibel-host-scaled.jpg
END:VEVENT
BEGIN:VEVENT
DTSTART;TZID=Europe/Stockholm:20211118T100000
DTEND;TZID=Europe/Stockholm:20211118T113000
DTSTAMP:20260424T193120
CREATED:20211118T102224Z
LAST-MODIFIED:20211118T102224Z
UID:3483-1637229600-1637235000@www.centrumkyrkan.se
SUMMARY:Gudstjänst
DESCRIPTION:1:a advent – Ett nådens år \nPredikan: Malin Aronsson och Erik Valier\nMusik: Adventskören
URL:https://www.centrumkyrkan.se/kalender-namn/gudstjanst-19/
LOCATION:Centrumkyrkan i Sundbyberg\, Prästgårdsgatan 13\, Sundbyberg\, 17268
CATEGORIES:Gudstjänst
ORGANIZER;CN="Centrumkyrkan i Sundbyberg":MAILTO:info@centrumkyrkan.se
END:VEVENT
BEGIN:VEVENT
DTSTART;TZID=Europe/Stockholm:20211120T100000
DTEND;TZID=Europe/Stockholm:20211120T120000
DTSTAMP:20260424T193120
CREATED:20210824T134008Z
LAST-MODIFIED:20210824T145003Z
UID:3239-1637402400-1637409600@www.centrumkyrkan.se
SUMMARY:Sopplunch
DESCRIPTION:Sopplunch varje lördag kl 10-12 \nEn värmande skål med soppa för den som behöver det. \nVälkommen!
URL:https://www.centrumkyrkan.se/kalender-namn/sopplunch-22/
LOCATION:Centrumkyrkan i Sundbyberg\, Prästgårdsgatan 13\, Sundbyberg\, 17268
END:VEVENT
BEGIN:VEVENT
DTSTART;TZID=Europe/Stockholm:20211121T110000
DTEND;TZID=Europe/Stockholm:20211121T123000
DTSTAMP:20260424T193120
CREATED:20211118T101707Z
LAST-MODIFIED:20211118T101707Z
UID:3478-1637492400-1637497800@www.centrumkyrkan.se
SUMMARY:Gudstjänst
DESCRIPTION:”Domsöndagen – Kristi återkomst” \nPredikan: Bertil Edin\nMusik: Titti och Jeanette med team
URL:https://www.centrumkyrkan.se/kalender-namn/gudstjanst-13/
LOCATION:Centrumkyrkan i Sundbyberg\, Prästgårdsgatan 13\, Sundbyberg\, 17268
END:VEVENT
BEGIN:VEVENT
DTSTART;TZID=Europe/Stockholm:20211124T183000
DTEND;TZID=Europe/Stockholm:20211124T193000
DTSTAMP:20260424T193120
CREATED:20210824T141832Z
LAST-MODIFIED:20210824T145003Z
UID:3270-1637778600-1637782200@www.centrumkyrkan.se
SUMMARY:Inför Hans ansikte
DESCRIPTION:Bön- och nattvardsgudstjänst
URL:https://www.centrumkyrkan.se/kalender-namn/infor-hans-ansikte-7/
LOCATION:Centrumkyrkan i Sundbyberg\, Prästgårdsgatan 13\, Sundbyberg\, 17268
ATTACH;FMTTYPE=image/jpeg:https://www.centrumkyrkan.se/wp-content/uploads/2021/05/Infor-Hans-ansikte-text-20-002.jpg
END:VEVENT
BEGIN:VEVENT
DTSTART;TZID=Europe/Stockholm:20211127T100000
DTEND;TZID=Europe/Stockholm:20211127T120000
DTSTAMP:20260424T193120
CREATED:20210824T134105Z
LAST-MODIFIED:20210824T145003Z
UID:3241-1638007200-1638014400@www.centrumkyrkan.se
SUMMARY:Sopplunch
DESCRIPTION:Sopplunch varje lördag kl 10-12 \nEn värmande skål med soppa för den som behöver det. \nVälkommen!
URL:https://www.centrumkyrkan.se/kalender-namn/sopplunch-23/
LOCATION:Centrumkyrkan i Sundbyberg\, Prästgårdsgatan 13\, Sundbyberg\, 17268
END:VEVENT
BEGIN:VEVENT
DTSTART;TZID=Europe/Stockholm:20211128T100000
DTEND;TZID=Europe/Stockholm:20211128T113000
DTSTAMP:20260424T193120
CREATED:20211118T102732Z
LAST-MODIFIED:20211118T103007Z
UID:3485-1638093600-1638099000@www.centrumkyrkan.se
SUMMARY:Gudstjänst
DESCRIPTION:1:a advent – ”Ett nådens år” \nPredikan: Malin Aronsson och Erik Valier\nMusik: Adventskören
URL:https://www.centrumkyrkan.se/kalender-namn/gudstjanst-20/
LOCATION:Centrumkyrkan i Sundbyberg\, Prästgårdsgatan 13\, Sundbyberg\, 17268
ORGANIZER;CN="Centrumkyrkan i Sundbyberg":MAILTO:info@centrumkyrkan.se
END:VEVENT
BEGIN:VEVENT
DTSTART;TZID=Europe/Stockholm:20211128T120000
DTEND;TZID=Europe/Stockholm:20211128T133000
DTSTAMP:20260424T193120
CREATED:20210824T144439Z
LAST-MODIFIED:20211118T102100Z
UID:3301-1638100800-1638106200@www.centrumkyrkan.se
SUMMARY:Gudstjänst
DESCRIPTION:1:a advent – ”Ett nådens år”\nPredikan: Bertil Edin\nMusik: Adventskören
URL:https://www.centrumkyrkan.se/kalender-namn/gudstjanst-14/
LOCATION:Centrumkyrkan i Sundbyberg\, Prästgårdsgatan 13\, Sundbyberg\, 17268
CATEGORIES:Gudstjänst
END:VEVENT
END:VCALENDAR