BEGIN:VCALENDAR
VERSION:2.0
PRODID:-//Centrumkyrkan i Sundbyberg - ECPv6.15.20//NONSGML v1.0//EN
CALSCALE:GREGORIAN
METHOD:PUBLISH
X-ORIGINAL-URL:https://www.centrumkyrkan.se
X-WR-CALDESC:Händelser för Centrumkyrkan i Sundbyberg
REFRESH-INTERVAL;VALUE=DURATION:PT1H
X-Robots-Tag:noindex
X-PUBLISHED-TTL:PT1H
BEGIN:VTIMEZONE
TZID:Europe/Stockholm
BEGIN:DAYLIGHT
TZOFFSETFROM:+0100
TZOFFSETTO:+0200
TZNAME:CEST
DTSTART:20240331T010000
END:DAYLIGHT
BEGIN:STANDARD
TZOFFSETFROM:+0200
TZOFFSETTO:+0100
TZNAME:CET
DTSTART:20241027T010000
END:STANDARD
BEGIN:DAYLIGHT
TZOFFSETFROM:+0100
TZOFFSETTO:+0200
TZNAME:CEST
DTSTART:20250330T010000
END:DAYLIGHT
BEGIN:STANDARD
TZOFFSETFROM:+0200
TZOFFSETTO:+0100
TZNAME:CET
DTSTART:20251026T010000
END:STANDARD
BEGIN:DAYLIGHT
TZOFFSETFROM:+0100
TZOFFSETTO:+0200
TZNAME:CEST
DTSTART:20260329T010000
END:DAYLIGHT
BEGIN:STANDARD
TZOFFSETFROM:+0200
TZOFFSETTO:+0100
TZNAME:CET
DTSTART:20261025T010000
END:STANDARD
BEGIN:DAYLIGHT
TZOFFSETFROM:+0100
TZOFFSETTO:+0200
TZNAME:CEST
DTSTART:20270328T010000
END:DAYLIGHT
BEGIN:STANDARD
TZOFFSETFROM:+0200
TZOFFSETTO:+0100
TZNAME:CET
DTSTART:20271031T010000
END:STANDARD
END:VTIMEZONE
BEGIN:VEVENT
DTSTART;TZID=Europe/Stockholm:20260131T143000
DTEND;TZID=Europe/Stockholm:20260131T160000
DTSTAMP:20260423T033932
CREATED:20251230T115200Z
LAST-MODIFIED:20251230T115200Z
UID:7807-1769869800-1769875200@www.centrumkyrkan.se
SUMMARY:Församlingsbön
DESCRIPTION:
URL:https://www.centrumkyrkan.se/kalender-namn/forsamlingsbon-85/
END:VEVENT
BEGIN:VEVENT
DTSTART;TZID=Europe/Stockholm:20260131T100000
DTEND;TZID=Europe/Stockholm:20260131T120000
DTSTAMP:20260423T033932
CREATED:20251230T115123Z
LAST-MODIFIED:20251230T115123Z
UID:7805-1769853600-1769860800@www.centrumkyrkan.se
SUMMARY:Sopplunch
DESCRIPTION:
URL:https://www.centrumkyrkan.se/kalender-namn/sopplunch-195/
CATEGORIES:Sopplunch
END:VEVENT
BEGIN:VEVENT
DTSTART;TZID=Europe/Stockholm:20260130T190000
DTEND;TZID=Europe/Stockholm:20260130T230000
DTSTAMP:20260423T033932
CREATED:20251230T115059Z
LAST-MODIFIED:20251230T115059Z
UID:7803-1769799600-1769814000@www.centrumkyrkan.se
SUMMARY:Ungdomskväll!
DESCRIPTION:Start kl. 19:00. Se @ung.i.ck för mer info!
URL:https://www.centrumkyrkan.se/kalender-namn/ungdomskvall-4/
END:VEVENT
BEGIN:VEVENT
DTSTART;TZID=Europe/Stockholm:20260128T173000
DTEND;TZID=Europe/Stockholm:20260128T200000
DTSTAMP:20260423T033932
CREATED:20251230T115004Z
LAST-MODIFIED:20251230T115004Z
UID:7801-1769621400-1769630400@www.centrumkyrkan.se
SUMMARY:CK-onsdag
DESCRIPTION:Start kl. 17:30 med onsdagsmiddag för 30 kr och upp\, sedan samtalskväll med Olle Carlsson som gäst!
URL:https://www.centrumkyrkan.se/kalender-namn/ck-onsdag/
CATEGORIES:CK-onsdag
END:VEVENT
BEGIN:VEVENT
DTSTART;TZID=Europe/Stockholm:20260128T170000
DTEND;TZID=Europe/Stockholm:20260128T183000
DTSTAMP:20260423T033932
CREATED:20251230T114855Z
LAST-MODIFIED:20251230T114855Z
UID:7799-1769619600-1769625000@www.centrumkyrkan.se
SUMMARY:Bibelstudie ungdom
DESCRIPTION:Bibelstudie för ungdomar. Se @ung.i.ck på instagram för mer info!
URL:https://www.centrumkyrkan.se/kalender-namn/bibelstudie-ungdom-15/
CATEGORIES:Bibelstudie ungdom
END:VEVENT
BEGIN:VEVENT
DTSTART;TZID=Europe/Stockholm:20260125T110000
DTEND;TZID=Europe/Stockholm:20260125T123000
DTSTAMP:20260423T033932
CREATED:20251230T114758Z
LAST-MODIFIED:20251230T114759Z
UID:7797-1769338800-1769344200@www.centrumkyrkan.se
SUMMARY:Gudstjänst
DESCRIPTION:Predikan: Anton Ahlmark.
URL:https://www.centrumkyrkan.se/kalender-namn/gudstjanst-204/
CATEGORIES:Gudstjänst
END:VEVENT
BEGIN:VEVENT
DTSTART;TZID=Europe/Stockholm:20260124T143000
DTEND;TZID=Europe/Stockholm:20260124T160000
DTSTAMP:20260423T033932
CREATED:20251230T114659Z
LAST-MODIFIED:20251230T114659Z
UID:7795-1769265000-1769270400@www.centrumkyrkan.se
SUMMARY:Församlingsbön
DESCRIPTION:
URL:https://www.centrumkyrkan.se/kalender-namn/forsamlingsbon-84/
END:VEVENT
BEGIN:VEVENT
DTSTART;TZID=Europe/Stockholm:20260124T100000
DTEND;TZID=Europe/Stockholm:20260124T120000
DTSTAMP:20260423T033932
CREATED:20251230T114625Z
LAST-MODIFIED:20251230T114625Z
UID:7793-1769248800-1769256000@www.centrumkyrkan.se
SUMMARY:Sopplunch
DESCRIPTION:
URL:https://www.centrumkyrkan.se/kalender-namn/sopplunch-194/
CATEGORIES:Sopplunch
END:VEVENT
BEGIN:VEVENT
DTSTART;TZID=Europe/Stockholm:20260121T173000
DTEND;TZID=Europe/Stockholm:20260121T200000
DTSTAMP:20260423T033932
CREATED:20251230T114550Z
LAST-MODIFIED:20251230T114550Z
UID:7791-1769016600-1769025600@www.centrumkyrkan.se
SUMMARY:Start CK-onsdag!
DESCRIPTION:Varmt välkomna på starten av CK-onsdag! VI samlas kl. 17:30 och äter middag tillsammans för ett pris på 30kr och upp! Sedan fortsätter vi med ekumenisk mässa tillsammans med andra kyrkor i Sundbyberg\,
URL:https://www.centrumkyrkan.se/kalender-namn/start-ck-onsdag/
CATEGORIES:CK-onsdag
END:VEVENT
BEGIN:VEVENT
DTSTART;TZID=Europe/Stockholm:20260121T170000
DTEND;TZID=Europe/Stockholm:20260121T183000
DTSTAMP:20260423T033932
CREATED:20251230T114354Z
LAST-MODIFIED:20251230T114354Z
UID:7789-1769014800-1769020200@www.centrumkyrkan.se
SUMMARY:Bibelstudie ungdom
DESCRIPTION:Bibelstudie för ungdomar. Start kl. 17:00.
URL:https://www.centrumkyrkan.se/kalender-namn/bibelstudie-ungdom-9/
CATEGORIES:Bibelstudie ungdom
END:VEVENT
BEGIN:VEVENT
DTSTART;TZID=Europe/Stockholm:20260118T110000
DTEND;TZID=Europe/Stockholm:20260118T123000
DTSTAMP:20260423T033932
CREATED:20251230T114158Z
LAST-MODIFIED:20251230T114158Z
UID:7787-1768734000-1768739400@www.centrumkyrkan.se
SUMMARY:Gudstjänst
DESCRIPTION:Uppstartsgudstjänst! Predikan: Anton Ahlmark. Vi firar nattvard.
URL:https://www.centrumkyrkan.se/kalender-namn/gudstjanst-203/
CATEGORIES:Gudstjänst
END:VEVENT
BEGIN:VEVENT
DTSTART;TZID=Europe/Stockholm:20260117T143000
DTEND;TZID=Europe/Stockholm:20260117T160000
DTSTAMP:20260423T033932
CREATED:20251230T114048Z
LAST-MODIFIED:20251230T114048Z
UID:7785-1768660200-1768665600@www.centrumkyrkan.se
SUMMARY:Församlingsbön
DESCRIPTION:
URL:https://www.centrumkyrkan.se/kalender-namn/forsamlingsbon-83/
END:VEVENT
BEGIN:VEVENT
DTSTART;TZID=Europe/Stockholm:20260117T100000
DTEND;TZID=Europe/Stockholm:20260117T120000
DTSTAMP:20260423T033932
CREATED:20251230T114008Z
LAST-MODIFIED:20251230T114008Z
UID:7783-1768644000-1768651200@www.centrumkyrkan.se
SUMMARY:Sopplunch
DESCRIPTION:
URL:https://www.centrumkyrkan.se/kalender-namn/sopplunch-193/
CATEGORIES:Sopplunch
END:VEVENT
BEGIN:VEVENT
DTSTART;TZID=Europe/Stockholm:20260111T110000
DTEND;TZID=Europe/Stockholm:20260111T123000
DTSTAMP:20260423T033932
CREATED:20251230T113841Z
LAST-MODIFIED:20251230T113841Z
UID:7780-1768129200-1768134600@www.centrumkyrkan.se
SUMMARY:Gudstjänst
DESCRIPTION:Predikan: Malin Aronsson.
URL:https://www.centrumkyrkan.se/kalender-namn/gudstjanst-202/
CATEGORIES:Gudstjänst
END:VEVENT
BEGIN:VEVENT
DTSTART;TZID=Europe/Stockholm:20260110T143000
DTEND;TZID=Europe/Stockholm:20260110T160000
DTSTAMP:20260423T033932
CREATED:20251230T113708Z
LAST-MODIFIED:20251230T113708Z
UID:7776-1768055400-1768060800@www.centrumkyrkan.se
SUMMARY:Församlingsbön
DESCRIPTION:
URL:https://www.centrumkyrkan.se/kalender-namn/forsamlingsbon-81/
END:VEVENT
BEGIN:VEVENT
DTSTART;TZID=Europe/Stockholm:20260110T100000
DTEND;TZID=Europe/Stockholm:20260110T120000
DTSTAMP:20260423T033932
CREATED:20251230T113745Z
LAST-MODIFIED:20251230T113745Z
UID:7778-1768039200-1768046400@www.centrumkyrkan.se
SUMMARY:Sopplunch
DESCRIPTION:
URL:https://www.centrumkyrkan.se/kalender-namn/sopplunch-192/
CATEGORIES:Sopplunch
END:VEVENT
BEGIN:VEVENT
DTSTART;TZID=Europe/Stockholm:20260104T110000
DTEND;TZID=Europe/Stockholm:20260104T123000
DTSTAMP:20260423T033932
CREATED:20251113T165311Z
LAST-MODIFIED:20251230T113922Z
UID:7666-1767524400-1767529800@www.centrumkyrkan.se
SUMMARY:Gudstjänst
DESCRIPTION:Predikan: Anton Ahlmark. Vi firar nattvard.
URL:https://www.centrumkyrkan.se/kalender-namn/gudstjanst-201/
CATEGORIES:Gudstjänst med nattvard
END:VEVENT
BEGIN:VEVENT
DTSTART;TZID=Europe/Stockholm:20260103T100000
DTEND;TZID=Europe/Stockholm:20260103T120000
DTSTAMP:20260423T033932
CREATED:20251113T165100Z
LAST-MODIFIED:20251113T165100Z
UID:7662-1767434400-1767441600@www.centrumkyrkan.se
SUMMARY:Sopplunch
DESCRIPTION:
URL:https://www.centrumkyrkan.se/kalender-namn/sopplunch-190/
CATEGORIES:Sopplunch
END:VEVENT
BEGIN:VEVENT
DTSTART;TZID=Europe/Stockholm:20251228T110000
DTEND;TZID=Europe/Stockholm:20251228T123000
DTSTAMP:20260423T033932
CREATED:20251113T164941Z
LAST-MODIFIED:20251113T164941Z
UID:7660-1766919600-1766925000@www.centrumkyrkan.se
SUMMARY:Gudstjänst
DESCRIPTION:Predikan: Bertil Edin.
URL:https://www.centrumkyrkan.se/kalender-namn/gudstjanst-200/
CATEGORIES:Gudstjänst
END:VEVENT
BEGIN:VEVENT
DTSTART;TZID=Europe/Stockholm:20251227T143000
DTEND;TZID=Europe/Stockholm:20251227T160000
DTSTAMP:20260423T033932
CREATED:20251113T165509Z
LAST-MODIFIED:20251113T165509Z
UID:7670-1766845800-1766851200@www.centrumkyrkan.se
SUMMARY:Församlingsbön
DESCRIPTION:
URL:https://www.centrumkyrkan.se/kalender-namn/forsamlingsbon-82/
END:VEVENT
BEGIN:VEVENT
DTSTART;TZID=Europe/Stockholm:20251227T100000
DTEND;TZID=Europe/Stockholm:20251227T120000
DTSTAMP:20260423T033932
CREATED:20251113T165413Z
LAST-MODIFIED:20251113T165414Z
UID:7668-1766829600-1766836800@www.centrumkyrkan.se
SUMMARY:Sopplunch
DESCRIPTION:
URL:https://www.centrumkyrkan.se/kalender-namn/sopplunch-191/
CATEGORIES:Sopplunch
END:VEVENT
BEGIN:VEVENT
DTSTART;TZID=Europe/Stockholm:20251225T100000
DTEND;TZID=Europe/Stockholm:20251225T130000
DTSTAMP:20260423T033932
CREATED:20251113T164120Z
LAST-MODIFIED:20251113T164120Z
UID:7656-1766656800-1766667600@www.centrumkyrkan.se
SUMMARY:Gemenskapsjul
DESCRIPTION:Jullunch i Centrumkyrkan. Mer information kommer!
URL:https://www.centrumkyrkan.se/kalender-namn/gemenskapsjul-4/
END:VEVENT
BEGIN:VEVENT
DTSTART;TZID=Europe/Stockholm:20251225T070000
DTEND;TZID=Europe/Stockholm:20251225T083000
DTSTAMP:20260423T033932
CREATED:20251113T164821Z
LAST-MODIFIED:20251113T164821Z
UID:7658-1766646000-1766651400@www.centrumkyrkan.se
SUMMARY:Julotta
DESCRIPTION:Predikan: Malin Aronsson.
URL:https://www.centrumkyrkan.se/kalender-namn/julotta-5/
END:VEVENT
BEGIN:VEVENT
DTSTART;TZID=Europe/Stockholm:20251224T110000
DTEND;TZID=Europe/Stockholm:20251224T140000
DTSTAMP:20260423T033932
CREATED:20251113T164037Z
LAST-MODIFIED:20251113T164037Z
UID:7654-1766574000-1766584800@www.centrumkyrkan.se
SUMMARY:Gemenskapsjul
DESCRIPTION:Jullunch i Centrumkyrkan. Mer information kommer!
URL:https://www.centrumkyrkan.se/kalender-namn/gemenskapsjul-3/
END:VEVENT
BEGIN:VEVENT
DTSTART;TZID=Europe/Stockholm:20251221T110000
DTEND;TZID=Europe/Stockholm:20251221T123000
DTSTAMP:20260423T033932
CREATED:20251113T163904Z
LAST-MODIFIED:20251215T124759Z
UID:7652-1766314800-1766320200@www.centrumkyrkan.se
SUMMARY:Gudstjänst
DESCRIPTION:Predikan: Anton Ahlmark. Nattvard.
URL:https://www.centrumkyrkan.se/kalender-namn/gudstjanst-199/
CATEGORIES:Gudstjänst med nattvard
END:VEVENT
BEGIN:VEVENT
DTSTART;TZID=Europe/Stockholm:20251220T143000
DTEND;TZID=Europe/Stockholm:20251220T160000
DTSTAMP:20260423T033932
CREATED:20251113T163755Z
LAST-MODIFIED:20251113T163755Z
UID:7650-1766241000-1766246400@www.centrumkyrkan.se
SUMMARY:Församlingsbön
DESCRIPTION:
URL:https://www.centrumkyrkan.se/kalender-namn/forsamlingsbon-80/
END:VEVENT
BEGIN:VEVENT
DTSTART;TZID=Europe/Stockholm:20251220T100000
DTEND;TZID=Europe/Stockholm:20251220T120000
DTSTAMP:20260423T033932
CREATED:20251113T163727Z
LAST-MODIFIED:20251113T163727Z
UID:7648-1766224800-1766232000@www.centrumkyrkan.se
SUMMARY:Sopplunch
DESCRIPTION:
URL:https://www.centrumkyrkan.se/kalender-namn/sopplunch-189/
CATEGORIES:Sopplunch
END:VEVENT
BEGIN:VEVENT
DTSTART;TZID=Europe/Stockholm:20251216T170000
DTEND;TZID=Europe/Stockholm:20251216T183000
DTSTAMP:20260423T033932
CREATED:20250905T084031Z
LAST-MODIFIED:20250905T084031Z
UID:7444-1765904400-1765909800@www.centrumkyrkan.se
SUMMARY:Bibelstudie ungdom
DESCRIPTION:se @ung.i.ck på instagram för mer info!
URL:https://www.centrumkyrkan.se/kalender-namn/bibelstudie-ungdom-14/
CATEGORIES:Bibelstudie ungdom
END:VEVENT
BEGIN:VEVENT
DTSTART;TZID=Europe/Stockholm:20251214T110000
DTEND;TZID=Europe/Stockholm:20251214T123000
DTSTAMP:20260423T033932
CREATED:20251113T163638Z
LAST-MODIFIED:20251113T163638Z
UID:7646-1765710000-1765715400@www.centrumkyrkan.se
SUMMARY:Gudstjänst
DESCRIPTION:Predikan: Anton Ahlmark. Våffelsöndag.
URL:https://www.centrumkyrkan.se/kalender-namn/gudstjanst-198/
CATEGORIES:Gudstjänst
END:VEVENT
BEGIN:VEVENT
DTSTART;TZID=Europe/Stockholm:20251213T143000
DTEND;TZID=Europe/Stockholm:20251213T160000
DTSTAMP:20260423T033932
CREATED:20251113T163500Z
LAST-MODIFIED:20251113T163500Z
UID:7644-1765636200-1765641600@www.centrumkyrkan.se
SUMMARY:Församlingsbön
DESCRIPTION:
URL:https://www.centrumkyrkan.se/kalender-namn/forsamlingsbon-79/
END:VEVENT
END:VCALENDAR