BEGIN:VCALENDAR
VERSION:2.0
PRODID:-//Centrumkyrkan i Sundbyberg - ECPv6.15.20//NONSGML v1.0//EN
CALSCALE:GREGORIAN
METHOD:PUBLISH
X-ORIGINAL-URL:https://www.centrumkyrkan.se
X-WR-CALDESC:Händelser för Centrumkyrkan i Sundbyberg
REFRESH-INTERVAL;VALUE=DURATION:PT1H
X-Robots-Tag:noindex
X-PUBLISHED-TTL:PT1H
BEGIN:VTIMEZONE
TZID:Europe/Stockholm
BEGIN:DAYLIGHT
TZOFFSETFROM:+0100
TZOFFSETTO:+0200
TZNAME:CEST
DTSTART:20240331T010000
END:DAYLIGHT
BEGIN:STANDARD
TZOFFSETFROM:+0200
TZOFFSETTO:+0100
TZNAME:CET
DTSTART:20241027T010000
END:STANDARD
BEGIN:DAYLIGHT
TZOFFSETFROM:+0100
TZOFFSETTO:+0200
TZNAME:CEST
DTSTART:20250330T010000
END:DAYLIGHT
BEGIN:STANDARD
TZOFFSETFROM:+0200
TZOFFSETTO:+0100
TZNAME:CET
DTSTART:20251026T010000
END:STANDARD
BEGIN:DAYLIGHT
TZOFFSETFROM:+0100
TZOFFSETTO:+0200
TZNAME:CEST
DTSTART:20260329T010000
END:DAYLIGHT
BEGIN:STANDARD
TZOFFSETFROM:+0200
TZOFFSETTO:+0100
TZNAME:CET
DTSTART:20261025T010000
END:STANDARD
END:VTIMEZONE
BEGIN:VEVENT
DTSTART;TZID=Europe/Stockholm:20250614T100000
DTEND;TZID=Europe/Stockholm:20250614T120000
DTSTAMP:20260426T032848
CREATED:20250425T092747Z
LAST-MODIFIED:20250508T112925Z
UID:7138-1749895200-1749902400@www.centrumkyrkan.se
SUMMARY:Sopplunch
DESCRIPTION:Kl. 10.00 – 12.00.\nSista för terminen.
URL:https://www.centrumkyrkan.se/kalender-namn/sopplunch-171/
END:VEVENT
BEGIN:VEVENT
DTSTART;TZID=Europe/Stockholm:20250608T110000
DTEND;TZID=Europe/Stockholm:20250608T123000
DTSTAMP:20260426T032848
CREATED:20250425T093402Z
LAST-MODIFIED:20250530T083312Z
UID:7146-1749380400-1749385800@www.centrumkyrkan.se
SUMMARY:Ekumenisk gudstjänst i Svenska kyrkan
DESCRIPTION:11.00. Pingstdagen.\nEkumenisk gudstjänst i Svenska kyrkan\, Sundbyberg.\nVi möts där!
URL:https://www.centrumkyrkan.se/kalender-namn/ekumenisk-gudstjanst-2/
END:VEVENT
BEGIN:VEVENT
DTSTART;TZID=Europe/Stockholm:20250607T143000
DTEND;TZID=Europe/Stockholm:20250607T160000
DTSTAMP:20260426T032848
CREATED:20250425T091320Z
LAST-MODIFIED:20250425T113921Z
UID:7133-1749306600-1749312000@www.centrumkyrkan.se
SUMMARY:Församlingsbön
DESCRIPTION:14.30-16.00.
URL:https://www.centrumkyrkan.se/kalender-namn/forsamlingsbon-58/
END:VEVENT
BEGIN:VEVENT
DTSTART;TZID=Europe/Stockholm:20250607T100000
DTEND;TZID=Europe/Stockholm:20250607T120000
DTSTAMP:20260426T032848
CREATED:20250425T091407Z
LAST-MODIFIED:20250425T092652Z
UID:7135-1749290400-1749297600@www.centrumkyrkan.se
SUMMARY:Sopplunch
DESCRIPTION:Kl. 10.00 – 12.00.
URL:https://www.centrumkyrkan.se/kalender-namn/lordagslunch/
END:VEVENT
BEGIN:VEVENT
DTSTART;TZID=Europe/Stockholm:20250601T110000
DTEND;TZID=Europe/Stockholm:20250601T123000
DTSTAMP:20260426T032848
CREATED:20250425T091050Z
LAST-MODIFIED:20250527T131612Z
UID:7131-1748775600-1748781000@www.centrumkyrkan.se
SUMMARY:Gudstjänst
DESCRIPTION:11.00 ”Hjälparen kommer”.\nPredikan: Bertil Edin.\nVi firar nattvard.\nKort fika\, sen promenad till Gröna stugan efter\ngudstjänsten.
URL:https://www.centrumkyrkan.se/kalender-namn/gudstjanst-174/
END:VEVENT
BEGIN:VEVENT
DTSTART;TZID=Europe/Stockholm:20250531T143000
DTEND;TZID=Europe/Stockholm:20250531T160000
DTSTAMP:20260426T032848
CREATED:20250305T132812Z
LAST-MODIFIED:20250305T132812Z
UID:7001-1748701800-1748707200@www.centrumkyrkan.se
SUMMARY:Församlingsbön
DESCRIPTION:14.30 – 16.00.
URL:https://www.centrumkyrkan.se/kalender-namn/forsamlingsbon-57/
END:VEVENT
BEGIN:VEVENT
DTSTART;TZID=Europe/Stockholm:20250531T100000
DTEND;TZID=Europe/Stockholm:20250531T120000
DTSTAMP:20260426T032848
CREATED:20250305T132734Z
LAST-MODIFIED:20250305T132734Z
UID:6999-1748685600-1748692800@www.centrumkyrkan.se
SUMMARY:Sopplunch
DESCRIPTION:10.00 – 12.00.
URL:https://www.centrumkyrkan.se/kalender-namn/sopplunch-170/
END:VEVENT
BEGIN:VEVENT
DTSTART;TZID=Europe/Stockholm:20250529T090000
DTEND;TZID=Europe/Stockholm:20250529T133000
DTSTAMP:20260426T032848
CREATED:20250422T141053Z
LAST-MODIFIED:20250507T135820Z
UID:7110-1748509200-1748525400@www.centrumkyrkan.se
SUMMARY:Kristi Himmelsfärdsdag
DESCRIPTION:Pilgrimsvandring till Gåseborg. Vi träffas kl. 9 vid Riddersviks\nHerrgård. Vacker vandring\, bibelord på vägen.\nMedtag matsäck!
URL:https://www.centrumkyrkan.se/kalender-namn/pilgrimsvandring-3/
END:VEVENT
BEGIN:VEVENT
DTSTART;TZID=Europe/Stockholm:20250525T110000
DTEND;TZID=Europe/Stockholm:20250525T123000
DTSTAMP:20260426T032848
CREATED:20250305T132932Z
LAST-MODIFIED:20250507T153936Z
UID:7003-1748170800-1748176200@www.centrumkyrkan.se
SUMMARY:Gudstjänst
DESCRIPTION:11.00 ”Bönen”.\nPredikan: Malin Aronsson.
URL:https://www.centrumkyrkan.se/kalender-namn/gudstjanst-173/
END:VEVENT
BEGIN:VEVENT
DTSTART;TZID=Europe/Stockholm:20250524T143000
DTEND;TZID=Europe/Stockholm:20250524T160000
DTSTAMP:20260426T032849
CREATED:20250305T132645Z
LAST-MODIFIED:20250305T132645Z
UID:6997-1748097000-1748102400@www.centrumkyrkan.se
SUMMARY:Församlingsbön
DESCRIPTION:14.30 – 16.00.
URL:https://www.centrumkyrkan.se/kalender-namn/forsamlingsbon-56/
END:VEVENT
BEGIN:VEVENT
DTSTART;TZID=Europe/Stockholm:20250524T100000
DTEND;TZID=Europe/Stockholm:20250524T120000
DTSTAMP:20260426T032849
CREATED:20250305T132558Z
LAST-MODIFIED:20250305T132558Z
UID:6995-1748080800-1748088000@www.centrumkyrkan.se
SUMMARY:Sopplunch
DESCRIPTION:10.00 – 12.00.
URL:https://www.centrumkyrkan.se/kalender-namn/sopplunch-169/
END:VEVENT
BEGIN:VEVENT
DTSTART;TZID=Europe/Stockholm:20250523T190000
DTEND;TZID=Europe/Stockholm:20250523T220000
DTSTAMP:20260426T032849
CREATED:20250409T091400Z
LAST-MODIFIED:20250425T090732Z
UID:7070-1748026800-1748037600@www.centrumkyrkan.se
SUMMARY:Ungdomskväll
DESCRIPTION:Kl. 19.00 – 22.00.\nSommaravslutning.
URL:https://www.centrumkyrkan.se/kalender-namn/ungdomskvall-2/
END:VEVENT
BEGIN:VEVENT
DTSTART;TZID=Europe/Stockholm:20250521T103000
DTEND;TZID=Europe/Stockholm:20250521T130000
DTSTAMP:20260426T032849
CREATED:20250422T145625Z
LAST-MODIFIED:20250425T105023Z
UID:7112-1747823400-1747832400@www.centrumkyrkan.se
SUMMARY:Babyfest!
DESCRIPTION:Varmt välkommen till Babyfest kl. 10.30 i Centrumkyrkans\ncafévåning.\nMusik\, sång och lek under ledning av Heidi Rohlin-Westin och\nMalin Aronsson.
URL:https://www.centrumkyrkan.se/kalender-namn/baby-fest/
END:VEVENT
BEGIN:VEVENT
DTSTART;TZID=Europe/Stockholm:20250518T110000
DTEND;TZID=Europe/Stockholm:20250518T123000
DTSTAMP:20260426T032849
CREATED:20250305T132505Z
LAST-MODIFIED:20250425T090321Z
UID:6993-1747566000-1747571400@www.centrumkyrkan.se
SUMMARY:Gudstjänst
DESCRIPTION:11.00. ”Att växa i tro”.\nPredikan: Malin Aronsson.\nVi firar nattvard.\nFörsamlingsmöte efter gudstjänsten.
URL:https://www.centrumkyrkan.se/kalender-namn/gudstjanst-172/
END:VEVENT
BEGIN:VEVENT
DTSTART;TZID=Europe/Stockholm:20250517T160000
DTEND;TZID=Europe/Stockholm:20250517T173000
DTSTAMP:20260426T032849
CREATED:20250423T125904Z
LAST-MODIFIED:20250425T090555Z
UID:7117-1747497600-1747503000@www.centrumkyrkan.se
SUMMARY:Vårkonsert
DESCRIPTION:”Ce fu en Mai”.\nEnsambler från Heidis musikskola. \nGun Magnusson – piano.
URL:https://www.centrumkyrkan.se/kalender-namn/varkonsert-kl-16-00/
END:VEVENT
BEGIN:VEVENT
DTSTART;TZID=Europe/Stockholm:20250517T143000
DTEND;TZID=Europe/Stockholm:20250517T160000
DTSTAMP:20260426T032849
CREATED:20250305T132409Z
LAST-MODIFIED:20250305T132409Z
UID:6991-1747492200-1747497600@www.centrumkyrkan.se
SUMMARY:Församlingsbön
DESCRIPTION:14.40 – 16.00.
URL:https://www.centrumkyrkan.se/kalender-namn/forsamlingsbon-55/
END:VEVENT
BEGIN:VEVENT
DTSTART;TZID=Europe/Stockholm:20250517T100000
DTEND;TZID=Europe/Stockholm:20250517T120000
DTSTAMP:20260426T032849
CREATED:20250305T132330Z
LAST-MODIFIED:20250305T132330Z
UID:6989-1747476000-1747483200@www.centrumkyrkan.se
SUMMARY:Sopplunch
DESCRIPTION:10.00 – 12.00.
URL:https://www.centrumkyrkan.se/kalender-namn/sopplunch-168/
END:VEVENT
BEGIN:VEVENT
DTSTART;TZID=Europe/Stockholm:20250511T110000
DTEND;TZID=Europe/Stockholm:20250511T123000
DTSTAMP:20260426T032849
CREATED:20250305T132055Z
LAST-MODIFIED:20250425T090217Z
UID:6987-1746961200-1746966600@www.centrumkyrkan.se
SUMMARY:Gudstjänst
DESCRIPTION:11.00. ”Vägen till livet”.\nGudstjänst med dopfest. Alla åldrar inleder tillsammans\nmed Malin Aronsson och Molly Stenmark.\nPredikan: Anton Ahlmark.
URL:https://www.centrumkyrkan.se/kalender-namn/gudstjanst-171/
END:VEVENT
BEGIN:VEVENT
DTSTART;TZID=Europe/Stockholm:20250510T143000
DTEND;TZID=Europe/Stockholm:20250510T160000
DTSTAMP:20260426T032849
CREATED:20250305T131923Z
LAST-MODIFIED:20250305T131923Z
UID:6985-1746887400-1746892800@www.centrumkyrkan.se
SUMMARY:Församlingsbön
DESCRIPTION:14.30 – 16.00.
URL:https://www.centrumkyrkan.se/kalender-namn/forsamlingsbon-54/
END:VEVENT
BEGIN:VEVENT
DTSTART;TZID=Europe/Stockholm:20250510T100000
DTEND;TZID=Europe/Stockholm:20250510T120000
DTSTAMP:20260426T032849
CREATED:20250305T131842Z
LAST-MODIFIED:20250305T131842Z
UID:6983-1746871200-1746878400@www.centrumkyrkan.se
SUMMARY:Sopplunch
DESCRIPTION:10.00 – 12.00.
URL:https://www.centrumkyrkan.se/kalender-namn/sopplunch-167/
END:VEVENT
BEGIN:VEVENT
DTSTART;VALUE=DATE:20250509
DTEND;VALUE=DATE:20250512
DTSTAMP:20260426T032849
CREATED:20250206T135623Z
LAST-MODIFIED:20250410T094724Z
UID:6914-1746748800-1747007999@www.centrumkyrkan.se
SUMMARY:Retreat Björkögården
DESCRIPTION:Retreat på Björkögården den 9 – 11maj.\nBertil Edin leder under temat ”Du i mig och jag i dig”.\nKostnad 2350 kr/person.\nAnmälan till info@centrumkyrkan.se \nVarmt välkommen!
URL:https://www.centrumkyrkan.se/kalender-namn/retreat-bjorkogarden-2/
END:VEVENT
BEGIN:VEVENT
DTSTART;TZID=Europe/Stockholm:20250507T183000
DTEND;TZID=Europe/Stockholm:20250507T193000
DTSTAMP:20260426T032849
CREATED:20241126T134933Z
LAST-MODIFIED:20250425T085848Z
UID:6766-1746642600-1746646200@www.centrumkyrkan.se
SUMMARY:Inför Hans ansikte.
DESCRIPTION:18.30 – 19.30 Inför Hans ansikte.\nBönegudstjänst med nattvard.\nSista för terminen.
URL:https://www.centrumkyrkan.se/kalender-namn/infor-hans-ansikte-66/
END:VEVENT
BEGIN:VEVENT
DTSTART;TZID=Europe/Stockholm:20250504T110000
DTEND;TZID=Europe/Stockholm:20250504T123000
DTSTAMP:20260426T032849
CREATED:20250305T131716Z
LAST-MODIFIED:20250425T085506Z
UID:6981-1746356400-1746361800@www.centrumkyrkan.se
SUMMARY:Gudstjänst
DESCRIPTION:11.00. ”Den gode herden”.\nPredikan: Molly Stenmark.\nVi firar nattvard.
URL:https://www.centrumkyrkan.se/kalender-namn/gudstjanst-165/
END:VEVENT
BEGIN:VEVENT
DTSTART;TZID=Europe/Stockholm:20250503T143000
DTEND;TZID=Europe/Stockholm:20250503T160000
DTSTAMP:20260426T032849
CREATED:20250305T131144Z
LAST-MODIFIED:20250305T131144Z
UID:6977-1746282600-1746288000@www.centrumkyrkan.se
SUMMARY:Församlingsbön
DESCRIPTION:14.30 – 16.00.
URL:https://www.centrumkyrkan.se/kalender-namn/forsamlingsbon-53/
END:VEVENT
BEGIN:VEVENT
DTSTART;TZID=Europe/Stockholm:20250503T100000
DTEND;TZID=Europe/Stockholm:20250503T120000
DTSTAMP:20260426T032849
CREATED:20250117T113257Z
LAST-MODIFIED:20250117T113257Z
UID:6868-1746266400-1746273600@www.centrumkyrkan.se
SUMMARY:Sopplunch
DESCRIPTION:10.00-12.00.
URL:https://www.centrumkyrkan.se/kalender-namn/sopplunch-166/
END:VEVENT
BEGIN:VEVENT
DTSTART;TZID=Europe/Stockholm:20250429T183000
DTEND;TZID=Europe/Stockholm:20250429T203000
DTSTAMP:20260426T032849
CREATED:20250408T123702Z
LAST-MODIFIED:20250409T132455Z
UID:7063-1745951400-1745958600@www.centrumkyrkan.se
SUMMARY:Samtalskväll
DESCRIPTION:18.30 Tema – ”Å jag då\, nu då”?\nSamtalskväll för oss vuxna. Om att hitta mål\, mening\, tro och lycka\nnär vi går in i livets andra halva.\nGoda mackor och bra prat.
URL:https://www.centrumkyrkan.se/kalender-namn/samtalskvall-7/
END:VEVENT
BEGIN:VEVENT
DTSTART;TZID=Europe/Stockholm:20250427T193000
DTEND;TZID=Europe/Stockholm:20250427T210000
DTSTAMP:20260426T032849
CREATED:20250305T131327Z
LAST-MODIFIED:20250305T131327Z
UID:6979-1745782200-1745787600@www.centrumkyrkan.se
SUMMARY:Alpha youth
DESCRIPTION:19.30 – 21.00.
URL:https://www.centrumkyrkan.se/kalender-namn/alpha-youth-7/
END:VEVENT
BEGIN:VEVENT
DTSTART;TZID=Europe/Stockholm:20250427T110000
DTEND;TZID=Europe/Stockholm:20250427T123000
DTSTAMP:20260426T032849
CREATED:20250128T115237Z
LAST-MODIFIED:20250425T085147Z
UID:6878-1745751600-1745757000@www.centrumkyrkan.se
SUMMARY:Gudstjänst
DESCRIPTION:11.00. ”Påskens vittnen”.\nPredikan: Robin Ahlström.\nDopförrättning.\nVåffelsöndag för ungdomarna.\nPromenad till Gröna stugan efter gudstjänsten.
URL:https://www.centrumkyrkan.se/kalender-namn/gudstjanst-170/
END:VEVENT
BEGIN:VEVENT
DTSTART;TZID=Europe/Stockholm:20250426T143000
DTEND;TZID=Europe/Stockholm:20250426T160000
DTSTAMP:20260426T032849
CREATED:20250305T102147Z
LAST-MODIFIED:20250305T102710Z
UID:6951-1745677800-1745683200@www.centrumkyrkan.se
SUMMARY:Församlingsbön
DESCRIPTION:14.30-16.00.
URL:https://www.centrumkyrkan.se/kalender-namn/forsamlingsbon-52/
END:VEVENT
BEGIN:VEVENT
DTSTART;TZID=Europe/Stockholm:20250426T100000
DTEND;TZID=Europe/Stockholm:20250426T120000
DTSTAMP:20260426T032849
CREATED:20250117T113217Z
LAST-MODIFIED:20250117T113217Z
UID:6866-1745661600-1745668800@www.centrumkyrkan.se
SUMMARY:Sopplunch
DESCRIPTION:10.00-12.00.
URL:https://www.centrumkyrkan.se/kalender-namn/sopplunch-165/
END:VEVENT
END:VCALENDAR