BEGIN:VCALENDAR
VERSION:2.0
PRODID:-//Centrumkyrkan i Sundbyberg - ECPv6.15.20//NONSGML v1.0//EN
CALSCALE:GREGORIAN
METHOD:PUBLISH
X-WR-CALNAME:Centrumkyrkan i Sundbyberg
X-ORIGINAL-URL:https://www.centrumkyrkan.se
X-WR-CALDESC:Händelser för Centrumkyrkan i Sundbyberg
REFRESH-INTERVAL;VALUE=DURATION:PT1H
X-Robots-Tag:noindex
X-PUBLISHED-TTL:PT1H
BEGIN:VTIMEZONE
TZID:Europe/Stockholm
BEGIN:DAYLIGHT
TZOFFSETFROM:+0100
TZOFFSETTO:+0200
TZNAME:CEST
DTSTART:20250330T010000
END:DAYLIGHT
BEGIN:STANDARD
TZOFFSETFROM:+0200
TZOFFSETTO:+0100
TZNAME:CET
DTSTART:20251026T010000
END:STANDARD
BEGIN:DAYLIGHT
TZOFFSETFROM:+0100
TZOFFSETTO:+0200
TZNAME:CEST
DTSTART:20260329T010000
END:DAYLIGHT
BEGIN:STANDARD
TZOFFSETFROM:+0200
TZOFFSETTO:+0100
TZNAME:CET
DTSTART:20261025T010000
END:STANDARD
BEGIN:DAYLIGHT
TZOFFSETFROM:+0100
TZOFFSETTO:+0200
TZNAME:CEST
DTSTART:20270328T010000
END:DAYLIGHT
BEGIN:STANDARD
TZOFFSETFROM:+0200
TZOFFSETTO:+0100
TZNAME:CET
DTSTART:20271031T010000
END:STANDARD
END:VTIMEZONE
BEGIN:VEVENT
DTSTART;TZID=Europe/Stockholm:20260503T110000
DTEND;TZID=Europe/Stockholm:20260503T123000
DTSTAMP:20260422T193541
CREATED:20260422T140916Z
LAST-MODIFIED:20260422T140917Z
UID:8081-1777806000-1777811400@www.centrumkyrkan.se
SUMMARY:Gudstjänst
DESCRIPTION:Predikan: Malin Aronsson.
URL:https://www.centrumkyrkan.se/kalender-namn/gudstjanst-217/
CATEGORIES:Gudstjänst
END:VEVENT
BEGIN:VEVENT
DTSTART;TZID=Europe/Stockholm:20260506T170000
DTEND;TZID=Europe/Stockholm:20260506T180000
DTSTAMP:20260422T193541
CREATED:20260422T141545Z
LAST-MODIFIED:20260422T141545Z
UID:8089-1778086800-1778090400@www.centrumkyrkan.se
SUMMARY:Bibelstudie ungdom
DESCRIPTION:Bibelstudie för ungdomar. Se @ung.i.ck för mer info!
URL:https://www.centrumkyrkan.se/kalender-namn/bibelstudie-ungdom-25/
CATEGORIES:Bibelstudie ungdom
END:VEVENT
BEGIN:VEVENT
DTSTART;TZID=Europe/Stockholm:20260508T190000
DTEND;TZID=Europe/Stockholm:20260508T230000
DTSTAMP:20260422T193541
CREATED:20260422T141210Z
LAST-MODIFIED:20260422T141210Z
UID:8083-1778266800-1778281200@www.centrumkyrkan.se
SUMMARY:Ungdomskväll
DESCRIPTION:Ungdomskväll i Centrumkyrkan! Start kl. 19:00. Se @ung.i.ck på instagram för mer information.
URL:https://www.centrumkyrkan.se/kalender-namn/ungdomskvall-8/
END:VEVENT
BEGIN:VEVENT
DTSTART;TZID=Europe/Stockholm:20260509T100000
DTEND;TZID=Europe/Stockholm:20260509T120000
DTSTAMP:20260422T193541
CREATED:20260422T142251Z
LAST-MODIFIED:20260422T142251Z
UID:8099-1778320800-1778328000@www.centrumkyrkan.se
SUMMARY:Sopplunch
DESCRIPTION:
URL:https://www.centrumkyrkan.se/kalender-namn/sopplunch-209/
CATEGORIES:Sopplunch
END:VEVENT
BEGIN:VEVENT
DTSTART;TZID=Europe/Stockholm:20260509T143000
DTEND;TZID=Europe/Stockholm:20260509T160000
DTSTAMP:20260422T193541
CREATED:20260422T142329Z
LAST-MODIFIED:20260422T142329Z
UID:8101-1778337000-1778342400@www.centrumkyrkan.se
SUMMARY:Församlingsbön
DESCRIPTION:
URL:https://www.centrumkyrkan.se/kalender-namn/forsamlingsbon-99/
END:VEVENT
BEGIN:VEVENT
DTSTART;TZID=Europe/Stockholm:20260510T110000
DTEND;TZID=Europe/Stockholm:20260510T123000
DTSTAMP:20260422T193541
CREATED:20260422T142506Z
LAST-MODIFIED:20260422T142507Z
UID:8103-1778410800-1778416200@www.centrumkyrkan.se
SUMMARY:Gudstjänst
DESCRIPTION:Predikan: Anton Ahlmark. Vi firar nattvard tillsammans. Samtalsforum efter gudstjänsten.
URL:https://www.centrumkyrkan.se/kalender-namn/gudstjanst-218/
CATEGORIES:Gudstjänst med nattvard
END:VEVENT
BEGIN:VEVENT
DTSTART;TZID=Europe/Stockholm:20260510T130000
DTEND;TZID=Europe/Stockholm:20260510T140000
DTSTAMP:20260422T193541
CREATED:20260421T120716Z
LAST-MODIFIED:20260421T120716Z
UID:8065-1778418000-1778421600@www.centrumkyrkan.se
SUMMARY:Samtalsforum
DESCRIPTION:Samtalsforum efter gudstjänsten.
URL:https://www.centrumkyrkan.se/kalender-namn/samtalsforum/
END:VEVENT
BEGIN:VEVENT
DTSTART;TZID=Europe/Stockholm:20260513T170000
DTEND;TZID=Europe/Stockholm:20260513T180000
DTSTAMP:20260422T193541
CREATED:20260422T141643Z
LAST-MODIFIED:20260422T141643Z
UID:8091-1778691600-1778695200@www.centrumkyrkan.se
SUMMARY:Bibelstudie ungdom
DESCRIPTION:Bibelstudie för ungdomar. Se @ung.i.ck för mer info!
URL:https://www.centrumkyrkan.se/kalender-namn/bibelstudie-ungdom-26/
CATEGORIES:Bibelstudie ungdom
END:VEVENT
BEGIN:VEVENT
DTSTART;TZID=Europe/Stockholm:20260516T100000
DTEND;TZID=Europe/Stockholm:20260516T120000
DTSTAMP:20260422T193541
CREATED:20260422T143252Z
LAST-MODIFIED:20260422T143253Z
UID:8105-1778925600-1778932800@www.centrumkyrkan.se
SUMMARY:Sopplunch
DESCRIPTION:
URL:https://www.centrumkyrkan.se/kalender-namn/sopplunch-210/
CATEGORIES:Sopplunch
END:VEVENT
BEGIN:VEVENT
DTSTART;TZID=Europe/Stockholm:20260516T143000
DTEND;TZID=Europe/Stockholm:20260516T160000
DTSTAMP:20260422T193541
CREATED:20260422T143328Z
LAST-MODIFIED:20260422T143328Z
UID:8107-1778941800-1778947200@www.centrumkyrkan.se
SUMMARY:Församlingsbön
DESCRIPTION:
URL:https://www.centrumkyrkan.se/kalender-namn/forsamlingsbon-100/
END:VEVENT
BEGIN:VEVENT
DTSTART;TZID=Europe/Stockholm:20260517T110000
DTEND;TZID=Europe/Stockholm:20260517T123000
DTSTAMP:20260422T193541
CREATED:20260422T143437Z
LAST-MODIFIED:20260422T143437Z
UID:8109-1779015600-1779021000@www.centrumkyrkan.se
SUMMARY:Gudstjänst
DESCRIPTION:Predikan: Anton Ahlmark.
URL:https://www.centrumkyrkan.se/kalender-namn/gudstjanst-219/
END:VEVENT
BEGIN:VEVENT
DTSTART;TZID=Europe/Stockholm:20260520T170000
DTEND;TZID=Europe/Stockholm:20260520T180000
DTSTAMP:20260422T193541
CREATED:20260422T141741Z
LAST-MODIFIED:20260422T141741Z
UID:8093-1779296400-1779300000@www.centrumkyrkan.se
SUMMARY:Bibelstudie ungdom
DESCRIPTION:Bibelstudie för ungdomar. Se @ung.i.ck för mer info!
URL:https://www.centrumkyrkan.se/kalender-namn/bibelstudie-ungdom-27/
CATEGORIES:Bibelstudie ungdom
END:VEVENT
BEGIN:VEVENT
DTSTART;TZID=Europe/Stockholm:20260523T090000
DTEND;TZID=Europe/Stockholm:20260524T220000
DTSTAMP:20260422T193541
CREATED:20260422T145030Z
LAST-MODIFIED:20260422T145030Z
UID:8119-1779526800-1779660000@www.centrumkyrkan.se
SUMMARY:Pingst26 konferens
DESCRIPTION:En alkristen konferens med kyrkor runtom i Stockholm. Konferensen sker helgen 23-24 maj i Citykyrkan\, St:a Clara kyrka och Filadelfiakyrkan. Se pingst26.se för mer information!
URL:https://www.centrumkyrkan.se/kalender-namn/pingst26-konferens/
END:VEVENT
BEGIN:VEVENT
DTSTART;TZID=Europe/Stockholm:20260523T100000
DTEND;TZID=Europe/Stockholm:20260523T120000
DTSTAMP:20260422T193541
CREATED:20260422T143559Z
LAST-MODIFIED:20260422T143559Z
UID:8111-1779530400-1779537600@www.centrumkyrkan.se
SUMMARY:Sopplunch
DESCRIPTION:
URL:https://www.centrumkyrkan.se/kalender-namn/sopplunch-211/
CATEGORIES:Sopplunch
END:VEVENT
BEGIN:VEVENT
DTSTART;TZID=Europe/Stockholm:20260523T143000
DTEND;TZID=Europe/Stockholm:20260523T160000
DTSTAMP:20260422T193541
CREATED:20260422T143649Z
LAST-MODIFIED:20260422T143649Z
UID:8113-1779546600-1779552000@www.centrumkyrkan.se
SUMMARY:Församlingsbön
DESCRIPTION:
URL:https://www.centrumkyrkan.se/kalender-namn/forsamlingsbon-101/
END:VEVENT
BEGIN:VEVENT
DTSTART;TZID=Europe/Stockholm:20260524T110000
DTEND;TZID=Europe/Stockholm:20260524T123000
DTSTAMP:20260422T193541
CREATED:20260422T143752Z
LAST-MODIFIED:20260422T143752Z
UID:8115-1779620400-1779625800@www.centrumkyrkan.se
SUMMARY:Gudstjänst
DESCRIPTION:Predikan: Malin Aronsson. Vi firar nattvard tillsammans.
URL:https://www.centrumkyrkan.se/kalender-namn/gudstjanst-220/
CATEGORIES:Gudstjänst med nattvard
END:VEVENT
BEGIN:VEVENT
DTSTART;TZID=Europe/Stockholm:20260527T170000
DTEND;TZID=Europe/Stockholm:20260527T180000
DTSTAMP:20260422T193541
CREATED:20260422T141959Z
LAST-MODIFIED:20260422T141959Z
UID:8095-1779901200-1779904800@www.centrumkyrkan.se
SUMMARY:Bibelstudie ungdom
DESCRIPTION:Bibelstudie för ungdomar. Se @ung.i.ck för mer info!
URL:https://www.centrumkyrkan.se/kalender-namn/bibelstudie-ungdom-28/
CATEGORIES:Bibelstudie ungdom
END:VEVENT
BEGIN:VEVENT
DTSTART;TZID=Europe/Stockholm:20260528T160000
DTEND;TZID=Europe/Stockholm:20260528T210000
DTSTAMP:20260422T193541
CREATED:20260422T144047Z
LAST-MODIFIED:20260422T144047Z
UID:8117-1779984000-1780002000@www.centrumkyrkan.se
SUMMARY:Vårmarknad
DESCRIPTION:Sundbyberg har vårmarknad den 28:e maj och Centrumkyrkan kommer vara där med ett bord! Varmt välkomna att komma förbi oss på vårat bord under marknaden!
URL:https://www.centrumkyrkan.se/kalender-namn/varmarknad/
END:VEVENT
BEGIN:VEVENT
DTSTART;TZID=Europe/Stockholm:20260529T190000
DTEND;TZID=Europe/Stockholm:20260529T230000
DTSTAMP:20260422T193541
CREATED:20260422T142152Z
LAST-MODIFIED:20260422T142152Z
UID:8097-1780081200-1780095600@www.centrumkyrkan.se
SUMMARY:Ungdomskväll
DESCRIPTION:Ungdomskväll i Centrumkyrkan! Start kl. 19:00. Se @ung.i.ck på instagram för mer info!
URL:https://www.centrumkyrkan.se/kalender-namn/ungdomskvall-9/
END:VEVENT
BEGIN:VEVENT
DTSTART;TZID=Europe/Stockholm:20260530T100000
DTEND;TZID=Europe/Stockholm:20260530T120000
DTSTAMP:20260422T193541
CREATED:20260422T145209Z
LAST-MODIFIED:20260422T145210Z
UID:8121-1780135200-1780142400@www.centrumkyrkan.se
SUMMARY:Sopplunch
DESCRIPTION:
URL:https://www.centrumkyrkan.se/kalender-namn/sopplunch-212/
CATEGORIES:Sopplunch
END:VEVENT
BEGIN:VEVENT
DTSTART;TZID=Europe/Stockholm:20260530T143000
DTEND;TZID=Europe/Stockholm:20260530T160000
DTSTAMP:20260422T193541
CREATED:20260422T145252Z
LAST-MODIFIED:20260422T145252Z
UID:8123-1780151400-1780156800@www.centrumkyrkan.se
SUMMARY:Församlingsbön
DESCRIPTION:
URL:https://www.centrumkyrkan.se/kalender-namn/forsamlingsbon-102/
END:VEVENT
BEGIN:VEVENT
DTSTART;TZID=Europe/Stockholm:20260531T110000
DTEND;TZID=Europe/Stockholm:20260531T123000
DTSTAMP:20260422T193541
CREATED:20260422T145435Z
LAST-MODIFIED:20260422T145435Z
UID:8125-1780225200-1780230600@www.centrumkyrkan.se
SUMMARY:Gudstjänst
DESCRIPTION:Predikan: Carin Dernulf.
URL:https://www.centrumkyrkan.se/kalender-namn/gudstjanst-221/
CATEGORIES:Gudstjänst
END:VEVENT
END:VCALENDAR