BEGIN:VCALENDAR
VERSION:2.0
PRODID:-//Centrumkyrkan i Sundbyberg - ECPv6.15.20//NONSGML v1.0//EN
CALSCALE:GREGORIAN
METHOD:PUBLISH
X-ORIGINAL-URL:https://www.centrumkyrkan.se
X-WR-CALDESC:Händelser för Centrumkyrkan i Sundbyberg
REFRESH-INTERVAL;VALUE=DURATION:PT1H
X-Robots-Tag:noindex
X-PUBLISHED-TTL:PT1H
BEGIN:VTIMEZONE
TZID:Europe/Stockholm
BEGIN:DAYLIGHT
TZOFFSETFROM:+0100
TZOFFSETTO:+0200
TZNAME:CEST
DTSTART:20240331T010000
END:DAYLIGHT
BEGIN:STANDARD
TZOFFSETFROM:+0200
TZOFFSETTO:+0100
TZNAME:CET
DTSTART:20241027T010000
END:STANDARD
BEGIN:DAYLIGHT
TZOFFSETFROM:+0100
TZOFFSETTO:+0200
TZNAME:CEST
DTSTART:20250330T010000
END:DAYLIGHT
BEGIN:STANDARD
TZOFFSETFROM:+0200
TZOFFSETTO:+0100
TZNAME:CET
DTSTART:20251026T010000
END:STANDARD
BEGIN:DAYLIGHT
TZOFFSETFROM:+0100
TZOFFSETTO:+0200
TZNAME:CEST
DTSTART:20260329T010000
END:DAYLIGHT
BEGIN:STANDARD
TZOFFSETFROM:+0200
TZOFFSETTO:+0100
TZNAME:CET
DTSTART:20261025T010000
END:STANDARD
END:VTIMEZONE
BEGIN:VEVENT
DTSTART;TZID=Europe/Stockholm:20250830T100000
DTEND;TZID=Europe/Stockholm:20250830T120000
DTSTAMP:20260425T214521
CREATED:20250829T123940Z
LAST-MODIFIED:20250829T123940Z
UID:7363-1756548000-1756555200@www.centrumkyrkan.se
SUMMARY:Sopplunch
DESCRIPTION:
URL:https://www.centrumkyrkan.se/kalender-namn/sopplunch-173/
CATEGORIES:Sopplunch
END:VEVENT
BEGIN:VEVENT
DTSTART;TZID=Europe/Stockholm:20250824T110000
DTEND;TZID=Europe/Stockholm:20250824T123000
DTSTAMP:20260425T214521
CREATED:20250508T115010Z
LAST-MODIFIED:20250508T115010Z
UID:7228-1756033200-1756038600@www.centrumkyrkan.se
SUMMARY:Gudstjänst
DESCRIPTION:11.00 ”Nådens gåvor”.\nPredikan: Molly Stenmark.\nKonfirmationsgudstjänst.
URL:https://www.centrumkyrkan.se/kalender-namn/gudstjanst-184/
END:VEVENT
BEGIN:VEVENT
DTSTART;TZID=Europe/Stockholm:20250823T143000
DTEND;TZID=Europe/Stockholm:20250823T160000
DTSTAMP:20260425T214521
CREATED:20250612T092938Z
LAST-MODIFIED:20250612T092938Z
UID:7269-1755959400-1755964800@www.centrumkyrkan.se
SUMMARY:Församlingsbön
DESCRIPTION:14.30 – 16.00. Cafévåningen.
URL:https://www.centrumkyrkan.se/kalender-namn/forsamlingsbon-65/
END:VEVENT
BEGIN:VEVENT
DTSTART;TZID=Europe/Stockholm:20250817T110000
DTEND;TZID=Europe/Stockholm:20250817T123000
DTSTAMP:20260425T214521
CREATED:20250508T114848Z
LAST-MODIFIED:20250508T114848Z
UID:7226-1755428400-1755433800@www.centrumkyrkan.se
SUMMARY:Gudstjänst
DESCRIPTION:11.00 ”Goda förvaltare”.\nPredikan:
URL:https://www.centrumkyrkan.se/kalender-namn/gudstjanst-183/
END:VEVENT
BEGIN:VEVENT
DTSTART;TZID=Europe/Stockholm:20250816T143000
DTEND;TZID=Europe/Stockholm:20250816T160000
DTSTAMP:20260425T214521
CREATED:20250612T092843Z
LAST-MODIFIED:20250612T092843Z
UID:7267-1755354600-1755360000@www.centrumkyrkan.se
SUMMARY:Församlingsbön
DESCRIPTION:14.30 – 16.00. Cafévåningen.
URL:https://www.centrumkyrkan.se/kalender-namn/forsamlingsbon-64/
END:VEVENT
BEGIN:VEVENT
DTSTART;TZID=Europe/Stockholm:20250816T100000
DTEND;TZID=Europe/Stockholm:20250816T120000
DTSTAMP:20260425T214521
CREATED:20250602T131310Z
LAST-MODIFIED:20250602T131310Z
UID:7243-1755338400-1755345600@www.centrumkyrkan.se
SUMMARY:Sopplunch
DESCRIPTION:Kl. 10:00-12:00
URL:https://www.centrumkyrkan.se/kalender-namn/sopplunch-172/
END:VEVENT
BEGIN:VEVENT
DTSTART;TZID=Europe/Stockholm:20250810T110000
DTEND;TZID=Europe/Stockholm:20250810T123000
DTSTAMP:20260425T214521
CREATED:20250508T114737Z
LAST-MODIFIED:20250508T114737Z
UID:7224-1754823600-1754829000@www.centrumkyrkan.se
SUMMARY:Gudstjänst
DESCRIPTION:11.00 ”Andlig klarsyn”.\nPredikan: Malin Aronsson.
URL:https://www.centrumkyrkan.se/kalender-namn/gudstjanst-182/
END:VEVENT
BEGIN:VEVENT
DTSTART;TZID=Europe/Stockholm:20250803T110000
DTEND;TZID=Europe/Stockholm:20250803T123000
DTSTAMP:20260425T214521
CREATED:20250508T114323Z
LAST-MODIFIED:20250508T114323Z
UID:7221-1754218800-1754224200@www.centrumkyrkan.se
SUMMARY:Gudstjänst
DESCRIPTION:11.00 ”Kristi förklaringsdag”.\nPredikan och musik: Bertil Edin.
URL:https://www.centrumkyrkan.se/kalender-namn/gudstjanst-181/
END:VEVENT
BEGIN:VEVENT
DTSTART;TZID=Europe/Stockholm:20250727T110000
DTEND;TZID=Europe/Stockholm:20250727T123000
DTSTAMP:20260425T214521
CREATED:20250508T114143Z
LAST-MODIFIED:20250508T114143Z
UID:7219-1753614000-1753619400@www.centrumkyrkan.se
SUMMARY:Gudstjänst
DESCRIPTION:11.00 ”Efterföljelse”.\nPredikan: Anders Holmberg.
URL:https://www.centrumkyrkan.se/kalender-namn/gudstjanst-180/
END:VEVENT
BEGIN:VEVENT
DTSTART;TZID=Europe/Stockholm:20250720T110000
DTEND;TZID=Europe/Stockholm:20250720T123000
DTSTAMP:20260425T214521
CREATED:20250508T114032Z
LAST-MODIFIED:20250508T114032Z
UID:7217-1753009200-1753014600@www.centrumkyrkan.se
SUMMARY:Gudstjänst
DESCRIPTION:11.00 ”Sänd mig”.\nPredikan: Peter Tönnäng.
URL:https://www.centrumkyrkan.se/kalender-namn/gudstjanst-179/
END:VEVENT
BEGIN:VEVENT
DTSTART;TZID=Europe/Stockholm:20250713T110000
DTEND;TZID=Europe/Stockholm:20250713T123000
DTSTAMP:20260425T214521
CREATED:20250508T113855Z
LAST-MODIFIED:20250508T113855Z
UID:7215-1752404400-1752409800@www.centrumkyrkan.se
SUMMARY:Gudstjänst
DESCRIPTION:11.00 ”Att inte döma”.\nPredikan: Peter Tönnäng.
URL:https://www.centrumkyrkan.se/kalender-namn/gudstjanst-178/
END:VEVENT
BEGIN:VEVENT
DTSTART;TZID=Europe/Stockholm:20250706T110000
DTEND;TZID=Europe/Stockholm:20250706T123000
DTSTAMP:20260425T214521
CREATED:20250508T113736Z
LAST-MODIFIED:20250508T114406Z
UID:7213-1751799600-1751805000@www.centrumkyrkan.se
SUMMARY:Gudstjänst
DESCRIPTION:11.00 ”Förlorad och återfunnen”.\nPredikan och musik: Anders Ringqvist.
URL:https://www.centrumkyrkan.se/kalender-namn/gudstjanst-177/
END:VEVENT
BEGIN:VEVENT
DTSTART;TZID=Europe/Stockholm:20250629T110000
DTEND;TZID=Europe/Stockholm:20250629T123000
DTSTAMP:20260425T214521
CREATED:20250425T104457Z
LAST-MODIFIED:20250610T125255Z
UID:7158-1751194800-1751200200@www.centrumkyrkan.se
SUMMARY:Gudstjänst
DESCRIPTION:11.00. ”Kallelsen till Guds rike”.\nPredikan: Sune Nordin.\nVi firar nattvard.
URL:https://www.centrumkyrkan.se/kalender-namn/gudstjanst-176/
END:VEVENT
BEGIN:VEVENT
DTSTART;TZID=Europe/Stockholm:20250628T143000
DTEND;TZID=Europe/Stockholm:20250628T160000
DTSTAMP:20260425T214521
CREATED:20250425T104339Z
LAST-MODIFIED:20250425T114207Z
UID:7156-1751121000-1751126400@www.centrumkyrkan.se
SUMMARY:Församlingsbön
DESCRIPTION:14.30 – 16.00.\nOBS!\nBön längst ned i kyrkan denna lördag.
URL:https://www.centrumkyrkan.se/kalender-namn/forsamlingsbon-61/
END:VEVENT
BEGIN:VEVENT
DTSTART;TZID=Europe/Stockholm:20250622T110000
DTEND;TZID=Europe/Stockholm:20250622T123000
DTSTAMP:20260425T214521
CREATED:20250425T093230Z
LAST-MODIFIED:20250425T093904Z
UID:7144-1750590000-1750595400@www.centrumkyrkan.se
SUMMARY:Gudstjänst
DESCRIPTION:11.00. ”Johannes Döparens dag”.\nPredikan: Molly Stenmark.
URL:https://www.centrumkyrkan.se/kalender-namn/midommardagsgudstjanst/
END:VEVENT
BEGIN:VEVENT
DTSTART;TZID=Europe/Stockholm:20250621T143000
DTEND;TZID=Europe/Stockholm:20250621T160000
DTSTAMP:20260425T214521
CREATED:20250425T104112Z
LAST-MODIFIED:20250425T114041Z
UID:7152-1750516200-1750521600@www.centrumkyrkan.se
SUMMARY:Församlingsbön
DESCRIPTION:14.30 – 16.00.
URL:https://www.centrumkyrkan.se/kalender-namn/forsamlingsbon-60/
END:VEVENT
BEGIN:VEVENT
DTSTART;TZID=Europe/Stockholm:20250619T000000
DTEND;TZID=Europe/Stockholm:20250619T000000
DTSTAMP:20260425T214521
CREATED:20250612T092803Z
LAST-MODIFIED:20250619T082314Z
UID:7265-1750291200-1750291200@www.centrumkyrkan.se
SUMMARY:Församlingsbön
DESCRIPTION:14.30 – 16.00. Cafévåningen.
URL:https://www.centrumkyrkan.se/kalender-namn/forsamlingsbon-63/
END:VEVENT
BEGIN:VEVENT
DTSTART;TZID=Europe/Stockholm:20250619T000000
DTEND;TZID=Europe/Stockholm:20250619T000000
DTSTAMP:20260425T214521
CREATED:20250612T092701Z
LAST-MODIFIED:20250619T082227Z
UID:7263-1750291200-1750291200@www.centrumkyrkan.se
SUMMARY:Församlingsbön
DESCRIPTION:14.30 – 16.00. Cafévåningen.
URL:https://www.centrumkyrkan.se/kalender-namn/forsamlingsbon-62/
END:VEVENT
BEGIN:VEVENT
DTSTART;TZID=Europe/Stockholm:20250615T110000
DTEND;TZID=Europe/Stockholm:20250615T123000
DTSTAMP:20260425T214521
CREATED:20250425T093002Z
LAST-MODIFIED:20250610T124750Z
UID:7142-1749985200-1749990600@www.centrumkyrkan.se
SUMMARY:Gudstjänst
DESCRIPTION:11.00. ”Treenigheten”.\nPredikan: Malin Aronsson.\nVi firar nattvard.
URL:https://www.centrumkyrkan.se/kalender-namn/gudstjanst-175/
END:VEVENT
BEGIN:VEVENT
DTSTART;TZID=Europe/Stockholm:20250614T143000
DTEND;TZID=Europe/Stockholm:20250614T160000
DTSTAMP:20260425T214521
CREATED:20250425T092840Z
LAST-MODIFIED:20250425T113956Z
UID:7140-1749911400-1749916800@www.centrumkyrkan.se
SUMMARY:Församlingsbön
DESCRIPTION:Kl. 14.30-16.00.
URL:https://www.centrumkyrkan.se/kalender-namn/forsamlingsbon-59/
END:VEVENT
BEGIN:VEVENT
DTSTART;TZID=Europe/Stockholm:20250614T100000
DTEND;TZID=Europe/Stockholm:20250614T120000
DTSTAMP:20260425T214521
CREATED:20250425T092747Z
LAST-MODIFIED:20250508T112925Z
UID:7138-1749895200-1749902400@www.centrumkyrkan.se
SUMMARY:Sopplunch
DESCRIPTION:Kl. 10.00 – 12.00.\nSista för terminen.
URL:https://www.centrumkyrkan.se/kalender-namn/sopplunch-171/
END:VEVENT
BEGIN:VEVENT
DTSTART;TZID=Europe/Stockholm:20250608T110000
DTEND;TZID=Europe/Stockholm:20250608T123000
DTSTAMP:20260425T214521
CREATED:20250425T093402Z
LAST-MODIFIED:20250530T083312Z
UID:7146-1749380400-1749385800@www.centrumkyrkan.se
SUMMARY:Ekumenisk gudstjänst i Svenska kyrkan
DESCRIPTION:11.00. Pingstdagen.\nEkumenisk gudstjänst i Svenska kyrkan\, Sundbyberg.\nVi möts där!
URL:https://www.centrumkyrkan.se/kalender-namn/ekumenisk-gudstjanst-2/
END:VEVENT
BEGIN:VEVENT
DTSTART;TZID=Europe/Stockholm:20250607T143000
DTEND;TZID=Europe/Stockholm:20250607T160000
DTSTAMP:20260425T214521
CREATED:20250425T091320Z
LAST-MODIFIED:20250425T113921Z
UID:7133-1749306600-1749312000@www.centrumkyrkan.se
SUMMARY:Församlingsbön
DESCRIPTION:14.30-16.00.
URL:https://www.centrumkyrkan.se/kalender-namn/forsamlingsbon-58/
END:VEVENT
BEGIN:VEVENT
DTSTART;TZID=Europe/Stockholm:20250607T100000
DTEND;TZID=Europe/Stockholm:20250607T120000
DTSTAMP:20260425T214521
CREATED:20250425T091407Z
LAST-MODIFIED:20250425T092652Z
UID:7135-1749290400-1749297600@www.centrumkyrkan.se
SUMMARY:Sopplunch
DESCRIPTION:Kl. 10.00 – 12.00.
URL:https://www.centrumkyrkan.se/kalender-namn/lordagslunch/
END:VEVENT
BEGIN:VEVENT
DTSTART;TZID=Europe/Stockholm:20250601T110000
DTEND;TZID=Europe/Stockholm:20250601T123000
DTSTAMP:20260425T214521
CREATED:20250425T091050Z
LAST-MODIFIED:20250527T131612Z
UID:7131-1748775600-1748781000@www.centrumkyrkan.se
SUMMARY:Gudstjänst
DESCRIPTION:11.00 ”Hjälparen kommer”.\nPredikan: Bertil Edin.\nVi firar nattvard.\nKort fika\, sen promenad till Gröna stugan efter\ngudstjänsten.
URL:https://www.centrumkyrkan.se/kalender-namn/gudstjanst-174/
END:VEVENT
BEGIN:VEVENT
DTSTART;TZID=Europe/Stockholm:20250531T143000
DTEND;TZID=Europe/Stockholm:20250531T160000
DTSTAMP:20260425T214521
CREATED:20250305T132812Z
LAST-MODIFIED:20250305T132812Z
UID:7001-1748701800-1748707200@www.centrumkyrkan.se
SUMMARY:Församlingsbön
DESCRIPTION:14.30 – 16.00.
URL:https://www.centrumkyrkan.se/kalender-namn/forsamlingsbon-57/
END:VEVENT
BEGIN:VEVENT
DTSTART;TZID=Europe/Stockholm:20250531T100000
DTEND;TZID=Europe/Stockholm:20250531T120000
DTSTAMP:20260425T214521
CREATED:20250305T132734Z
LAST-MODIFIED:20250305T132734Z
UID:6999-1748685600-1748692800@www.centrumkyrkan.se
SUMMARY:Sopplunch
DESCRIPTION:10.00 – 12.00.
URL:https://www.centrumkyrkan.se/kalender-namn/sopplunch-170/
END:VEVENT
BEGIN:VEVENT
DTSTART;TZID=Europe/Stockholm:20250529T090000
DTEND;TZID=Europe/Stockholm:20250529T133000
DTSTAMP:20260425T214521
CREATED:20250422T141053Z
LAST-MODIFIED:20250507T135820Z
UID:7110-1748509200-1748525400@www.centrumkyrkan.se
SUMMARY:Kristi Himmelsfärdsdag
DESCRIPTION:Pilgrimsvandring till Gåseborg. Vi träffas kl. 9 vid Riddersviks\nHerrgård. Vacker vandring\, bibelord på vägen.\nMedtag matsäck!
URL:https://www.centrumkyrkan.se/kalender-namn/pilgrimsvandring-3/
END:VEVENT
BEGIN:VEVENT
DTSTART;TZID=Europe/Stockholm:20250525T110000
DTEND;TZID=Europe/Stockholm:20250525T123000
DTSTAMP:20260425T214521
CREATED:20250305T132932Z
LAST-MODIFIED:20250507T153936Z
UID:7003-1748170800-1748176200@www.centrumkyrkan.se
SUMMARY:Gudstjänst
DESCRIPTION:11.00 ”Bönen”.\nPredikan: Malin Aronsson.
URL:https://www.centrumkyrkan.se/kalender-namn/gudstjanst-173/
END:VEVENT
BEGIN:VEVENT
DTSTART;TZID=Europe/Stockholm:20250524T143000
DTEND;TZID=Europe/Stockholm:20250524T160000
DTSTAMP:20260425T214521
CREATED:20250305T132645Z
LAST-MODIFIED:20250305T132645Z
UID:6997-1748097000-1748102400@www.centrumkyrkan.se
SUMMARY:Församlingsbön
DESCRIPTION:14.30 – 16.00.
URL:https://www.centrumkyrkan.se/kalender-namn/forsamlingsbon-56/
END:VEVENT
END:VCALENDAR