BEGIN:VCALENDAR
VERSION:2.0
PRODID:-//Centrumkyrkan i Sundbyberg - ECPv6.15.20//NONSGML v1.0//EN
CALSCALE:GREGORIAN
METHOD:PUBLISH
X-ORIGINAL-URL:https://www.centrumkyrkan.se
X-WR-CALDESC:Händelser för Centrumkyrkan i Sundbyberg
REFRESH-INTERVAL;VALUE=DURATION:PT1H
X-Robots-Tag:noindex
X-PUBLISHED-TTL:PT1H
BEGIN:VTIMEZONE
TZID:Europe/Stockholm
BEGIN:DAYLIGHT
TZOFFSETFROM:+0100
TZOFFSETTO:+0200
TZNAME:CEST
DTSTART:20230326T010000
END:DAYLIGHT
BEGIN:STANDARD
TZOFFSETFROM:+0200
TZOFFSETTO:+0100
TZNAME:CET
DTSTART:20231029T010000
END:STANDARD
BEGIN:DAYLIGHT
TZOFFSETFROM:+0100
TZOFFSETTO:+0200
TZNAME:CEST
DTSTART:20240331T010000
END:DAYLIGHT
BEGIN:STANDARD
TZOFFSETFROM:+0200
TZOFFSETTO:+0100
TZNAME:CET
DTSTART:20241027T010000
END:STANDARD
BEGIN:DAYLIGHT
TZOFFSETFROM:+0100
TZOFFSETTO:+0200
TZNAME:CEST
DTSTART:20250330T010000
END:DAYLIGHT
BEGIN:STANDARD
TZOFFSETFROM:+0200
TZOFFSETTO:+0100
TZNAME:CET
DTSTART:20251026T010000
END:STANDARD
END:VTIMEZONE
BEGIN:VEVENT
DTSTART;TZID=Europe/Stockholm:20240615T100000
DTEND;TZID=Europe/Stockholm:20240615T120000
DTSTAMP:20260422T174405
CREATED:20240116T102101Z
LAST-MODIFIED:20240517T095920Z
UID:5796-1718445600-1718452800@www.centrumkyrkan.se
SUMMARY:Sopplunch
DESCRIPTION:10.00 – 12.00.\nSista för terminen.
URL:https://www.centrumkyrkan.se/kalender-namn/sopplunch-127/
END:VEVENT
BEGIN:VEVENT
DTSTART;TZID=Europe/Stockholm:20240615T143000
DTEND;TZID=Europe/Stockholm:20240615T160000
DTSTAMP:20260422T174405
CREATED:20240517T094840Z
LAST-MODIFIED:20240517T094840Z
UID:6177-1718461800-1718467200@www.centrumkyrkan.se
SUMMARY:Församlingsbön
DESCRIPTION:14.30 Församlingsbön i cafévåningen.
URL:https://www.centrumkyrkan.se/kalender-namn/forsamlingsbon-15/
END:VEVENT
BEGIN:VEVENT
DTSTART;TZID=Europe/Stockholm:20240616T110000
DTEND;TZID=Europe/Stockholm:20240616T123000
DTSTAMP:20260422T174405
CREATED:20240222T113839Z
LAST-MODIFIED:20240426T140036Z
UID:5960-1718535600-1718541000@www.centrumkyrkan.se
SUMMARY:Gudstjänst
DESCRIPTION:11.00. ”Förlorad och återfunnen”.\nPredikan: Sune Nordin.
URL:https://www.centrumkyrkan.se/kalender-namn/gudstjanst-132/
END:VEVENT
BEGIN:VEVENT
DTSTART;TZID=Europe/Stockholm:20240616T123000
DTEND;TZID=Europe/Stockholm:20240616T133000
DTSTAMP:20260422T174405
CREATED:20240426T140524Z
LAST-MODIFIED:20240426T140524Z
UID:6122-1718541000-1718544600@www.centrumkyrkan.se
SUMMARY:Församlingsmöte
DESCRIPTION:12.30 Församlingsmöte efter gudstjänsten. \n 
URL:https://www.centrumkyrkan.se/kalender-namn/forsamlingsmote-4/
END:VEVENT
BEGIN:VEVENT
DTSTART;TZID=Europe/Stockholm:20240622T143000
DTEND;TZID=Europe/Stockholm:20240622T160000
DTSTAMP:20260422T174405
CREATED:20240517T095000Z
LAST-MODIFIED:20240517T095000Z
UID:6179-1719066600-1719072000@www.centrumkyrkan.se
SUMMARY:Församlingsbön
DESCRIPTION:14.30 Församlingsbön i cafévåningen.
URL:https://www.centrumkyrkan.se/kalender-namn/forsamlingsbon-16/
END:VEVENT
BEGIN:VEVENT
DTSTART;TZID=Europe/Stockholm:20240623T110000
DTEND;TZID=Europe/Stockholm:20240623T123000
DTSTAMP:20260422T174405
CREATED:20240508T123502Z
LAST-MODIFIED:20240531T105505Z
UID:6152-1719140400-1719145800@www.centrumkyrkan.se
SUMMARY:Ekumenisk gudstjänst
DESCRIPTION:11.00. ”Johannes Döparen”. Vem var han?\nPredikan: Anna-Karin Klingsbo.\nVi firar nattvard.
URL:https://www.centrumkyrkan.se/kalender-namn/ekumenisk-gudstjanst/
END:VEVENT
BEGIN:VEVENT
DTSTART;TZID=Europe/Stockholm:20240629T143000
DTEND;TZID=Europe/Stockholm:20240629T160000
DTSTAMP:20260422T174405
CREATED:20240517T095130Z
LAST-MODIFIED:20240517T095130Z
UID:6181-1719671400-1719676800@www.centrumkyrkan.se
SUMMARY:Församlingsbön
DESCRIPTION:14.30 Församlingsbön i cafévåningen.
URL:https://www.centrumkyrkan.se/kalender-namn/forsamlingsbon-17/
END:VEVENT
BEGIN:VEVENT
DTSTART;TZID=Europe/Stockholm:20240630T110000
DTEND;TZID=Europe/Stockholm:20240630T123000
DTSTAMP:20260422T174405
CREATED:20240508T122840Z
LAST-MODIFIED:20240508T122840Z
UID:6148-1719745200-1719750600@www.centrumkyrkan.se
SUMMARY:Gudstjänst
DESCRIPTION:11.00. ”Sänd mig”.\nPredikan: Malin Aronsson.
URL:https://www.centrumkyrkan.se/kalender-namn/gudstjanst-133/
END:VEVENT
BEGIN:VEVENT
DTSTART;TZID=Europe/Stockholm:20240707T110000
DTEND;TZID=Europe/Stockholm:20240707T123000
DTSTAMP:20260422T174405
CREATED:20240508T123034Z
LAST-MODIFIED:20240508T123034Z
UID:6150-1720350000-1720355400@www.centrumkyrkan.se
SUMMARY:Gudstjänst
DESCRIPTION:11.00. ”Efterföljelse”.\nPredikan: Sune Nordin.\nVi firar nattvard.
URL:https://www.centrumkyrkan.se/kalender-namn/gudstjanst-134/
END:VEVENT
BEGIN:VEVENT
DTSTART;TZID=Europe/Stockholm:20240714T110000
DTEND;TZID=Europe/Stockholm:20240714T123000
DTSTAMP:20260422T174405
CREATED:20240531T091149Z
LAST-MODIFIED:20240531T091149Z
UID:6209-1720954800-1720960200@www.centrumkyrkan.se
SUMMARY:Gudstjänst
DESCRIPTION:11.00. ”Jesus förhärligad”.\nPredikan: Anders Holmberg.
URL:https://www.centrumkyrkan.se/kalender-namn/gudstjanst-138/
END:VEVENT
BEGIN:VEVENT
DTSTART;TZID=Europe/Stockholm:20240721T110000
DTEND;TZID=Europe/Stockholm:20240721T123000
DTSTAMP:20260422T174405
CREATED:20240531T091411Z
LAST-MODIFIED:20240531T091411Z
UID:6211-1721559600-1721565000@www.centrumkyrkan.se
SUMMARY:Gudstjänst
DESCRIPTION:11.00. ”Andlig klarsyn”.\nPredikan: Peter Tönnäng.
URL:https://www.centrumkyrkan.se/kalender-namn/gudstjanst-139/
END:VEVENT
BEGIN:VEVENT
DTSTART;TZID=Europe/Stockholm:20240728T110000
DTEND;TZID=Europe/Stockholm:20240728T123000
DTSTAMP:20260422T174405
CREATED:20240531T091539Z
LAST-MODIFIED:20240531T091539Z
UID:6213-1722164400-1722169800@www.centrumkyrkan.se
SUMMARY:Gudstjänst
DESCRIPTION:11.00. ”Goda förvaltare”.\nPredikan: Anders Ringqvist.
URL:https://www.centrumkyrkan.se/kalender-namn/gudstjanst-140/
END:VEVENT
BEGIN:VEVENT
DTSTART;TZID=Europe/Stockholm:20240804T110000
DTEND;TZID=Europe/Stockholm:20240804T123000
DTSTAMP:20260422T174405
CREATED:20240524T092232Z
LAST-MODIFIED:20240628T104527Z
UID:6205-1722769200-1722774600@www.centrumkyrkan.se
SUMMARY:Gudstjänst
DESCRIPTION:11.00. ”Nådens gåvor”.\nPredikan: Peter Tönnäng.
URL:https://www.centrumkyrkan.se/kalender-namn/gudstjanst-137/
END:VEVENT
BEGIN:VEVENT
DTSTART;TZID=Europe/Stockholm:20240811T110000
DTEND;TZID=Europe/Stockholm:20240811T123000
DTSTAMP:20260422T174405
CREATED:20240524T091148Z
LAST-MODIFIED:20240524T091148Z
UID:6199-1723374000-1723379400@www.centrumkyrkan.se
SUMMARY:Gudstjänst
DESCRIPTION:11.00. ”Tro och liv”.\nPredikan: Malin Aronsson.
URL:https://www.centrumkyrkan.se/kalender-namn/gudstjanst-135/
END:VEVENT
BEGIN:VEVENT
DTSTART;TZID=Europe/Stockholm:20240817T100000
DTEND;TZID=Europe/Stockholm:20240817T120000
DTSTAMP:20260422T174405
CREATED:20240531T112233Z
LAST-MODIFIED:20240531T112233Z
UID:6271-1723888800-1723896000@www.centrumkyrkan.se
SUMMARY:Sopplunch
DESCRIPTION:10.00-12.00.
URL:https://www.centrumkyrkan.se/kalender-namn/sopplunch-128/
END:VEVENT
BEGIN:VEVENT
DTSTART;TZID=Europe/Stockholm:20240817T143000
DTEND;TZID=Europe/Stockholm:20240817T160000
DTSTAMP:20260422T174405
CREATED:20240531T112424Z
LAST-MODIFIED:20240531T112424Z
UID:6275-1723905000-1723910400@www.centrumkyrkan.se
SUMMARY:Församlingsbön
DESCRIPTION:14.30-16.00\nFörsamlingsbön i cafévåningen.
URL:https://www.centrumkyrkan.se/kalender-namn/forsamlingsbon-24/
END:VEVENT
BEGIN:VEVENT
DTSTART;TZID=Europe/Stockholm:20240818T110000
DTEND;TZID=Europe/Stockholm:20240818T123000
DTSTAMP:20260422T174405
CREATED:20240524T091330Z
LAST-MODIFIED:20240524T091330Z
UID:6201-1723978800-1723984200@www.centrumkyrkan.se
SUMMARY:Gudstjänst
DESCRIPTION:11.00. ”Friheten i Kristus”.\nPredikan: Sune Nordin.\nVi firar nattvard.
URL:https://www.centrumkyrkan.se/kalender-namn/gudstjanst-136/
END:VEVENT
BEGIN:VEVENT
DTSTART;TZID=Europe/Stockholm:20240824T100000
DTEND;TZID=Europe/Stockholm:20240824T120000
DTSTAMP:20260422T174405
CREATED:20240531T112741Z
LAST-MODIFIED:20240531T112741Z
UID:6277-1724493600-1724500800@www.centrumkyrkan.se
SUMMARY:Sopplunch
DESCRIPTION:10.00-12.00.
URL:https://www.centrumkyrkan.se/kalender-namn/sopplunch-129/
END:VEVENT
BEGIN:VEVENT
DTSTART;TZID=Europe/Stockholm:20240824T143000
DTEND;TZID=Europe/Stockholm:20240824T160000
DTSTAMP:20260422T174405
CREATED:20240531T112839Z
LAST-MODIFIED:20240531T112839Z
UID:6279-1724509800-1724515200@www.centrumkyrkan.se
SUMMARY:Församlingsbön
DESCRIPTION:14.30-16.00\nFörsamlingsbön i cafévåningen.
URL:https://www.centrumkyrkan.se/kalender-namn/forsamlingsbon-25/
END:VEVENT
BEGIN:VEVENT
DTSTART;TZID=Europe/Stockholm:20240825T110000
DTEND;TZID=Europe/Stockholm:20240825T123000
DTSTAMP:20260422T174405
CREATED:20240524T091846Z
LAST-MODIFIED:20240524T091846Z
UID:6203-1724583600-1724589000@www.centrumkyrkan.se
SUMMARY:Uppstarts-gudstjänst!
DESCRIPTION:11.00 ”Medmänniskan”.\nPredikan: Malin/Molly.\nDelning lägereko.
URL:https://www.centrumkyrkan.se/kalender-namn/uppstarts-gudstjanst/
END:VEVENT
BEGIN:VEVENT
DTSTART;TZID=Europe/Stockholm:20240830T190000
DTEND;TZID=Europe/Stockholm:20240830T213000
DTSTAMP:20260422T174405
CREATED:20240531T100436Z
LAST-MODIFIED:20240531T100436Z
UID:6248-1725044400-1725053400@www.centrumkyrkan.se
SUMMARY:CK-Tillsammans
DESCRIPTION:19.00.\nMer info kommer.
URL:https://www.centrumkyrkan.se/kalender-namn/ck-tillsammans-7/
END:VEVENT
BEGIN:VEVENT
DTSTART;TZID=Europe/Stockholm:20240831T100000
DTEND;TZID=Europe/Stockholm:20240831T120000
DTSTAMP:20260422T174405
CREATED:20240531T112939Z
LAST-MODIFIED:20240531T113013Z
UID:6281-1725098400-1725105600@www.centrumkyrkan.se
SUMMARY:Sopplunch
DESCRIPTION:10.00-12.00.
URL:https://www.centrumkyrkan.se/kalender-namn/sopplunch-130/
END:VEVENT
BEGIN:VEVENT
DTSTART;TZID=Europe/Stockholm:20240831T143000
DTEND;TZID=Europe/Stockholm:20240831T160000
DTSTAMP:20260422T174405
CREATED:20240531T113117Z
LAST-MODIFIED:20240531T113117Z
UID:6283-1725114600-1725120000@www.centrumkyrkan.se
SUMMARY:Församlingsbön
DESCRIPTION:14.30-16.00\nFörsamlingsbön i cafévåningen.
URL:https://www.centrumkyrkan.se/kalender-namn/forsamlingsbon-26/
END:VEVENT
BEGIN:VEVENT
DTSTART;TZID=Europe/Stockholm:20240901T110000
DTEND;TZID=Europe/Stockholm:20240901T123000
DTSTAMP:20260422T174405
CREATED:20240531T092051Z
LAST-MODIFIED:20240816T080724Z
UID:6216-1725188400-1725193800@www.centrumkyrkan.se
SUMMARY:Gudstjänst
DESCRIPTION:11.00. ”Enheten i Kristus”.\nPredikan: Fredrik Wärn.\nVi firar nattvard.
URL:https://www.centrumkyrkan.se/kalender-namn/gudstjanst-141/
END:VEVENT
BEGIN:VEVENT
DTSTART;TZID=Europe/Stockholm:20240906T190000
DTEND;TZID=Europe/Stockholm:20240906T210000
DTSTAMP:20260422T174405
CREATED:20240816T074731Z
LAST-MODIFIED:20240816T074938Z
UID:6360-1725649200-1725656400@www.centrumkyrkan.se
SUMMARY:Nystart ungdom!
DESCRIPTION:19.00.\nMer info kommer.
URL:https://www.centrumkyrkan.se/kalender-namn/nystart-ungdom/
END:VEVENT
BEGIN:VEVENT
DTSTART;TZID=Europe/Stockholm:20240907T100000
DTEND;TZID=Europe/Stockholm:20240907T120000
DTSTAMP:20260422T174405
CREATED:20240816T081959Z
LAST-MODIFIED:20240816T081959Z
UID:6386-1725703200-1725710400@www.centrumkyrkan.se
SUMMARY:Sopplunch
DESCRIPTION:10.00-12.00.
URL:https://www.centrumkyrkan.se/kalender-namn/sopplunch-131/
END:VEVENT
BEGIN:VEVENT
DTSTART;TZID=Europe/Stockholm:20240907T143000
DTEND;TZID=Europe/Stockholm:20240907T160000
DTSTAMP:20260422T174405
CREATED:20240816T082052Z
LAST-MODIFIED:20240816T082052Z
UID:6388-1725719400-1725724800@www.centrumkyrkan.se
SUMMARY:Församlingsbön
DESCRIPTION:14.30-16.00.\nCafévåningen.
URL:https://www.centrumkyrkan.se/kalender-namn/forsamlingsbon-18/
END:VEVENT
BEGIN:VEVENT
DTSTART;TZID=Europe/Stockholm:20240908T110000
DTEND;TZID=Europe/Stockholm:20240908T123000
DTSTAMP:20260422T174405
CREATED:20240531T092655Z
LAST-MODIFIED:20240820T094951Z
UID:6222-1725793200-1725798600@www.centrumkyrkan.se
SUMMARY:Gudstjänst
DESCRIPTION:11.00. ”Ett är nödvändigt”\nPredikan: Sune Nordin.
URL:https://www.centrumkyrkan.se/kalender-namn/gudstjanst-142/
END:VEVENT
BEGIN:VEVENT
DTSTART;TZID=Europe/Stockholm:20240908T123000
DTEND;TZID=Europe/Stockholm:20240908T133000
DTSTAMP:20260422T174405
CREATED:20240827T125147Z
LAST-MODIFIED:20240827T125147Z
UID:6507-1725798600-1725802200@www.centrumkyrkan.se
SUMMARY:Församlingsmöte
DESCRIPTION:12.30\nFörsamlingsmöte efter gudstjänsten.
URL:https://www.centrumkyrkan.se/kalender-namn/forsamlingsmote-5/
END:VEVENT
BEGIN:VEVENT
DTSTART;TZID=Europe/Stockholm:20240911T183000
DTEND;TZID=Europe/Stockholm:20240911T193000
DTSTAMP:20260422T174405
CREATED:20240531T094331Z
LAST-MODIFIED:20240531T094331Z
UID:6230-1726079400-1726083000@www.centrumkyrkan.se
SUMMARY:Inför Hans ansikte
DESCRIPTION:18.30.\nBönegudstjänst med nattvard.
URL:https://www.centrumkyrkan.se/kalender-namn/infor-hans-ansikte-52/
END:VEVENT
END:VCALENDAR