BEGIN:VCALENDAR
VERSION:2.0
PRODID:-//Centrumkyrkan i Sundbyberg - ECPv6.15.20//NONSGML v1.0//EN
CALSCALE:GREGORIAN
METHOD:PUBLISH
X-ORIGINAL-URL:https://www.centrumkyrkan.se
X-WR-CALDESC:Händelser för Centrumkyrkan i Sundbyberg
REFRESH-INTERVAL;VALUE=DURATION:PT1H
X-Robots-Tag:noindex
X-PUBLISHED-TTL:PT1H
BEGIN:VTIMEZONE
TZID:Europe/Stockholm
BEGIN:DAYLIGHT
TZOFFSETFROM:+0100
TZOFFSETTO:+0200
TZNAME:CEST
DTSTART:20230326T010000
END:DAYLIGHT
BEGIN:STANDARD
TZOFFSETFROM:+0200
TZOFFSETTO:+0100
TZNAME:CET
DTSTART:20231029T010000
END:STANDARD
BEGIN:DAYLIGHT
TZOFFSETFROM:+0100
TZOFFSETTO:+0200
TZNAME:CEST
DTSTART:20240331T010000
END:DAYLIGHT
BEGIN:STANDARD
TZOFFSETFROM:+0200
TZOFFSETTO:+0100
TZNAME:CET
DTSTART:20241027T010000
END:STANDARD
BEGIN:DAYLIGHT
TZOFFSETFROM:+0100
TZOFFSETTO:+0200
TZNAME:CEST
DTSTART:20250330T010000
END:DAYLIGHT
BEGIN:STANDARD
TZOFFSETFROM:+0200
TZOFFSETTO:+0100
TZNAME:CET
DTSTART:20251026T010000
END:STANDARD
END:VTIMEZONE
BEGIN:VEVENT
DTSTART;VALUE=DATE:20240210
DTEND;VALUE=DATE:20240212
DTSTAMP:20260423T001824
CREATED:20240125T145059Z
LAST-MODIFIED:20240125T145059Z
UID:5867-1707523200-1707695999@www.centrumkyrkan.se
SUMMARY:SevenUp dygn
DESCRIPTION:
URL:https://www.centrumkyrkan.se/kalender-namn/sevenup-dygn/
END:VEVENT
BEGIN:VEVENT
DTSTART;TZID=Europe/Stockholm:20240211T110000
DTEND;TZID=Europe/Stockholm:20240211T123000
DTSTAMP:20260423T001824
CREATED:20231031T131824Z
LAST-MODIFIED:20240102T112731Z
UID:5388-1707649200-1707654600@www.centrumkyrkan.se
SUMMARY:Gudstjänst
DESCRIPTION:11.00. ”Kärlekens väg”.\nPredikan: Malin Aronsson.\nGudstjänst för alla åldrar.
URL:https://www.centrumkyrkan.se/kalender-namn/gudstjanst-115/
END:VEVENT
BEGIN:VEVENT
DTSTART;TZID=Europe/Stockholm:20240213T173000
DTEND;TZID=Europe/Stockholm:20240213T190000
DTSTAMP:20260423T001824
CREATED:20231103T094948Z
LAST-MODIFIED:20231103T094948Z
UID:5435-1707845400-1707850800@www.centrumkyrkan.se
SUMMARY:Konfa
DESCRIPTION:Vi är i cafévåningen samt kyrksalen.
URL:https://www.centrumkyrkan.se/kalender-namn/konfa-18/
END:VEVENT
BEGIN:VEVENT
DTSTART;TZID=Europe/Stockholm:20240214T183000
DTEND;TZID=Europe/Stockholm:20240214T193000
DTSTAMP:20260423T001824
CREATED:20240111T084545Z
LAST-MODIFIED:20240111T084545Z
UID:5745-1707935400-1707939000@www.centrumkyrkan.se
SUMMARY:Inför Hans ansikte
DESCRIPTION:18.30.\nBönegudstjänst med nattvard.
URL:https://www.centrumkyrkan.se/kalender-namn/infor-hans-ansikte-44/
END:VEVENT
BEGIN:VEVENT
DTSTART;TZID=Europe/Stockholm:20240215T180000
DTEND;TZID=Europe/Stockholm:20240215T193000
DTSTAMP:20260423T001824
CREATED:20240118T132724Z
LAST-MODIFIED:20240125T144222Z
UID:5838-1708020000-1708025400@www.centrumkyrkan.se
SUMMARY:Samtalskväll
DESCRIPTION:18.00 – 19.30\nÖppen samtalskväll om tro och livsfrågor.
URL:https://www.centrumkyrkan.se/kalender-namn/samtalskvall-2/
END:VEVENT
BEGIN:VEVENT
DTSTART;TZID=Europe/Stockholm:20240217T100000
DTEND;TZID=Europe/Stockholm:20240217T120000
DTSTAMP:20260423T001824
CREATED:20231107T123726Z
LAST-MODIFIED:20231107T123726Z
UID:5464-1708164000-1708171200@www.centrumkyrkan.se
SUMMARY:Sopplunch
DESCRIPTION:
URL:https://www.centrumkyrkan.se/kalender-namn/sopplunch-108/
END:VEVENT
BEGIN:VEVENT
DTSTART;TZID=Europe/Stockholm:20240217T190000
DTEND;TZID=Europe/Stockholm:20240217T203000
DTSTAMP:20260423T001824
CREATED:20231228T090058Z
LAST-MODIFIED:20231228T090058Z
UID:5718-1708196400-1708201800@www.centrumkyrkan.se
SUMMARY:Lovsångskväll
DESCRIPTION:Kl. 19.00.
URL:https://www.centrumkyrkan.se/kalender-namn/lovsangskvall/
END:VEVENT
BEGIN:VEVENT
DTSTART;TZID=Europe/Stockholm:20240218T093000
DTEND;TZID=Europe/Stockholm:20240218T103000
DTSTAMP:20260423T001824
CREATED:20231218T091731Z
LAST-MODIFIED:20231218T091936Z
UID:5611-1708248600-1708252200@www.centrumkyrkan.se
SUMMARY:Frukost-bibelstudium
DESCRIPTION:9.30-10.30.\nFrukostbibelstudium med Peter Halldorf.\nSmörgås\, kaffe/te.
URL:https://www.centrumkyrkan.se/kalender-namn/frukostbibelstudium-5/
END:VEVENT
BEGIN:VEVENT
DTSTART;TZID=Europe/Stockholm:20240218T110000
DTEND;TZID=Europe/Stockholm:20240218T123000
DTSTAMP:20260423T001824
CREATED:20231031T132034Z
LAST-MODIFIED:20240102T112913Z
UID:5390-1708254000-1708259400@www.centrumkyrkan.se
SUMMARY:Gudstjänst
DESCRIPTION:11.00. ”Bön och fasta”.\nPredikan: Peter Halldorf.\nVi firar nattvard.
URL:https://www.centrumkyrkan.se/kalender-namn/gudstjanst-116/
END:VEVENT
BEGIN:VEVENT
DTSTART;TZID=Europe/Stockholm:20240220T173000
DTEND;TZID=Europe/Stockholm:20240220T190000
DTSTAMP:20260423T001824
CREATED:20231103T095043Z
LAST-MODIFIED:20231103T095043Z
UID:5437-1708450200-1708455600@www.centrumkyrkan.se
SUMMARY:Konfa
DESCRIPTION:Vi är i cafévåningen och kyrksalen.
URL:https://www.centrumkyrkan.se/kalender-namn/konfa-19/
END:VEVENT
BEGIN:VEVENT
DTSTART;TZID=Europe/Stockholm:20240222T180000
DTEND;TZID=Europe/Stockholm:20240222T193000
DTSTAMP:20260423T001824
CREATED:20240118T133225Z
LAST-MODIFIED:20240202T110945Z
UID:5843-1708624800-1708630200@www.centrumkyrkan.se
SUMMARY:Samtalskväll
DESCRIPTION:18.00 – 19.30.\nÖppen samtalskväll om tro och livsfrågor.
URL:https://www.centrumkyrkan.se/kalender-namn/samtalskvall-3/
END:VEVENT
BEGIN:VEVENT
DTSTART;TZID=Europe/Stockholm:20240223T190000
DTEND;TZID=Europe/Stockholm:20240223T220000
DTSTAMP:20260423T001824
CREATED:20240125T145242Z
LAST-MODIFIED:20240125T145242Z
UID:5869-1708714800-1708725600@www.centrumkyrkan.se
SUMMARY:SevenUp
DESCRIPTION:Kl. 19.00 och framåt.
URL:https://www.centrumkyrkan.se/kalender-namn/sevenup-3/
END:VEVENT
BEGIN:VEVENT
DTSTART;TZID=Europe/Stockholm:20240224T093000
DTEND;TZID=Europe/Stockholm:20240224T140000
DTSTAMP:20260423T001824
CREATED:20240216T085946Z
LAST-MODIFIED:20240216T085946Z
UID:5915-1708767000-1708783200@www.centrumkyrkan.se
SUMMARY:Fönsterfix i kyrksalen
DESCRIPTION:Kl. 9.30-14.00.\nVäl mött till några timmars fönsterfix i kyrksalen. Vi behöver täta fönstren.\nDet bjuds på fika och lunch.\nOBS! Tiden är enligt ovan\, inget annat.
URL:https://www.centrumkyrkan.se/kalender-namn/fonsterfix-i-kyrksalen/
END:VEVENT
BEGIN:VEVENT
DTSTART;TZID=Europe/Stockholm:20240224T100000
DTEND;TZID=Europe/Stockholm:20240224T120000
DTSTAMP:20260423T001824
CREATED:20231107T123812Z
LAST-MODIFIED:20231107T123812Z
UID:5466-1708768800-1708776000@www.centrumkyrkan.se
SUMMARY:Sopplunch
DESCRIPTION:
URL:https://www.centrumkyrkan.se/kalender-namn/sopplunch-109/
END:VEVENT
BEGIN:VEVENT
DTSTART;TZID=Europe/Stockholm:20240225T110000
DTEND;TZID=Europe/Stockholm:20240225T123000
DTSTAMP:20260423T001824
CREATED:20231031T132317Z
LAST-MODIFIED:20240221T131815Z
UID:5393-1708858800-1708864200@www.centrumkyrkan.se
SUMMARY:Gudstjänst
DESCRIPTION:11.00. ”Den kämpande tron”.\nPredikan: Sune Nordin.
URL:https://www.centrumkyrkan.se/kalender-namn/gudstjanst-117/
END:VEVENT
BEGIN:VEVENT
DTSTART;TZID=Europe/Stockholm:20240227T100000
DTEND;TZID=Europe/Stockholm:20240227T130000
DTSTAMP:20260423T001824
CREATED:20240216T090210Z
LAST-MODIFIED:20240216T090210Z
UID:5917-1709028000-1709038800@www.centrumkyrkan.se
SUMMARY:Städ och fix!
DESCRIPTION:Kl. 10-13.\nVälkommen några timmar till arbetsgemenskap i vår fina kyrka!\nSjälvklart bjuds det på fika! \n 
URL:https://www.centrumkyrkan.se/kalender-namn/stad-och-fix/
END:VEVENT
BEGIN:VEVENT
DTSTART;TZID=Europe/Stockholm:20240228T183000
DTEND;TZID=Europe/Stockholm:20240228T193000
DTSTAMP:20260423T001824
CREATED:20240111T085342Z
LAST-MODIFIED:20240111T085525Z
UID:5747-1709145000-1709148600@www.centrumkyrkan.se
SUMMARY:Inför Hans ansikte
DESCRIPTION:18.30.\nBönegudstjänst med nattvard.
URL:https://www.centrumkyrkan.se/kalender-namn/infor-hans-ansikte-45/
END:VEVENT
BEGIN:VEVENT
DTSTART;TZID=Europe/Stockholm:20240229T180000
DTEND;TZID=Europe/Stockholm:20240229T193000
DTSTAMP:20260423T001824
CREATED:20240118T133348Z
LAST-MODIFIED:20240202T112231Z
UID:5845-1709229600-1709235000@www.centrumkyrkan.se
SUMMARY:Samtalskväll
DESCRIPTION:18.00 – 19.30.\nÖppen samtalskväll om tro och livsfrågor.
URL:https://www.centrumkyrkan.se/kalender-namn/samtalskvall-4/
END:VEVENT
BEGIN:VEVENT
DTSTART;TZID=Europe/Stockholm:20240302T100000
DTEND;TZID=Europe/Stockholm:20240302T120000
DTSTAMP:20260423T001824
CREATED:20231107T123907Z
LAST-MODIFIED:20231107T123907Z
UID:5468-1709373600-1709380800@www.centrumkyrkan.se
SUMMARY:Sopplunch
DESCRIPTION:
URL:https://www.centrumkyrkan.se/kalender-namn/sopplunch-110/
END:VEVENT
BEGIN:VEVENT
DTSTART;TZID=Europe/Stockholm:20240303T110000
DTEND;TZID=Europe/Stockholm:20240303T123000
DTSTAMP:20260423T001824
CREATED:20231031T132609Z
LAST-MODIFIED:20240221T131948Z
UID:5395-1709463600-1709469000@www.centrumkyrkan.se
SUMMARY:Gudstjänst
DESCRIPTION:11.00. ”Kampen mot ondskan”.\nPredikan: Malin Aronsson.\nVi firar nattvard.
URL:https://www.centrumkyrkan.se/kalender-namn/gudstjanst-118/
END:VEVENT
BEGIN:VEVENT
DTSTART;TZID=Europe/Stockholm:20240305T173000
DTEND;TZID=Europe/Stockholm:20240305T190000
DTSTAMP:20260423T001824
CREATED:20231103T095323Z
LAST-MODIFIED:20231103T095323Z
UID:5441-1709659800-1709665200@www.centrumkyrkan.se
SUMMARY:Konfa
DESCRIPTION:Vi är i cafévåningen samt kyrksalen.
URL:https://www.centrumkyrkan.se/kalender-namn/konfa-20/
END:VEVENT
BEGIN:VEVENT
DTSTART;TZID=Europe/Stockholm:20240307T180000
DTEND;TZID=Europe/Stockholm:20240307T193000
DTSTAMP:20260423T001824
CREATED:20240118T133902Z
LAST-MODIFIED:20240221T132623Z
UID:5851-1709834400-1709839800@www.centrumkyrkan.se
SUMMARY:Samtalskväll
DESCRIPTION:Samtalskväll om tro och livsfrågor.\n18.00 – 19.30.\nMalin Aronsson och Sune Nordin leder.
URL:https://www.centrumkyrkan.se/kalender-namn/tjejkvall/
END:VEVENT
BEGIN:VEVENT
DTSTART;TZID=Europe/Stockholm:20240308T190000
DTEND;TZID=Europe/Stockholm:20240308T220000
DTSTAMP:20260423T001824
CREATED:20240305T091423Z
LAST-MODIFIED:20240305T091423Z
UID:5971-1709924400-1709935200@www.centrumkyrkan.se
SUMMARY:Sevenup!
DESCRIPTION:Kl. 19.00.
URL:https://www.centrumkyrkan.se/kalender-namn/sevenup-5/
END:VEVENT
BEGIN:VEVENT
DTSTART;TZID=Europe/Stockholm:20240309T100000
DTEND;TZID=Europe/Stockholm:20240309T120000
DTSTAMP:20260423T001824
CREATED:20231107T124026Z
LAST-MODIFIED:20231107T124026Z
UID:5470-1709978400-1709985600@www.centrumkyrkan.se
SUMMARY:Sopplunch
DESCRIPTION:
URL:https://www.centrumkyrkan.se/kalender-namn/sopplunch-111/
END:VEVENT
BEGIN:VEVENT
DTSTART;TZID=Europe/Stockholm:20240310T080000
DTEND;TZID=Europe/Stockholm:20240310T133000
DTSTAMP:20260423T001824
CREATED:20231031T132757Z
LAST-MODIFIED:20240221T132103Z
UID:5397-1710057600-1710077400@www.centrumkyrkan.se
SUMMARY:Gudstjänst
DESCRIPTION:11.00. ”Livets bröd”.\nPredikan: Maja Folkesson.
URL:https://www.centrumkyrkan.se/kalender-namn/gudstjanst-119/
END:VEVENT
BEGIN:VEVENT
DTSTART;TZID=Europe/Stockholm:20240312T173000
DTEND;TZID=Europe/Stockholm:20240312T190000
DTSTAMP:20260423T001824
CREATED:20231103T095432Z
LAST-MODIFIED:20231103T095432Z
UID:5443-1710264600-1710270000@www.centrumkyrkan.se
SUMMARY:Konfa
DESCRIPTION:Vi är i cafévåningen samt kyrksalen.
URL:https://www.centrumkyrkan.se/kalender-namn/konfa-21/
END:VEVENT
BEGIN:VEVENT
DTSTART;TZID=Europe/Stockholm:20240313T183000
DTEND;TZID=Europe/Stockholm:20240313T193000
DTSTAMP:20260423T001824
CREATED:20240111T085642Z
LAST-MODIFIED:20240111T085642Z
UID:5750-1710354600-1710358200@www.centrumkyrkan.se
SUMMARY:Inför Hans ansikte
DESCRIPTION:18.30-19.30.\nBönegudstjänst med nattvard.
URL:https://www.centrumkyrkan.se/kalender-namn/infor-hans-ansikte-46/
END:VEVENT
BEGIN:VEVENT
DTSTART;TZID=Europe/Stockholm:20240314T183000
DTEND;TZID=Europe/Stockholm:20240314T210000
DTSTAMP:20260423T001824
CREATED:20240118T133452Z
LAST-MODIFIED:20240314T130130Z
UID:5847-1710441000-1710450000@www.centrumkyrkan.se
SUMMARY:Tjej-och kvinnokväll!
DESCRIPTION:18.30 – 21.00.\nTjej- och kvinnokväll för alla åldrar.\nMalin Aronsson leder.\nDet blir libanesisk buffé. Kostnad 100 kr/pers.\nStudent/ungdom 50 kr/pers.
URL:https://www.centrumkyrkan.se/kalender-namn/samtalskvall-5/
END:VEVENT
BEGIN:VEVENT
DTSTART;TZID=Europe/Stockholm:20240315T183000
DTEND;TZID=Europe/Stockholm:20240315T210000
DTSTAMP:20260423T001824
CREATED:20240102T115145Z
LAST-MODIFIED:20240125T143016Z
UID:5735-1710527400-1710536400@www.centrumkyrkan.se
SUMMARY:Musikfest - CK-Ukraina
DESCRIPTION:18.30-21.00.
URL:https://www.centrumkyrkan.se/kalender-namn/musikfest-ck-ukraina-3/
END:VEVENT
BEGIN:VEVENT
DTSTART;TZID=Europe/Stockholm:20240316T100000
DTEND;TZID=Europe/Stockholm:20240316T120000
DTSTAMP:20260423T001824
CREATED:20231107T124109Z
LAST-MODIFIED:20231107T124109Z
UID:5472-1710583200-1710590400@www.centrumkyrkan.se
SUMMARY:Sopplunch
DESCRIPTION:
URL:https://www.centrumkyrkan.se/kalender-namn/sopplunch-112/
END:VEVENT
END:VCALENDAR