BEGIN:VCALENDAR
VERSION:2.0
PRODID:-//Centrumkyrkan i Sundbyberg - ECPv6.15.20//NONSGML v1.0//EN
CALSCALE:GREGORIAN
METHOD:PUBLISH
X-ORIGINAL-URL:https://www.centrumkyrkan.se
X-WR-CALDESC:Händelser för Centrumkyrkan i Sundbyberg
REFRESH-INTERVAL;VALUE=DURATION:PT1H
X-Robots-Tag:noindex
X-PUBLISHED-TTL:PT1H
BEGIN:VTIMEZONE
TZID:Europe/Stockholm
BEGIN:DAYLIGHT
TZOFFSETFROM:+0100
TZOFFSETTO:+0200
TZNAME:CEST
DTSTART:20210328T010000
END:DAYLIGHT
BEGIN:STANDARD
TZOFFSETFROM:+0200
TZOFFSETTO:+0100
TZNAME:CET
DTSTART:20211031T010000
END:STANDARD
BEGIN:DAYLIGHT
TZOFFSETFROM:+0100
TZOFFSETTO:+0200
TZNAME:CEST
DTSTART:20220327T010000
END:DAYLIGHT
BEGIN:STANDARD
TZOFFSETFROM:+0200
TZOFFSETTO:+0100
TZNAME:CET
DTSTART:20221030T010000
END:STANDARD
BEGIN:DAYLIGHT
TZOFFSETFROM:+0100
TZOFFSETTO:+0200
TZNAME:CEST
DTSTART:20230326T010000
END:DAYLIGHT
BEGIN:STANDARD
TZOFFSETFROM:+0200
TZOFFSETTO:+0100
TZNAME:CET
DTSTART:20231029T010000
END:STANDARD
END:VTIMEZONE
BEGIN:VEVENT
DTSTART;TZID=Europe/Stockholm:20220423T100000
DTEND;TZID=Europe/Stockholm:20220423T120000
DTSTAMP:20260424T175207
CREATED:20220222T104932Z
LAST-MODIFIED:20220222T104932Z
UID:3612-1650708000-1650715200@www.centrumkyrkan.se
SUMMARY:Sopplunch
DESCRIPTION:En skål värmande soppa för den som behöver!\nVarmt välkommen!
URL:https://www.centrumkyrkan.se/kalender-namn/sopplunch-41/
LOCATION:Centrumkyrkan i Sundbyberg\, Prästgårdsgatan 13\, Sundbyberg\, 17268
ORGANIZER;CN="Centrumkyrkan i Sundbyberg":MAILTO:info@centrumkyrkan.se
END:VEVENT
BEGIN:VEVENT
DTSTART;TZID=Europe/Stockholm:20220424T110000
DTEND;TZID=Europe/Stockholm:20220424T123000
DTSTAMP:20260424T175207
CREATED:20220314T132040Z
LAST-MODIFIED:20220314T132040Z
UID:3674-1650798000-1650803400@www.centrumkyrkan.se
SUMMARY:Gudstjänst
DESCRIPTION:”Påskens vittnen”\nPredikan: Gäst\nMusik:
URL:https://www.centrumkyrkan.se/kalender-namn/gudstjanst-33/
LOCATION:Centrumkyrkan i Sundbyberg\, Prästgårdsgatan 13\, Sundbyberg\, 17268
END:VEVENT
BEGIN:VEVENT
DTSTART;TZID=Europe/Stockholm:20220427T183000
DTEND;TZID=Europe/Stockholm:20220427T193000
DTSTAMP:20260424T175207
CREATED:20220308T104506Z
LAST-MODIFIED:20220308T104506Z
UID:3653-1651084200-1651087800@www.centrumkyrkan.se
SUMMARY:Inför Hans ansikte
DESCRIPTION:Bön-och nattvardsgudstjänst
URL:https://www.centrumkyrkan.se/kalender-namn/infor-hans-ansikte-16/
LOCATION:Centrumkyrkan i Sundbyberg\, Prästgårdsgatan 13\, Sundbyberg\, 17268
ORGANIZER;CN="Centrumkyrkan i Sundbyberg":MAILTO:info@centrumkyrkan.se
END:VEVENT
BEGIN:VEVENT
DTSTART;TZID=Europe/Stockholm:20220429T190000
DTEND;TZID=Europe/Stockholm:20220429T213000
DTSTAMP:20260424T175207
CREATED:20220404T071807Z
LAST-MODIFIED:20220404T072952Z
UID:3734-1651258800-1651267800@www.centrumkyrkan.se
SUMMARY:CK-Tillsammans!
DESCRIPTION:CK-Tillsammans! En gemenskapskväll för alla åldrar med kören By Grace som gäster.\nMusik\, sång\, snack\, snacks och fin gemenskap! Mer info kommer.\n19.00 Centrumkyrkan Sundbyberg. Välkommen!
URL:https://www.centrumkyrkan.se/kalender-namn/ck-tillsammans-3/
LOCATION:Centrumkyrkan i Sundbyberg\, Prästgårdsgatan 13\, Sundbyberg\, 17268
ORGANIZER;CN="Centrumkyrkan i Sundbyberg":MAILTO:info@centrumkyrkan.se
END:VEVENT
BEGIN:VEVENT
DTSTART;TZID=Europe/Stockholm:20220430T100000
DTEND;TZID=Europe/Stockholm:20220430T120000
DTSTAMP:20260424T175207
CREATED:20220222T105307Z
LAST-MODIFIED:20220222T105307Z
UID:3614-1651312800-1651320000@www.centrumkyrkan.se
SUMMARY:Sopplunch
DESCRIPTION:En skål värmande soppa för den som behöver!\nVarmt välkommen!
URL:https://www.centrumkyrkan.se/kalender-namn/sopplunch-42/
LOCATION:Centrumkyrkan i Sundbyberg\, Prästgårdsgatan 13\, Sundbyberg\, 17268
ORGANIZER;CN="Centrumkyrkan i Sundbyberg":MAILTO:info@centrumkyrkan.se
END:VEVENT
BEGIN:VEVENT
DTSTART;TZID=Europe/Stockholm:20220501T110000
DTEND;TZID=Europe/Stockholm:20220501T123000
DTSTAMP:20260424T175207
CREATED:20220314T132251Z
LAST-MODIFIED:20220314T132251Z
UID:3676-1651402800-1651408200@www.centrumkyrkan.se
SUMMARY:Gudstjänst
DESCRIPTION:”Den gode Herden”\nPredikan: Erik Valier\nMusik:
URL:https://www.centrumkyrkan.se/kalender-namn/gudstjanst-34/
LOCATION:Centrumkyrkan i Sundbyberg\, Prästgårdsgatan 13\, Sundbyberg\, 17268
END:VEVENT
BEGIN:VEVENT
DTSTART;VALUE=DATE:20220506
DTEND;VALUE=DATE:20220509
DTSTAMP:20260424T175207
CREATED:20220225T090444Z
LAST-MODIFIED:20220225T090444Z
UID:3635-1651795200-1652054399@www.centrumkyrkan.se
SUMMARY:Retreathelg Björkögården
DESCRIPTION:Föranmälda till Retreathelg på Björkögården\, 6-8 maj\nMer info: bertil@centrumkyrkan.se
URL:https://www.centrumkyrkan.se/kalender-namn/retreathelg-bjorkogarden/
ORGANIZER;CN="Centrumkyrkan i Sundbyberg":MAILTO:info@centrumkyrkan.se
END:VEVENT
BEGIN:VEVENT
DTSTART;TZID=Europe/Stockholm:20220507T100000
DTEND;TZID=Europe/Stockholm:20220507T120000
DTSTAMP:20260424T175207
CREATED:20220505T121400Z
LAST-MODIFIED:20220505T121401Z
UID:3762-1651917600-1651924800@www.centrumkyrkan.se
SUMMARY:Sopplunch
DESCRIPTION:En skål värmande soppa för den som behöver!\nVarmt välkommen!
URL:https://www.centrumkyrkan.se/kalender-namn/sopplunch-43/
LOCATION:Centrumkyrkan i Sundbyberg\, Prästgårdsgatan 13\, Sundbyberg\, 17268
END:VEVENT
BEGIN:VEVENT
DTSTART;TZID=Europe/Stockholm:20220508T110000
DTEND;TZID=Europe/Stockholm:20220508T123000
DTSTAMP:20260424T175207
CREATED:20220314T132524Z
LAST-MODIFIED:20220505T113722Z
UID:3678-1652007600-1652013000@www.centrumkyrkan.se
SUMMARY:Gudstjänst
DESCRIPTION:”Vägen till Livet”\nPredikan: Beryl Lindeman\nKör: Laudes under ledning av Per-Henrik Holgersson
URL:https://www.centrumkyrkan.se/kalender-namn/gudstjanst-35/
LOCATION:Centrumkyrkan i Sundbyberg\, Prästgårdsgatan 13\, Sundbyberg\, 17268
END:VEVENT
BEGIN:VEVENT
DTSTART;TZID=Europe/Stockholm:20220511T183000
DTEND;TZID=Europe/Stockholm:20220511T193000
DTSTAMP:20260424T175207
CREATED:20220505T114453Z
LAST-MODIFIED:20220505T114453Z
UID:3754-1652293800-1652297400@www.centrumkyrkan.se
SUMMARY:Inför Hans Ansikte
DESCRIPTION:18.30-19.30\nBön- och nattvardsstund
URL:https://www.centrumkyrkan.se/kalender-namn/infor-hans-ansikte-17/
LOCATION:Centrumkyrkan i Sundbyberg\, Prästgårdsgatan 13\, Sundbyberg\, 17268
ORGANIZER;CN="Centrumkyrkan i Sundbyberg":MAILTO:info@centrumkyrkan.se
END:VEVENT
BEGIN:VEVENT
DTSTART;TZID=Europe/Stockholm:20220514T100000
DTEND;TZID=Europe/Stockholm:20220514T120000
DTSTAMP:20260424T175207
CREATED:20220505T121714Z
LAST-MODIFIED:20220505T121714Z
UID:3764-1652522400-1652529600@www.centrumkyrkan.se
SUMMARY:Sopplunch
DESCRIPTION:En värmande skål soppa för den som behöver!\nVarmt välkomna!
URL:https://www.centrumkyrkan.se/kalender-namn/sopplunch-44/
LOCATION:Centrumkyrkan i Sundbyberg\, Prästgårdsgatan 13\, Sundbyberg\, 17268
END:VEVENT
BEGIN:VEVENT
DTSTART;TZID=Europe/Stockholm:20220515T110000
DTEND;TZID=Europe/Stockholm:20220515T123000
DTSTAMP:20260424T175207
CREATED:20220314T132809Z
LAST-MODIFIED:20220505T114027Z
UID:3680-1652612400-1652617800@www.centrumkyrkan.se
SUMMARY:Gudstjänst
DESCRIPTION:”Att växa i tro”\nPredikan: Malin Aronsson\nMusik: Siri Klinth
URL:https://www.centrumkyrkan.se/kalender-namn/gudstjanst-36/
LOCATION:Centrumkyrkan i Sundbyberg\, Prästgårdsgatan 13\, Sundbyberg\, 17268
END:VEVENT
BEGIN:VEVENT
DTSTART;TZID=Europe/Stockholm:20220518T120000
DTEND;TZID=Europe/Stockholm:20220518T133000
DTSTAMP:20260424T175207
CREATED:20220505T120633Z
LAST-MODIFIED:20220505T120633Z
UID:3758-1652875200-1652880600@www.centrumkyrkan.se
SUMMARY:Bibelstudium
DESCRIPTION:12.00 Bibelstudium för daglediga.\nVälkomna!
URL:https://www.centrumkyrkan.se/kalender-namn/bibelstudium-10/
LOCATION:Centrumkyrkan i Sundbyberg\, Prästgårdsgatan 13\, Sundbyberg\, 17268
ORGANIZER;CN="Centrumkyrkan i Sundbyberg":MAILTO:info@centrumkyrkan.se
END:VEVENT
BEGIN:VEVENT
DTSTART;TZID=Europe/Stockholm:20220521T100000
DTEND;TZID=Europe/Stockholm:20220521T120000
DTSTAMP:20260424T175207
CREATED:20220505T121852Z
LAST-MODIFIED:20220505T121852Z
UID:3766-1653127200-1653134400@www.centrumkyrkan.se
SUMMARY:Sopplunch
DESCRIPTION:En värmande skål soppa för den som behöver!
URL:https://www.centrumkyrkan.se/kalender-namn/sopplunch-45/
LOCATION:Centrumkyrkan i Sundbyberg\, Prästgårdsgatan 13\, Sundbyberg\, 17268
END:VEVENT
BEGIN:VEVENT
DTSTART;TZID=Europe/Stockholm:20220521T150000
DTEND;TZID=Europe/Stockholm:20220521T163000
DTSTAMP:20260424T175207
CREATED:20220505T124121Z
LAST-MODIFIED:20220505T124121Z
UID:3774-1653145200-1653150600@www.centrumkyrkan.se
SUMMARY:Vårkonsert "Hela kyrkan sjunger och spelar"
DESCRIPTION:Vårkonsert\n”Hela kyrkan sjunger & spelar”\nmed blockflöjtselever och ensembler\nunder ledning av Heidi Rohlin Westin och Gun Magnusson på piano\nArrangeras av Heidis Musikskola i samarbete med Centrumkyrkan och Studieförbundet BILDA
URL:https://www.centrumkyrkan.se/kalender-namn/varkonsert-hela-kyrkan-sjunger-och-spelar/
LOCATION:Centrumkyrkan i Sundbyberg\, Prästgårdsgatan 13\, Sundbyberg\, 17268
END:VEVENT
BEGIN:VEVENT
DTSTART;TZID=Europe/Stockholm:20220521T173000
DTEND;TZID=Europe/Stockholm:20220521T190000
DTSTAMP:20260424T175207
CREATED:20220505T124446Z
LAST-MODIFIED:20220505T124446Z
UID:3776-1653154200-1653159600@www.centrumkyrkan.se
SUMMARY:Solistkonsert Idita Balks -blockflöjter
DESCRIPTION:Solistkonsert Idita Balks- blockflöjter\nunder ledning av Heidi Rohlin Westin\nI samarbete med Centrumkyrkan och BILDA
URL:https://www.centrumkyrkan.se/kalender-namn/solistkonsert-idita-balks-blockflojter/
LOCATION:Centrumkyrkan i Sundbyberg\, Prästgårdsgatan 13\, Sundbyberg\, 17268
END:VEVENT
BEGIN:VEVENT
DTSTART;TZID=Europe/Stockholm:20220522T110000
DTEND;TZID=Europe/Stockholm:20220522T123000
DTSTAMP:20260424T175207
CREATED:20220314T133053Z
LAST-MODIFIED:20220505T122153Z
UID:3682-1653217200-1653222600@www.centrumkyrkan.se
SUMMARY:Gudstjänst
DESCRIPTION:”Bönen”\nPredikan: Bertil Edin\nMusik: Lotta Klinth & Therese Hedlund
URL:https://www.centrumkyrkan.se/kalender-namn/gudstjanst-37/
LOCATION:Centrumkyrkan i Sundbyberg\, Prästgårdsgatan 13\, Sundbyberg\, 17268
END:VEVENT
BEGIN:VEVENT
DTSTART;TZID=Europe/Stockholm:20220525T183000
DTEND;TZID=Europe/Stockholm:20220525T193000
DTSTAMP:20260424T175207
CREATED:20220505T114757Z
LAST-MODIFIED:20220505T114757Z
UID:3756-1653503400-1653507000@www.centrumkyrkan.se
SUMMARY:Inför Hans Ansikte
DESCRIPTION:18.30-19.30\nBön-och nattvardsstund
URL:https://www.centrumkyrkan.se/kalender-namn/infor-hans-ansikte-18/
LOCATION:Centrumkyrkan i Sundbyberg\, Prästgårdsgatan 13\, Sundbyberg\, 17268
ORGANIZER;CN="Centrumkyrkan i Sundbyberg":MAILTO:info@centrumkyrkan.se
END:VEVENT
BEGIN:VEVENT
DTSTART;TZID=Europe/Stockholm:20220526T000000
DTEND;TZID=Europe/Stockholm:20220526T000000
DTSTAMP:20260424T175207
CREATED:20220314T133423Z
LAST-MODIFIED:20220505T121059Z
UID:3684-1653523200-1653523200@www.centrumkyrkan.se
SUMMARY:Pilgrimsvandring Björnö
DESCRIPTION:Kristi Himmelsfärds dag\nPilgrimsvandring Björnö\, Värmdö.\nMer info kommer! Håll utkik!
URL:https://www.centrumkyrkan.se/kalender-namn/gudstjanst-38/
ORGANIZER;CN="Centrumkyrkan i Sundbyberg":MAILTO:info@centrumkyrkan.se
END:VEVENT
BEGIN:VEVENT
DTSTART;TZID=Europe/Stockholm:20220528T100000
DTEND;TZID=Europe/Stockholm:20220528T120000
DTSTAMP:20260424T175207
CREATED:20220505T122028Z
LAST-MODIFIED:20220505T122028Z
UID:3768-1653732000-1653739200@www.centrumkyrkan.se
SUMMARY:Sopplunch
DESCRIPTION:En värmande skål soppa för den som behöver!\nVarmt välkommen!
URL:https://www.centrumkyrkan.se/kalender-namn/sopplunch-46/
LOCATION:Centrumkyrkan i Sundbyberg\, Prästgårdsgatan 13\, Sundbyberg\, 17268
END:VEVENT
BEGIN:VEVENT
DTSTART;TZID=Europe/Stockholm:20220529T110000
DTEND;TZID=Europe/Stockholm:20220529T123000
DTSTAMP:20260424T175207
CREATED:20220314T133620Z
LAST-MODIFIED:20220512T113108Z
UID:3686-1653822000-1653827400@www.centrumkyrkan.se
SUMMARY:Gudstjänst
DESCRIPTION:”Hjälparen kommer”\nPredikan: Bertil Edin\nMusik:
URL:https://www.centrumkyrkan.se/kalender-namn/gudstjanst-39/
LOCATION:Centrumkyrkan i Sundbyberg\, Prästgårdsgatan 13\, Sundbyberg\, 17268
END:VEVENT
BEGIN:VEVENT
DTSTART;TZID=Europe/Stockholm:20220604T100000
DTEND;TZID=Europe/Stockholm:20220604T120000
DTSTAMP:20260424T175207
CREATED:20220505T122637Z
LAST-MODIFIED:20220505T122637Z
UID:3772-1654336800-1654344000@www.centrumkyrkan.se
SUMMARY:Sopplunch
DESCRIPTION:En värmande skål soppa för den som behöver!\nVarmt välkommen!
URL:https://www.centrumkyrkan.se/kalender-namn/sopplunch-47/
LOCATION:Centrumkyrkan i Sundbyberg\, Prästgårdsgatan 13\, Sundbyberg\, 17268
END:VEVENT
BEGIN:VEVENT
DTSTART;TZID=Europe/Stockholm:20220605T110000
DTEND;TZID=Europe/Stockholm:20220605T123000
DTSTAMP:20260424T175207
CREATED:20220314T133916Z
LAST-MODIFIED:20220505T124819Z
UID:3688-1654426800-1654432200@www.centrumkyrkan.se
SUMMARY:Gudstjänst Pingstdagen
DESCRIPTION:Konfirmationshögtid\n”Den heliga Anden”\nPredikan: Konfirmanderna\nMalin Aronsson/ Erik Valier\nMusik: Siri Klinth
URL:https://www.centrumkyrkan.se/kalender-namn/konfirmationsgudstjanst/
LOCATION:Centrumkyrkan i Sundbyberg\, Prästgårdsgatan 13\, Sundbyberg\, 17268
END:VEVENT
BEGIN:VEVENT
DTSTART;TZID=Europe/Stockholm:20220611T100000
DTEND;TZID=Europe/Stockholm:20220611T120000
DTSTAMP:20260424T175207
CREATED:20220505T125512Z
LAST-MODIFIED:20220505T125512Z
UID:3780-1654941600-1654948800@www.centrumkyrkan.se
SUMMARY:Sopplunch
DESCRIPTION:En skål med värmande soppa för den som behöver!\nVarmt välkommen!
URL:https://www.centrumkyrkan.se/kalender-namn/sopplunch-48/
LOCATION:Centrumkyrkan i Sundbyberg\, Prästgårdsgatan 13\, Sundbyberg\, 17268
END:VEVENT
BEGIN:VEVENT
DTSTART;TZID=Europe/Stockholm:20220612T110000
DTEND;TZID=Europe/Stockholm:20220612T123000
DTSTAMP:20260424T175207
CREATED:20220314T134210Z
LAST-MODIFIED:20220314T134210Z
UID:3690-1655031600-1655037000@www.centrumkyrkan.se
SUMMARY:Gudstjänst
DESCRIPTION:”Herre över allting”\nPredikan: Malin Aronsson\nMusik:
URL:https://www.centrumkyrkan.se/kalender-namn/gudstjanst-40/
LOCATION:Centrumkyrkan i Sundbyberg\, Prästgårdsgatan 13\, Sundbyberg\, 17268
END:VEVENT
BEGIN:VEVENT
DTSTART;TZID=Europe/Stockholm:20220618T100000
DTEND;TZID=Europe/Stockholm:20220618T120000
DTSTAMP:20260424T175207
CREATED:20220505T125841Z
LAST-MODIFIED:20220505T125841Z
UID:3782-1655546400-1655553600@www.centrumkyrkan.se
SUMMARY:Sopplunch
DESCRIPTION:En värmande skål soppa för den som behöver!\nVarmt välkommen!
URL:https://www.centrumkyrkan.se/kalender-namn/sopplunch-49/
LOCATION:Centrumkyrkan i Sundbyberg\, Prästgårdsgatan 13\, Sundbyberg\, 17268
END:VEVENT
BEGIN:VEVENT
DTSTART;TZID=Europe/Stockholm:20220619T110000
DTEND;TZID=Europe/Stockholm:20220619T123000
DTSTAMP:20260424T175207
CREATED:20220314T134441Z
LAST-MODIFIED:20220616T124628Z
UID:3692-1655636400-1655641800@www.centrumkyrkan.se
SUMMARY:Gudstjänst
DESCRIPTION:”Vårt dop” Gemensam gudstjänst med arabisktalande och fransktalande grupperna\nPredikan: Merzek Botros\, Doudou Mangwanda\, Bertil Edin\nMusik: Gemensam lovsång på olika språk!\n12.30 Församlingsmöte i kyrksalen efter kortare mingelfika.
URL:https://www.centrumkyrkan.se/kalender-namn/gudstjanst-41/
LOCATION:Centrumkyrkan i Sundbyberg\, Prästgårdsgatan 13\, Sundbyberg\, 17268
END:VEVENT
BEGIN:VEVENT
DTSTART;TZID=Europe/Stockholm:20220619T123000
DTEND;TZID=Europe/Stockholm:20220619T133000
DTSTAMP:20260424T175207
CREATED:20220616T132829Z
LAST-MODIFIED:20220616T132829Z
UID:3839-1655641800-1655645400@www.centrumkyrkan.se
SUMMARY:Församlingsmöte 12.30
DESCRIPTION:Församlingsmöte direkt efter gudstjänst och mingelfika kl 12.30\nVarmt välkommen!
URL:https://www.centrumkyrkan.se/kalender-namn/forsamlingsmote-12-30/
LOCATION:Centrumkyrkan i Sundbyberg\, Prästgårdsgatan 13\, Sundbyberg\, 17268
END:VEVENT
BEGIN:VEVENT
DTSTART;TZID=Europe/Stockholm:20220626T110000
DTEND;TZID=Europe/Stockholm:20220626T123000
DTSTAMP:20260424T175207
CREATED:20220314T134750Z
LAST-MODIFIED:20220616T125007Z
UID:3694-1656241200-1656246600@www.centrumkyrkan.se
SUMMARY:Gudstjänst
DESCRIPTION:”Den högstes profet”\nEkumenisk gudstjänst med Svenska kyrkan och Rissnekyrkan\nPredikan Anna-Karin Klingsbo\nMusik: Elise Nestor
URL:https://www.centrumkyrkan.se/kalender-namn/gudstjanst-42/
LOCATION:Centrumkyrkan i Sundbyberg\, Prästgårdsgatan 13\, Sundbyberg\, 17268
END:VEVENT
BEGIN:VEVENT
DTSTART;TZID=Europe/Stockholm:20220703T110000
DTEND;TZID=Europe/Stockholm:20220703T123000
DTSTAMP:20260424T175207
CREATED:20220616T122233Z
LAST-MODIFIED:20220616T125157Z
UID:3811-1656846000-1656851400@www.centrumkyrkan.se
SUMMARY:Sommargudstjänst
DESCRIPTION:Predikan Anders Holmberg\nMusik Lotta Klinth
URL:https://www.centrumkyrkan.se/kalender-namn/sommargudstjanst/
LOCATION:Centrumkyrkan i Sundbyberg\, Prästgårdsgatan 13\, Sundbyberg\, 17268
END:VEVENT
END:VCALENDAR