BEGIN:VCALENDAR
VERSION:2.0
PRODID:-//Centrumkyrkan i Sundbyberg - ECPv6.15.20//NONSGML v1.0//EN
CALSCALE:GREGORIAN
METHOD:PUBLISH
X-ORIGINAL-URL:https://www.centrumkyrkan.se
X-WR-CALDESC:Händelser för Centrumkyrkan i Sundbyberg
REFRESH-INTERVAL;VALUE=DURATION:PT1H
X-Robots-Tag:noindex
X-PUBLISHED-TTL:PT1H
BEGIN:VTIMEZONE
TZID:Europe/Stockholm
BEGIN:DAYLIGHT
TZOFFSETFROM:+0100
TZOFFSETTO:+0200
TZNAME:CEST
DTSTART:20210328T010000
END:DAYLIGHT
BEGIN:STANDARD
TZOFFSETFROM:+0200
TZOFFSETTO:+0100
TZNAME:CET
DTSTART:20211031T010000
END:STANDARD
BEGIN:DAYLIGHT
TZOFFSETFROM:+0100
TZOFFSETTO:+0200
TZNAME:CEST
DTSTART:20220327T010000
END:DAYLIGHT
BEGIN:STANDARD
TZOFFSETFROM:+0200
TZOFFSETTO:+0100
TZNAME:CET
DTSTART:20221030T010000
END:STANDARD
BEGIN:DAYLIGHT
TZOFFSETFROM:+0100
TZOFFSETTO:+0200
TZNAME:CEST
DTSTART:20230326T010000
END:DAYLIGHT
BEGIN:STANDARD
TZOFFSETFROM:+0200
TZOFFSETTO:+0100
TZNAME:CET
DTSTART:20231029T010000
END:STANDARD
END:VTIMEZONE
BEGIN:VEVENT
DTSTART;TZID=Europe/Stockholm:20220312T100000
DTEND;TZID=Europe/Stockholm:20220312T120000
DTSTAMP:20260424T154212
CREATED:20220214T134045Z
LAST-MODIFIED:20220214T134045Z
UID:3591-1647079200-1647086400@www.centrumkyrkan.se
SUMMARY:Sopplunch
DESCRIPTION:En värmande skål soppa för den som behöver!\nVarmt välkommen!
URL:https://www.centrumkyrkan.se/kalender-namn/sopplunch-35/
LOCATION:Centrumkyrkan i Sundbyberg\, Prästgårdsgatan 13\, Sundbyberg\, 17268
ORGANIZER;CN="Centrumkyrkan i Sundbyberg":MAILTO:info@centrumkyrkan.se
END:VEVENT
BEGIN:VEVENT
DTSTART;TZID=Europe/Stockholm:20220313T110000
DTEND;TZID=Europe/Stockholm:20220313T123000
DTSTAMP:20260424T154212
CREATED:20220209T103819Z
LAST-MODIFIED:20220222T102209Z
UID:3564-1647169200-1647174600@www.centrumkyrkan.se
SUMMARY:Gudstjänst
DESCRIPTION:”Den kämpande tron”\nPredikan: Bertil Edin\nMusik: Jeanette & Titti
URL:https://www.centrumkyrkan.se/kalender-namn/gudstjanst-27/
ORGANIZER;CN="Centrumkyrkan i Sundbyberg":MAILTO:info@centrumkyrkan.se
END:VEVENT
BEGIN:VEVENT
DTSTART;TZID=Europe/Stockholm:20220316T183000
DTEND;TZID=Europe/Stockholm:20220316T193000
DTSTAMP:20260424T154212
CREATED:20220223T085710Z
LAST-MODIFIED:20220223T085710Z
UID:3616-1647455400-1647459000@www.centrumkyrkan.se
SUMMARY:Inför Hans ansikte
DESCRIPTION:Bön-och nattvardsgudstjänst
URL:https://www.centrumkyrkan.se/kalender-namn/infor-hans-ansikte-13/
LOCATION:Centrumkyrkan i Sundbyberg\, Prästgårdsgatan 13\, Sundbyberg\, 17268
ORGANIZER;CN="Centrumkyrkan i Sundbyberg":MAILTO:info@centrumkyrkan.se
END:VEVENT
BEGIN:VEVENT
DTSTART;TZID=Europe/Stockholm:20220319T100000
DTEND;TZID=Europe/Stockholm:20220319T120000
DTSTAMP:20260424T154212
CREATED:20220214T134330Z
LAST-MODIFIED:20220214T134330Z
UID:3593-1647684000-1647691200@www.centrumkyrkan.se
SUMMARY:Sopplunch
DESCRIPTION:En värmande skål soppa för den som behöver!\nVarmt välkommen
URL:https://www.centrumkyrkan.se/kalender-namn/sopplunch-36/
LOCATION:Centrumkyrkan i Sundbyberg\, Prästgårdsgatan 13\, Sundbyberg\, 17268
ORGANIZER;CN="Centrumkyrkan i Sundbyberg":MAILTO:info@centrumkyrkan.se
END:VEVENT
BEGIN:VEVENT
DTSTART;TZID=Europe/Stockholm:20220320T110000
DTEND;TZID=Europe/Stockholm:20220320T123000
DTSTAMP:20260424T154212
CREATED:20220209T104225Z
LAST-MODIFIED:20220222T102334Z
UID:3566-1647774000-1647779400@www.centrumkyrkan.se
SUMMARY:Gudstjänst
DESCRIPTION:”Kampen mot ondskan”\nPredikan: Malin Aronsson\nMusik: Anna Weister Andersson
URL:https://www.centrumkyrkan.se/kalender-namn/gudstjanst-28/
LOCATION:Centrumkyrkan i Sundbyberg\, Prästgårdsgatan 13\, Sundbyberg\, 17268
ORGANIZER;CN="Centrumkyrkan i Sundbyberg":MAILTO:info@centrumkyrkan.se
END:VEVENT
BEGIN:VEVENT
DTSTART;TZID=Europe/Stockholm:20220323T120000
DTEND;TZID=Europe/Stockholm:20220323T133000
DTSTAMP:20260424T154212
CREATED:20220223T090606Z
LAST-MODIFIED:20220223T090606Z
UID:3626-1648036800-1648042200@www.centrumkyrkan.se
SUMMARY:Bibelstudium
DESCRIPTION:
URL:https://www.centrumkyrkan.se/kalender-namn/bibelstudium-9/
LOCATION:Centrumkyrkan i Sundbyberg\, Prästgårdsgatan 13\, Sundbyberg\, 17268
ORGANIZER;CN="Centrumkyrkan i Sundbyberg":MAILTO:info@centrumkyrkan.se
END:VEVENT
BEGIN:VEVENT
DTSTART;TZID=Europe/Stockholm:20220326T100000
DTEND;TZID=Europe/Stockholm:20220326T120000
DTSTAMP:20260424T154212
CREATED:20220214T134650Z
LAST-MODIFIED:20220214T134650Z
UID:3595-1648288800-1648296000@www.centrumkyrkan.se
SUMMARY:Sopplunch
DESCRIPTION:En värmande skål med soppa för den som behöver!\nVarmt välkommen!
URL:https://www.centrumkyrkan.se/kalender-namn/sopplunch-37/
LOCATION:Centrumkyrkan i Sundbyberg\, Prästgårdsgatan 13\, Sundbyberg\, 17268
ORGANIZER;CN="Centrumkyrkan i Sundbyberg":MAILTO:info@centrumkyrkan.se
END:VEVENT
BEGIN:VEVENT
DTSTART;TZID=Europe/Stockholm:20220327T110000
DTEND;TZID=Europe/Stockholm:20220327T123000
DTSTAMP:20260424T154212
CREATED:20220209T104629Z
LAST-MODIFIED:20220325T130530Z
UID:3568-1648378800-1648384200@www.centrumkyrkan.se
SUMMARY:Gudstjänst med tema mission
DESCRIPTION:”Guds mäktiga verk”\nPredikan: Mirjam Bergh från Bethesda Learning Center Nepal\, Bertil Edin\nIntervju\, samtal\, tillfälle till fördjupning och frågor vid kyrkkaffet\nMusik: Siri Klinth
URL:https://www.centrumkyrkan.se/kalender-namn/gudstjanst-29/
LOCATION:Centrumkyrkan i Sundbyberg\, Prästgårdsgatan 13\, Sundbyberg\, 17268
END:VEVENT
BEGIN:VEVENT
DTSTART;TZID=Europe/Stockholm:20220330T183000
DTEND;TZID=Europe/Stockholm:20220330T193000
DTSTAMP:20260424T154212
CREATED:20220223T085918Z
LAST-MODIFIED:20220223T085918Z
UID:3621-1648665000-1648668600@www.centrumkyrkan.se
SUMMARY:Inför Hans ansikte
DESCRIPTION:Bön-och nattvardsgudstjänst
URL:https://www.centrumkyrkan.se/kalender-namn/infor-hans-ansikte-14/
LOCATION:Centrumkyrkan i Sundbyberg\, Prästgårdsgatan 13\, Sundbyberg\, 17268
ORGANIZER;CN="Centrumkyrkan i Sundbyberg":MAILTO:info@centrumkyrkan.se
END:VEVENT
BEGIN:VEVENT
DTSTART;TZID=Europe/Stockholm:20220402T100000
DTEND;TZID=Europe/Stockholm:20220402T120000
DTSTAMP:20260424T154212
CREATED:20220214T134913Z
LAST-MODIFIED:20220214T134913Z
UID:3597-1648893600-1648900800@www.centrumkyrkan.se
SUMMARY:Sopplunch
DESCRIPTION:En värmande skål soppa för den som behöver!\nVarmt välkommen!
URL:https://www.centrumkyrkan.se/kalender-namn/sopplunch-38/
LOCATION:Centrumkyrkan i Sundbyberg\, Prästgårdsgatan 13\, Sundbyberg\, 17268
ORGANIZER;CN="Centrumkyrkan i Sundbyberg":MAILTO:info@centrumkyrkan.se
END:VEVENT
BEGIN:VEVENT
DTSTART;TZID=Europe/Stockholm:20220403T110000
DTEND;TZID=Europe/Stockholm:20220403T123000
DTSTAMP:20260424T154212
CREATED:20220222T102826Z
LAST-MODIFIED:20220401T115830Z
UID:3606-1648983600-1648989000@www.centrumkyrkan.se
SUMMARY:Gudstjänst
DESCRIPTION:”Försonaren”\nPredikan: Malin Aronsson\nMusik: Jeanette och Titti
URL:https://www.centrumkyrkan.se/kalender-namn/gudstjanst-30/
LOCATION:Centrumkyrkan i Sundbyberg\, Prästgårdsgatan 13\, Sundbyberg\, 17268
ORGANIZER;CN="Centrumkyrkan i Sundbyberg":MAILTO:info@centrumkyrkan.se
END:VEVENT
BEGIN:VEVENT
DTSTART;TZID=Europe/Stockholm:20220403T123000
DTEND;TZID=Europe/Stockholm:20220403T143000
DTSTAMP:20260424T154212
CREATED:20220225T085838Z
LAST-MODIFIED:20220225T085838Z
UID:3633-1648989000-1648996200@www.centrumkyrkan.se
SUMMARY:Årsmöte
DESCRIPTION:Församlingens årsmöte följer efter gudstjänsten
URL:https://www.centrumkyrkan.se/kalender-namn/arsmote/
LOCATION:Centrumkyrkan i Sundbyberg\, Prästgårdsgatan 13\, Sundbyberg\, 17268
END:VEVENT
BEGIN:VEVENT
DTSTART;TZID=Europe/Stockholm:20220409T100000
DTEND;TZID=Europe/Stockholm:20220409T120000
DTSTAMP:20260424T154212
CREATED:20220222T103121Z
LAST-MODIFIED:20220222T103121Z
UID:3608-1649498400-1649505600@www.centrumkyrkan.se
SUMMARY:Sopplunch
DESCRIPTION:En värmande skål soppa för den som behöver!\nVarmt välkommen!
URL:https://www.centrumkyrkan.se/kalender-namn/sopplunch-39/
LOCATION:Centrumkyrkan i Sundbyberg\, Prästgårdsgatan 13\, Sundbyberg\, 17268
ORGANIZER;CN="Centrumkyrkan i Sundbyberg":MAILTO:info@centrumkyrkan.se
END:VEVENT
BEGIN:VEVENT
DTSTART;TZID=Europe/Stockholm:20220410T110000
DTEND;TZID=Europe/Stockholm:20220410T123000
DTSTAMP:20260424T154212
CREATED:20220314T131140Z
LAST-MODIFIED:20220401T115950Z
UID:3670-1649588400-1649593800@www.centrumkyrkan.se
SUMMARY:Gudstjänst
DESCRIPTION:”Vägen till korset”\nPredikan: Bertil Edin\nMusik: Elise Nestor
URL:https://www.centrumkyrkan.se/kalender-namn/gudstjanst-31/
LOCATION:Centrumkyrkan i Sundbyberg\, Prästgårdsgatan 13\, Sundbyberg\, 17268
END:VEVENT
BEGIN:VEVENT
DTSTART;TZID=Europe/Stockholm:20220411T183000
DTEND;TZID=Europe/Stockholm:20220411T193000
DTSTAMP:20260424T154212
CREATED:20220318T151220Z
LAST-MODIFIED:20220331T082046Z
UID:3700-1649701800-1649705400@www.centrumkyrkan.se
SUMMARY:Jesus renar templet
DESCRIPTION:Stilla veckan: Jesus renar templet\nBön-och textläsning
URL:https://www.centrumkyrkan.se/kalender-namn/stilla-veckan/
LOCATION:Centrumkyrkan i Sundbyberg\, Prästgårdsgatan 13\, Sundbyberg\, 17268
END:VEVENT
BEGIN:VEVENT
DTSTART;TZID=Europe/Stockholm:20220412T183000
DTEND;TZID=Europe/Stockholm:20220412T193000
DTSTAMP:20260424T154212
CREATED:20220318T151318Z
LAST-MODIFIED:20220331T082525Z
UID:3702-1649788200-1649791800@www.centrumkyrkan.se
SUMMARY:Gripandet av Jesus planeras
DESCRIPTION:Stilla veckan: Gripandet av Jesus planeras\nBön-och textläsning kl 18.30
URL:https://www.centrumkyrkan.se/kalender-namn/stilla-veckan-2/
LOCATION:Centrumkyrkan i Sundbyberg\, Prästgårdsgatan 13\, Sundbyberg\, 17268
END:VEVENT
BEGIN:VEVENT
DTSTART;TZID=Europe/Stockholm:20220413T183000
DTEND;TZID=Europe/Stockholm:20220413T193000
DTSTAMP:20260424T154212
CREATED:20220308T103849Z
LAST-MODIFIED:20220331T083001Z
UID:3649-1649874600-1649878200@www.centrumkyrkan.se
SUMMARY:Kvinnan med alabasterflaskan- Inför hans ansikte
DESCRIPTION:Kvinnan med alabasterflaskan\nInför hans ansikte\nBön- och nattvardsgudstjänst kl 18.30 \n 
URL:https://www.centrumkyrkan.se/kalender-namn/infor-hans-ansikte-15/
LOCATION:Centrumkyrkan i Sundbyberg\, Prästgårdsgatan 13\, Sundbyberg\, 17268
ORGANIZER;CN="Centrumkyrkan i Sundbyberg":MAILTO:info@centrumkyrkan.se
END:VEVENT
BEGIN:VEVENT
DTSTART;TZID=Europe/Stockholm:20220414T183000
DTEND;TZID=Europe/Stockholm:20220414T193000
DTSTAMP:20260424T154212
CREATED:20220318T151449Z
LAST-MODIFIED:20220401T120321Z
UID:3704-1649961000-1649964600@www.centrumkyrkan.se
SUMMARY:Skärtorsdag
DESCRIPTION:Nattvard\, musik och textläsning kl 18.30
URL:https://www.centrumkyrkan.se/kalender-namn/skartorsdags-gudstjanst/
LOCATION:Centrumkyrkan i Sundbyberg\, Prästgårdsgatan 13\, Sundbyberg\, 17268
END:VEVENT
BEGIN:VEVENT
DTSTART;TZID=Europe/Stockholm:20220415T110000
DTEND;TZID=Europe/Stockholm:20220415T123000
DTSTAMP:20260424T154212
CREATED:20220318T151651Z
LAST-MODIFIED:20220331T085341Z
UID:3706-1650020400-1650025800@www.centrumkyrkan.se
SUMMARY:Långfredag: Korset
DESCRIPTION:Långfredagsgudstjänst 11.00\n”Korset”\nPredikan: Bertil Edin\nSång & musik: Anders och Anneli Ringqvist
URL:https://www.centrumkyrkan.se/kalender-namn/langfredags-gudstjanst/
LOCATION:Centrumkyrkan i Sundbyberg\, Prästgårdsgatan 13\, Sundbyberg\, 17268
END:VEVENT
BEGIN:VEVENT
DTSTART;TZID=Europe/Stockholm:20220416T100000
DTEND;TZID=Europe/Stockholm:20220416T120000
DTSTAMP:20260424T154212
CREATED:20220222T103331Z
LAST-MODIFIED:20220222T103331Z
UID:3610-1650103200-1650110400@www.centrumkyrkan.se
SUMMARY:Sopplunch
DESCRIPTION:En värmande skål soppa för den som behöver!\nVarmt välkommen!
URL:https://www.centrumkyrkan.se/kalender-namn/sopplunch-40/
LOCATION:Centrumkyrkan i Sundbyberg\, Prästgårdsgatan 13\, Sundbyberg\, 17268
ORGANIZER;CN="Centrumkyrkan i Sundbyberg":MAILTO:info@centrumkyrkan.se
END:VEVENT
BEGIN:VEVENT
DTSTART;TZID=Europe/Stockholm:20220417T110000
DTEND;TZID=Europe/Stockholm:20220417T123000
DTSTAMP:20260424T154212
CREATED:20220314T131757Z
LAST-MODIFIED:20220414T102714Z
UID:3672-1650193200-1650198600@www.centrumkyrkan.se
SUMMARY:Påskdagen Kristus är uppstånden!
DESCRIPTION:”Kristus är uppstånden”\nFestgudstjänst!\nPredikan: Malin Aronsson\nMusik: Bengt Johansson leder lovsång\nKyrkkaffe med tårta
URL:https://www.centrumkyrkan.se/kalender-namn/gudstjanst-32/
LOCATION:Centrumkyrkan i Sundbyberg\, Prästgårdsgatan 13\, Sundbyberg\, 17268
END:VEVENT
BEGIN:VEVENT
DTSTART;TZID=Europe/Stockholm:20220418T110000
DTEND;TZID=Europe/Stockholm:20220418T123000
DTSTAMP:20260424T154212
CREATED:20220318T151932Z
LAST-MODIFIED:20220331T085816Z
UID:3708-1650279600-1650285000@www.centrumkyrkan.se
SUMMARY:Annandag Påsk Ekumenisk gudstjänst i Rissnekyrkan
DESCRIPTION:Annandag Påsk 11.00\nEkumenisk gudstjänst i Rissnekyrkan
URL:https://www.centrumkyrkan.se/kalender-namn/annandag-pask-ekumenisk-gudstjanst-i-rissnekyrkan/
END:VEVENT
BEGIN:VEVENT
DTSTART;TZID=Europe/Stockholm:20220423T100000
DTEND;TZID=Europe/Stockholm:20220423T120000
DTSTAMP:20260424T154212
CREATED:20220222T104932Z
LAST-MODIFIED:20220222T104932Z
UID:3612-1650708000-1650715200@www.centrumkyrkan.se
SUMMARY:Sopplunch
DESCRIPTION:En skål värmande soppa för den som behöver!\nVarmt välkommen!
URL:https://www.centrumkyrkan.se/kalender-namn/sopplunch-41/
LOCATION:Centrumkyrkan i Sundbyberg\, Prästgårdsgatan 13\, Sundbyberg\, 17268
ORGANIZER;CN="Centrumkyrkan i Sundbyberg":MAILTO:info@centrumkyrkan.se
END:VEVENT
BEGIN:VEVENT
DTSTART;TZID=Europe/Stockholm:20220424T110000
DTEND;TZID=Europe/Stockholm:20220424T123000
DTSTAMP:20260424T154212
CREATED:20220314T132040Z
LAST-MODIFIED:20220314T132040Z
UID:3674-1650798000-1650803400@www.centrumkyrkan.se
SUMMARY:Gudstjänst
DESCRIPTION:”Påskens vittnen”\nPredikan: Gäst\nMusik:
URL:https://www.centrumkyrkan.se/kalender-namn/gudstjanst-33/
LOCATION:Centrumkyrkan i Sundbyberg\, Prästgårdsgatan 13\, Sundbyberg\, 17268
END:VEVENT
BEGIN:VEVENT
DTSTART;TZID=Europe/Stockholm:20220427T183000
DTEND;TZID=Europe/Stockholm:20220427T193000
DTSTAMP:20260424T154212
CREATED:20220308T104506Z
LAST-MODIFIED:20220308T104506Z
UID:3653-1651084200-1651087800@www.centrumkyrkan.se
SUMMARY:Inför Hans ansikte
DESCRIPTION:Bön-och nattvardsgudstjänst
URL:https://www.centrumkyrkan.se/kalender-namn/infor-hans-ansikte-16/
LOCATION:Centrumkyrkan i Sundbyberg\, Prästgårdsgatan 13\, Sundbyberg\, 17268
ORGANIZER;CN="Centrumkyrkan i Sundbyberg":MAILTO:info@centrumkyrkan.se
END:VEVENT
BEGIN:VEVENT
DTSTART;TZID=Europe/Stockholm:20220429T190000
DTEND;TZID=Europe/Stockholm:20220429T213000
DTSTAMP:20260424T154212
CREATED:20220404T071807Z
LAST-MODIFIED:20220404T072952Z
UID:3734-1651258800-1651267800@www.centrumkyrkan.se
SUMMARY:CK-Tillsammans!
DESCRIPTION:CK-Tillsammans! En gemenskapskväll för alla åldrar med kören By Grace som gäster.\nMusik\, sång\, snack\, snacks och fin gemenskap! Mer info kommer.\n19.00 Centrumkyrkan Sundbyberg. Välkommen!
URL:https://www.centrumkyrkan.se/kalender-namn/ck-tillsammans-3/
LOCATION:Centrumkyrkan i Sundbyberg\, Prästgårdsgatan 13\, Sundbyberg\, 17268
ORGANIZER;CN="Centrumkyrkan i Sundbyberg":MAILTO:info@centrumkyrkan.se
END:VEVENT
BEGIN:VEVENT
DTSTART;TZID=Europe/Stockholm:20220430T100000
DTEND;TZID=Europe/Stockholm:20220430T120000
DTSTAMP:20260424T154212
CREATED:20220222T105307Z
LAST-MODIFIED:20220222T105307Z
UID:3614-1651312800-1651320000@www.centrumkyrkan.se
SUMMARY:Sopplunch
DESCRIPTION:En skål värmande soppa för den som behöver!\nVarmt välkommen!
URL:https://www.centrumkyrkan.se/kalender-namn/sopplunch-42/
LOCATION:Centrumkyrkan i Sundbyberg\, Prästgårdsgatan 13\, Sundbyberg\, 17268
ORGANIZER;CN="Centrumkyrkan i Sundbyberg":MAILTO:info@centrumkyrkan.se
END:VEVENT
BEGIN:VEVENT
DTSTART;TZID=Europe/Stockholm:20220501T110000
DTEND;TZID=Europe/Stockholm:20220501T123000
DTSTAMP:20260424T154212
CREATED:20220314T132251Z
LAST-MODIFIED:20220314T132251Z
UID:3676-1651402800-1651408200@www.centrumkyrkan.se
SUMMARY:Gudstjänst
DESCRIPTION:”Den gode Herden”\nPredikan: Erik Valier\nMusik:
URL:https://www.centrumkyrkan.se/kalender-namn/gudstjanst-34/
LOCATION:Centrumkyrkan i Sundbyberg\, Prästgårdsgatan 13\, Sundbyberg\, 17268
END:VEVENT
BEGIN:VEVENT
DTSTART;VALUE=DATE:20220506
DTEND;VALUE=DATE:20220509
DTSTAMP:20260424T154212
CREATED:20220225T090444Z
LAST-MODIFIED:20220225T090444Z
UID:3635-1651795200-1652054399@www.centrumkyrkan.se
SUMMARY:Retreathelg Björkögården
DESCRIPTION:Föranmälda till Retreathelg på Björkögården\, 6-8 maj\nMer info: bertil@centrumkyrkan.se
URL:https://www.centrumkyrkan.se/kalender-namn/retreathelg-bjorkogarden/
ORGANIZER;CN="Centrumkyrkan i Sundbyberg":MAILTO:info@centrumkyrkan.se
END:VEVENT
BEGIN:VEVENT
DTSTART;TZID=Europe/Stockholm:20220507T100000
DTEND;TZID=Europe/Stockholm:20220507T120000
DTSTAMP:20260424T154212
CREATED:20220505T121400Z
LAST-MODIFIED:20220505T121401Z
UID:3762-1651917600-1651924800@www.centrumkyrkan.se
SUMMARY:Sopplunch
DESCRIPTION:En skål värmande soppa för den som behöver!\nVarmt välkommen!
URL:https://www.centrumkyrkan.se/kalender-namn/sopplunch-43/
LOCATION:Centrumkyrkan i Sundbyberg\, Prästgårdsgatan 13\, Sundbyberg\, 17268
END:VEVENT
END:VCALENDAR