BEGIN:VCALENDAR
VERSION:2.0
PRODID:-//Centrumkyrkan i Sundbyberg - ECPv6.15.20//NONSGML v1.0//EN
CALSCALE:GREGORIAN
METHOD:PUBLISH
X-ORIGINAL-URL:https://www.centrumkyrkan.se
X-WR-CALDESC:Händelser för Centrumkyrkan i Sundbyberg
REFRESH-INTERVAL;VALUE=DURATION:PT1H
X-Robots-Tag:noindex
X-PUBLISHED-TTL:PT1H
BEGIN:VTIMEZONE
TZID:Europe/Stockholm
BEGIN:DAYLIGHT
TZOFFSETFROM:+0100
TZOFFSETTO:+0200
TZNAME:CEST
DTSTART:20200329T010000
END:DAYLIGHT
BEGIN:STANDARD
TZOFFSETFROM:+0200
TZOFFSETTO:+0100
TZNAME:CET
DTSTART:20201025T010000
END:STANDARD
BEGIN:DAYLIGHT
TZOFFSETFROM:+0100
TZOFFSETTO:+0200
TZNAME:CEST
DTSTART:20210328T010000
END:DAYLIGHT
BEGIN:STANDARD
TZOFFSETFROM:+0200
TZOFFSETTO:+0100
TZNAME:CET
DTSTART:20211031T010000
END:STANDARD
BEGIN:DAYLIGHT
TZOFFSETFROM:+0100
TZOFFSETTO:+0200
TZNAME:CEST
DTSTART:20220327T010000
END:DAYLIGHT
BEGIN:STANDARD
TZOFFSETFROM:+0200
TZOFFSETTO:+0100
TZNAME:CET
DTSTART:20221030T010000
END:STANDARD
END:VTIMEZONE
BEGIN:VEVENT
DTSTART;TZID=Europe/Stockholm:20210704T110000
DTEND;TZID=Europe/Stockholm:20210704T123000
DTSTAMP:20260425T055248
CREATED:20210524T090633Z
LAST-MODIFIED:20210624T065841Z
UID:2734-1625396400-1625401800@www.centrumkyrkan.se
SUMMARY:Gudstjänst i kyrkan
DESCRIPTION:”Sänd mig” \nPredikan: Daniel Tönnäng\nMusik: Peter Tönnäng \nÄntligen får vi fira gudstjänst tillsammans igen! Vi öppnar upp kyrkan för 50 personer. OBS – att vi alla måste hjälpas åt så att vi gör detta på ett så säkert sätt som möjligt. Vänligen respektera de markerade platserna\, sprita händerna när du kommer\, stanna hemma vid minsta symtom\, håll avstånd etc etc. \nTack!
URL:https://www.centrumkyrkan.se/kalender-namn/gudstjanst-i-kyrkan-4/
LOCATION:Centrumkyrkan i Sundbyberg\, Prästgårdsgatan 13\, Sundbyberg\, 17268
CATEGORIES:Gudstjänst
END:VEVENT
BEGIN:VEVENT
DTSTART;TZID=Europe/Stockholm:20210711T110000
DTEND;TZID=Europe/Stockholm:20210711T120000
DTSTAMP:20260425T055248
CREATED:20210524T090804Z
LAST-MODIFIED:20210707T134242Z
UID:2737-1626001200-1626004800@www.centrumkyrkan.se
SUMMARY:Gudstjänst i kyrkan
DESCRIPTION:”Efterföljelse” \nPredikan: Beryl Lindeman\nMusik Berno Hallström \nÄntligen får vi fira gudstjänst tillsammans igen!   \nOBS – att vi alla måste hjälpas åt så att vi gör detta på ett så säkert sätt som möjligt. /Tack!
URL:https://www.centrumkyrkan.se/kalender-namn/gudstjanst-i-kyrkan-5/
LOCATION:Centrumkyrkan i Sundbyberg\, Prästgårdsgatan 13\, Sundbyberg\, 17268
CATEGORIES:Gudstjänst
END:VEVENT
BEGIN:VEVENT
DTSTART;TZID=Europe/Stockholm:20210718T110000
DTEND;TZID=Europe/Stockholm:20210718T120000
DTSTAMP:20260425T055248
CREATED:20210524T090915Z
LAST-MODIFIED:20210707T134311Z
UID:2740-1626606000-1626609600@www.centrumkyrkan.se
SUMMARY:Gudstjänst i kyrkan
DESCRIPTION:”Jesus förhärligad” \nPredikan: Peter Tönnäng\nMusik: Heidi Rohlin Westin och Alvar Almqvist \nÄntligen får vi fira gudstjänst tillsammans igen!   \nOBS – att vi alla måste hjälpas åt så att vi gör detta på ett så säkert sätt som möjligt. /Tack!
URL:https://www.centrumkyrkan.se/kalender-namn/gudstjanst-i-kyrkan-6/
LOCATION:Centrumkyrkan i Sundbyberg\, Prästgårdsgatan 13\, Sundbyberg\, 17268
CATEGORIES:Gudstjänst
END:VEVENT
BEGIN:VEVENT
DTSTART;TZID=Europe/Stockholm:20210725T110000
DTEND;TZID=Europe/Stockholm:20210725T120000
DTSTAMP:20260425T055248
CREATED:20210524T093414Z
LAST-MODIFIED:20210707T134334Z
UID:2743-1627210800-1627214400@www.centrumkyrkan.se
SUMMARY:Gudstjänst i kyrkan
DESCRIPTION:”Andlig klarsyn” \nPredikan: Anders Ringqvist\nMusik: Anders och Anneli Ringqvist \nÄntligen får vi fira gudstjänst tillsammans igen!   \nOBS – att vi alla måste hjälpas åt så att vi gör detta på ett så säkert sätt som möjligt. /Tack!
URL:https://www.centrumkyrkan.se/kalender-namn/gudstjanst-i-kyrkan-7/
LOCATION:Centrumkyrkan i Sundbyberg\, Prästgårdsgatan 13\, Sundbyberg\, 17268
CATEGORIES:Gudstjänst
END:VEVENT
BEGIN:VEVENT
DTSTART;TZID=Europe/Stockholm:20210801T110000
DTEND;TZID=Europe/Stockholm:20210801T120000
DTSTAMP:20260425T055248
CREATED:20210524T094312Z
LAST-MODIFIED:20210707T134355Z
UID:2747-1627815600-1627819200@www.centrumkyrkan.se
SUMMARY:Gudstjänst i kyrkan
DESCRIPTION:”Goda förvaltare” \nPredikan: Beryl Lindeman\nMusik: Maria Soukka \nÄntligen får vi fira gudstjänst tillsammans igen!   \nOBS – att vi alla måste hjälpas åt så att vi gör detta på ett så säkert sätt som möjligt. /Tack!
URL:https://www.centrumkyrkan.se/kalender-namn/gudstjanst-i-kyrkan-8/
LOCATION:Centrumkyrkan i Sundbyberg\, Prästgårdsgatan 13\, Sundbyberg\, 17268
CATEGORIES:Gudstjänst
END:VEVENT
BEGIN:VEVENT
DTSTART;TZID=Europe/Stockholm:20210808T110000
DTEND;TZID=Europe/Stockholm:20210808T120000
DTSTAMP:20260425T055248
CREATED:20210524T094404Z
LAST-MODIFIED:20210707T134500Z
UID:2750-1628420400-1628424000@www.centrumkyrkan.se
SUMMARY:Gudstjänst i kyrkan
DESCRIPTION:”Nådens gåvor” \nPredikan: Bertil Edin \nÄntligen får vi fira gudstjänst tillsammans igen!   \nOBS – att vi alla måste hjälpas åt så att vi gör detta på ett så säkert sätt som möjligt. /Tack!
URL:https://www.centrumkyrkan.se/kalender-namn/gudstjanst-i-kyrkan-9/
LOCATION:Centrumkyrkan i Sundbyberg\, Prästgårdsgatan 13\, Sundbyberg\, 17268
CATEGORIES:Gudstjänst
END:VEVENT
BEGIN:VEVENT
DTSTART;TZID=Europe/Stockholm:20210814T100000
DTEND;TZID=Europe/Stockholm:20210814T120000
DTSTAMP:20260425T055248
CREATED:20210507T112110Z
LAST-MODIFIED:20210809T142034Z
UID:2653-1628935200-1628942400@www.centrumkyrkan.se
SUMMARY:Sopplunch
DESCRIPTION:Sopplunch varje lördag kl 10-12 \nEn värmande skål med soppa för den som behöver det!
URL:https://www.centrumkyrkan.se/kalender-namn/sopplunch-9/
CATEGORIES:Sopplunch
END:VEVENT
BEGIN:VEVENT
DTSTART;TZID=Europe/Stockholm:20210815T110000
DTEND;TZID=Europe/Stockholm:20210815T120000
DTSTAMP:20260425T055248
CREATED:20210524T094458Z
LAST-MODIFIED:20210824T143116Z
UID:2753-1629025200-1629028800@www.centrumkyrkan.se
SUMMARY:Gudstjänst i kyrkan
DESCRIPTION:”Tro och liv” \nPredikan: Beryl Lindeman\nMusik: Bertil Edin \nÄntligen får vi fira gudstjänst tillsammans igen!   \nOBS – att vi alla måste hjälpas åt så att vi gör detta på ett så säkert sätt som möjligt. /Tack!
URL:https://www.centrumkyrkan.se/kalender-namn/gudstjanst-i-kyrkan-10/
LOCATION:Centrumkyrkan i Sundbyberg\, Prästgårdsgatan 13\, Sundbyberg\, 17268
CATEGORIES:Gudstjänst
END:VEVENT
BEGIN:VEVENT
DTSTART;TZID=Europe/Stockholm:20210821T100000
DTEND;TZID=Europe/Stockholm:20210821T120000
DTSTAMP:20260425T055248
CREATED:20210507T112148Z
LAST-MODIFIED:20210824T143116Z
UID:2655-1629540000-1629547200@www.centrumkyrkan.se
SUMMARY:Sopplunch
DESCRIPTION:Sopplunch varje lördag kl 10-12 \nEn värmande skål med soppa för den som behöver det!
URL:https://www.centrumkyrkan.se/kalender-namn/sopplunch-10/
CATEGORIES:Sopplunch
END:VEVENT
BEGIN:VEVENT
DTSTART;TZID=Europe/Stockholm:20210822T110000
DTEND;TZID=Europe/Stockholm:20210822T120000
DTSTAMP:20260425T055248
CREATED:20210524T094601Z
LAST-MODIFIED:20210824T143116Z
UID:2756-1629630000-1629633600@www.centrumkyrkan.se
SUMMARY:Gudstjänst - uppstart!
DESCRIPTION:”Friheten i Kristus”\nPredikan: Bertil Edin \nÄntligen får vi fira gudstjänst tillsammans igen!   \nOBS – att vi alla måste hjälpas åt så att vi gör detta på ett så säkert sätt som möjligt. /Tack!
URL:https://www.centrumkyrkan.se/kalender-namn/gudstjanst-uppstart/
LOCATION:Centrumkyrkan i Sundbyberg\, Prästgårdsgatan 13\, Sundbyberg\, 17268
CATEGORIES:Gudstjänst
END:VEVENT
BEGIN:VEVENT
DTSTART;TZID=Europe/Stockholm:20210828T100000
DTEND;TZID=Europe/Stockholm:20210828T120000
DTSTAMP:20260425T055248
CREATED:20210507T112224Z
LAST-MODIFIED:20210824T143116Z
UID:2657-1630144800-1630152000@www.centrumkyrkan.se
SUMMARY:Sopplunch
DESCRIPTION:Sopplunch varje lördag kl 10-12 \nEn värmande skål med soppa för den som behöver det!
URL:https://www.centrumkyrkan.se/kalender-namn/sopplunch-11/
CATEGORIES:Sopplunch
END:VEVENT
BEGIN:VEVENT
DTSTART;TZID=Europe/Stockholm:20210829T110000
DTEND;TZID=Europe/Stockholm:20210829T123000
DTSTAMP:20260425T055248
CREATED:20210809T142418Z
LAST-MODIFIED:20210824T143116Z
UID:3203-1630234800-1630240200@www.centrumkyrkan.se
SUMMARY:Gudstjänst
DESCRIPTION:”Medmänniskan” \nPredikan: Malin Aronsson\nMusik: Niklas Aronsson m team \n 
URL:https://www.centrumkyrkan.se/kalender-namn/gudstjant/
LOCATION:Centrumkyrkan i Sundbyberg\, Prästgårdsgatan 13\, Sundbyberg\, 17268
CATEGORIES:Gudstjänst
END:VEVENT
BEGIN:VEVENT
DTSTART;TZID=Europe/Stockholm:20210901T183000
DTEND;TZID=Europe/Stockholm:20210901T193000
DTSTAMP:20260425T055248
CREATED:20210824T141419Z
LAST-MODIFIED:20210824T143116Z
UID:3258-1630521000-1630524600@www.centrumkyrkan.se
SUMMARY:Inför Hans ansikte
DESCRIPTION:Bön- och nattvardsgudstjänst
URL:https://www.centrumkyrkan.se/kalender-namn/infor-hans-ansikte/
LOCATION:Centrumkyrkan i Sundbyberg\, Prästgårdsgatan 13\, Sundbyberg\, 17268
ATTACH;FMTTYPE=image/jpeg:https://www.centrumkyrkan.se/wp-content/uploads/2021/05/Infor-Hans-ansikte-text-20-002.jpg
END:VEVENT
BEGIN:VEVENT
DTSTART;TZID=Europe/Stockholm:20210904T100000
DTEND;TZID=Europe/Stockholm:20210904T120000
DTSTAMP:20260425T055248
CREATED:20210824T132916Z
LAST-MODIFIED:20210824T143116Z
UID:3216-1630749600-1630756800@www.centrumkyrkan.se
SUMMARY:Sopplunch
DESCRIPTION:Sopplunch varje lördag kl 10-12 \nEn värmande skål med soppa för den som behöver det. \nVälkommen!
URL:https://www.centrumkyrkan.se/kalender-namn/3216/
LOCATION:Centrumkyrkan i Sundbyberg\, Prästgårdsgatan 13\, Sundbyberg\, 17268
END:VEVENT
BEGIN:VEVENT
DTSTART;TZID=Europe/Stockholm:20210905T110000
DTEND;TZID=Europe/Stockholm:20210905T123000
DTSTAMP:20260425T055248
CREATED:20210809T143009Z
LAST-MODIFIED:20210824T143202Z
UID:3206-1630839600-1630845000@www.centrumkyrkan.se
SUMMARY:Gudstjänst
DESCRIPTION:”Enheten i Kristus” \nPredikan: Bertil Edin
URL:https://www.centrumkyrkan.se/kalender-namn/gudstjanst-2/
LOCATION:Centrumkyrkan i Sundbyberg\, Prästgårdsgatan 13\, Sundbyberg\, 17268
END:VEVENT
BEGIN:VEVENT
DTSTART;TZID=Europe/Stockholm:20210911T100000
DTEND;TZID=Europe/Stockholm:20210911T120000
DTSTAMP:20260425T055248
CREATED:20210824T133111Z
LAST-MODIFIED:20210824T143116Z
UID:3219-1631354400-1631361600@www.centrumkyrkan.se
SUMMARY:Sopplunch
DESCRIPTION:Sopplunch varje lördag kl 10-12 \nEn värmande skål med soppa för den som behöver det. \nVälkommen!
URL:https://www.centrumkyrkan.se/kalender-namn/sopplunch-12/
LOCATION:Centrumkyrkan i Sundbyberg\, Prästgårdsgatan 13\, Sundbyberg\, 17268
ATTACH;FMTTYPE=image/jpeg:https://www.centrumkyrkan.se/wp-content/uploads/2020/05/lördagslunch.jpg
END:VEVENT
BEGIN:VEVENT
DTSTART;TZID=Europe/Stockholm:20210912T110000
DTEND;TZID=Europe/Stockholm:20210912T123000
DTSTAMP:20260425T055248
CREATED:20210809T143054Z
LAST-MODIFIED:20210824T143303Z
UID:3208-1631444400-1631449800@www.centrumkyrkan.se
SUMMARY:Gudstjänst
DESCRIPTION:”Ett är nödvändigt” \nPredikan: Malin Aronsson\nMusik: Jeanette Edbladh\, Titti Hvenare m team \n 
URL:https://www.centrumkyrkan.se/kalender-namn/gudstjanst-3/
LOCATION:Centrumkyrkan i Sundbyberg\, Prästgårdsgatan 13\, Sundbyberg\, 17268
END:VEVENT
BEGIN:VEVENT
DTSTART;TZID=Europe/Stockholm:20210914T170000
DTEND;TZID=Europe/Stockholm:20210914T183000
DTSTAMP:20260425T055248
CREATED:20210824T142030Z
LAST-MODIFIED:20210824T143116Z
UID:3274-1631638800-1631644200@www.centrumkyrkan.se
SUMMARY:Konfa start!
DESCRIPTION:
URL:https://www.centrumkyrkan.se/kalender-namn/konfa-start/
LOCATION:Centrumkyrkan i Sundbyberg\, Prästgårdsgatan 13\, Sundbyberg\, 17268
END:VEVENT
BEGIN:VEVENT
DTSTART;TZID=Europe/Stockholm:20210915T183000
DTEND;TZID=Europe/Stockholm:20210915T193000
DTSTAMP:20260425T055248
CREATED:20210824T141459Z
LAST-MODIFIED:20210824T143116Z
UID:3260-1631730600-1631734200@www.centrumkyrkan.se
SUMMARY:Inför Hans ansikte
DESCRIPTION:Bön- och nattvardsgudstjänst
URL:https://www.centrumkyrkan.se/kalender-namn/infor-hans-ansikte-2/
LOCATION:Centrumkyrkan i Sundbyberg\, Prästgårdsgatan 13\, Sundbyberg\, 17268
ATTACH;FMTTYPE=image/jpeg:https://www.centrumkyrkan.se/wp-content/uploads/2021/05/Infor-Hans-ansikte-text-20-002.jpg
END:VEVENT
BEGIN:VEVENT
DTSTART;TZID=Europe/Stockholm:20210918T100000
DTEND;TZID=Europe/Stockholm:20210918T120000
DTSTAMP:20260425T055248
CREATED:20210824T133326Z
LAST-MODIFIED:20210824T143116Z
UID:3223-1631959200-1631966400@www.centrumkyrkan.se
SUMMARY:Sopplunch
DESCRIPTION:Sopplunch varje lördag kl 10-12 \nEn värmande skål med soppa för den som behöver det. \nVälkommen!
URL:https://www.centrumkyrkan.se/kalender-namn/sopplunch-14/
LOCATION:Centrumkyrkan i Sundbyberg\, Prästgårdsgatan 13\, Sundbyberg\, 17268
ATTACH;FMTTYPE=image/jpeg:https://www.centrumkyrkan.se/wp-content/uploads/2020/05/lördagslunch.jpg
END:VEVENT
BEGIN:VEVENT
DTSTART;TZID=Europe/Stockholm:20210919T093000
DTEND;TZID=Europe/Stockholm:20210919T103000
DTSTAMP:20260425T055248
CREATED:20210910T134534Z
LAST-MODIFIED:20210910T134534Z
UID:3389-1632043800-1632047400@www.centrumkyrkan.se
SUMMARY:Frukostbibelstudium
DESCRIPTION:Peter Halldorf håller bibelstudium
URL:https://www.centrumkyrkan.se/kalender-namn/frukostbibelstudium/
LOCATION:Centrumkyrkan i Sundbyberg\, Prästgårdsgatan 13\, Sundbyberg\, 17268
END:VEVENT
BEGIN:VEVENT
DTSTART;TZID=Europe/Stockholm:20210919T110000
DTEND;TZID=Europe/Stockholm:20210919T123000
DTSTAMP:20260425T055248
CREATED:20210809T144145Z
LAST-MODIFIED:20210910T134430Z
UID:3210-1632049200-1632054600@www.centrumkyrkan.se
SUMMARY:Gudstjänst
DESCRIPTION:”Döden och livet” \nPredikan: Peter Halldorf\nMusik: Elise Nestor m team
URL:https://www.centrumkyrkan.se/kalender-namn/gudstjanst-4/
LOCATION:Centrumkyrkan i Sundbyberg\, Prästgårdsgatan 13\, Sundbyberg\, 17268
END:VEVENT
BEGIN:VEVENT
DTSTART;TZID=Europe/Stockholm:20210922T120000
DTEND;TZID=Europe/Stockholm:20210922T133000
DTSTAMP:20260425T055248
CREATED:20210921T081045Z
LAST-MODIFIED:20210921T081045Z
UID:3415-1632312000-1632317400@www.centrumkyrkan.se
SUMMARY:Bibelstudium
DESCRIPTION:Välkommen du som är dagledig. Vi fikar tillsammans och lyssnar till ett bibelstudium.
URL:https://www.centrumkyrkan.se/kalender-namn/bibelstudium/
LOCATION:Centrumkyrkan i Sundbyberg\, Prästgårdsgatan 13\, Sundbyberg\, 17268
ATTACH;FMTTYPE=image/jpeg:https://www.centrumkyrkan.se/wp-content/uploads/2020/12/bibel-host-scaled.jpg
END:VEVENT
BEGIN:VEVENT
DTSTART;TZID=Europe/Stockholm:20210925T100000
DTEND;TZID=Europe/Stockholm:20210925T120000
DTSTAMP:20260425T055248
CREATED:20210824T133154Z
LAST-MODIFIED:20210824T143116Z
UID:3221-1632564000-1632571200@www.centrumkyrkan.se
SUMMARY:Sopplunch
DESCRIPTION:Sopplunch varje lördag kl 10-12 \nEn värmande skål med soppa för den som behöver det. \nVälkommen!
URL:https://www.centrumkyrkan.se/kalender-namn/sopplunch-13/
LOCATION:Centrumkyrkan i Sundbyberg\, Prästgårdsgatan 13\, Sundbyberg\, 17268
ATTACH;FMTTYPE=image/jpeg:https://www.centrumkyrkan.se/wp-content/uploads/2020/05/lördagslunch.jpg
END:VEVENT
BEGIN:VEVENT
DTSTART;TZID=Europe/Stockholm:20210926T110000
DTEND;TZID=Europe/Stockholm:20210926T123000
DTSTAMP:20260425T055248
CREATED:20210809T144337Z
LAST-MODIFIED:20210921T103844Z
UID:3212-1632654000-1632659400@www.centrumkyrkan.se
SUMMARY:Gudstjänst
DESCRIPTION:”Rik inför Gud”\nPredikan: Malin Aronsson\nMusik: Siri Klinth m team
URL:https://www.centrumkyrkan.se/kalender-namn/gudstjanst-5/
LOCATION:Centrumkyrkan i Sundbyberg\, Prästgårdsgatan 13\, Sundbyberg\, 17268
END:VEVENT
BEGIN:VEVENT
DTSTART;TZID=Europe/Stockholm:20210926T123000
DTEND;TZID=Europe/Stockholm:20210926T133000
DTSTAMP:20260425T055249
CREATED:20210924T114106Z
LAST-MODIFIED:20210924T114106Z
UID:3430-1632659400-1632663000@www.centrumkyrkan.se
SUMMARY:Församlingsmöte
DESCRIPTION:Välkommen att delta på ett viktigt församlingsmöte: \nFörslaget är: Att kalla Erik Valier till Pastor i Centrumkyrkan (omfattning 100%) från och med 3/10 2021 \nFör dig som inte kan komma till kyrkan finns möjlighet att delta digitalt\, via Teams (klicka här för att ansluta) \n 
URL:https://www.centrumkyrkan.se/kalender-namn/forsamlingsmote/
LOCATION:Centrumkyrkan i Sundbyberg\, Prästgårdsgatan 13\, Sundbyberg\, 17268
ORGANIZER;CN="Centrumkyrkan i Sundbyberg":MAILTO:info@centrumkyrkan.se
END:VEVENT
BEGIN:VEVENT
DTSTART;TZID=Europe/Stockholm:20210929T183000
DTEND;TZID=Europe/Stockholm:20210929T193000
DTSTAMP:20260425T055249
CREATED:20210824T141537Z
LAST-MODIFIED:20210824T143116Z
UID:3262-1632940200-1632943800@www.centrumkyrkan.se
SUMMARY:Inför Hans ansikte
DESCRIPTION:Bön- och nattvardsgudstjänst
URL:https://www.centrumkyrkan.se/kalender-namn/infor-hans-ansikte-3/
LOCATION:Centrumkyrkan i Sundbyberg\, Prästgårdsgatan 13\, Sundbyberg\, 17268
ATTACH;FMTTYPE=image/jpeg:https://www.centrumkyrkan.se/wp-content/uploads/2021/05/Infor-Hans-ansikte-text-20-002.jpg
END:VEVENT
BEGIN:VEVENT
DTSTART;TZID=Europe/Stockholm:20211002T100000
DTEND;TZID=Europe/Stockholm:20211002T120000
DTSTAMP:20260425T055249
CREATED:20210824T133606Z
LAST-MODIFIED:20210824T143116Z
UID:3225-1633168800-1633176000@www.centrumkyrkan.se
SUMMARY:Sopplunch
DESCRIPTION:Sopplunch varje lördag kl 10-12 \nEn värmande skål med soppa för den som behöver det. \nVälkommen!
URL:https://www.centrumkyrkan.se/kalender-namn/sopplunch-15/
LOCATION:Centrumkyrkan i Sundbyberg\, Prästgårdsgatan 13\, Sundbyberg\, 17268
END:VEVENT
BEGIN:VEVENT
DTSTART;TZID=Europe/Stockholm:20211003T110000
DTEND;TZID=Europe/Stockholm:20211003T123000
DTSTAMP:20260425T055249
CREATED:20210824T143725Z
LAST-MODIFIED:20210921T103804Z
UID:3285-1633258800-1633264200@www.centrumkyrkan.se
SUMMARY:Gudstjänst
DESCRIPTION:”Änglarna” \nPredikan: Bertil Edin\nMusik: Doris Aronsson m team \n 
URL:https://www.centrumkyrkan.se/kalender-namn/gudstjanst-6/
LOCATION:Centrumkyrkan i Sundbyberg\, Prästgårdsgatan 13\, Sundbyberg\, 17268
END:VEVENT
BEGIN:VEVENT
DTSTART;TZID=Europe/Stockholm:20211006T120000
DTEND;TZID=Europe/Stockholm:20211006T133000
DTSTAMP:20260425T055249
CREATED:20210921T081307Z
LAST-MODIFIED:20210921T081307Z
UID:3417-1633521600-1633527000@www.centrumkyrkan.se
SUMMARY:Bibelstudium
DESCRIPTION:Välkommen du som är dagledig. Vi fikar tillsammans och lyssnar till ett bibelstudium.
URL:https://www.centrumkyrkan.se/kalender-namn/bibelstudium-2/
LOCATION:Centrumkyrkan i Sundbyberg\, Prästgårdsgatan 13\, Sundbyberg\, 17268
ATTACH;FMTTYPE=image/jpeg:https://www.centrumkyrkan.se/wp-content/uploads/2020/12/bibel-host-scaled.jpg
END:VEVENT
END:VCALENDAR