BEGIN:VCALENDAR
VERSION:2.0
PRODID:-//Centrumkyrkan i Sundbyberg - ECPv6.15.20//NONSGML v1.0//EN
CALSCALE:GREGORIAN
METHOD:PUBLISH
X-WR-CALNAME:Centrumkyrkan i Sundbyberg
X-ORIGINAL-URL:https://www.centrumkyrkan.se
X-WR-CALDESC:Händelser för Centrumkyrkan i Sundbyberg
REFRESH-INTERVAL;VALUE=DURATION:PT1H
X-Robots-Tag:noindex
X-PUBLISHED-TTL:PT1H
BEGIN:VTIMEZONE
TZID:Europe/Stockholm
BEGIN:DAYLIGHT
TZOFFSETFROM:+0100
TZOFFSETTO:+0200
TZNAME:CEST
DTSTART:20250330T010000
END:DAYLIGHT
BEGIN:STANDARD
TZOFFSETFROM:+0200
TZOFFSETTO:+0100
TZNAME:CET
DTSTART:20251026T010000
END:STANDARD
BEGIN:DAYLIGHT
TZOFFSETFROM:+0100
TZOFFSETTO:+0200
TZNAME:CEST
DTSTART:20260329T010000
END:DAYLIGHT
BEGIN:STANDARD
TZOFFSETFROM:+0200
TZOFFSETTO:+0100
TZNAME:CET
DTSTART:20261025T010000
END:STANDARD
BEGIN:DAYLIGHT
TZOFFSETFROM:+0100
TZOFFSETTO:+0200
TZNAME:CEST
DTSTART:20270328T010000
END:DAYLIGHT
BEGIN:STANDARD
TZOFFSETFROM:+0200
TZOFFSETTO:+0100
TZNAME:CET
DTSTART:20271031T010000
END:STANDARD
END:VTIMEZONE
BEGIN:VEVENT
DTSTART;TZID=Europe/Stockholm:20260425T100000
DTEND;TZID=Europe/Stockholm:20260425T123000
DTSTAMP:20260419T172720
CREATED:20260313T111113Z
LAST-MODIFIED:20260313T111113Z
UID:8019-1777111200-1777120200@www.centrumkyrkan.se
SUMMARY:Sopplunch
DESCRIPTION:
URL:https://www.centrumkyrkan.se/kalender-namn/sopplunch-207/
CATEGORIES:Sopplunch
END:VEVENT
BEGIN:VEVENT
DTSTART;TZID=Europe/Stockholm:20260425T143000
DTEND;TZID=Europe/Stockholm:20260425T160000
DTSTAMP:20260419T172720
CREATED:20260313T111204Z
LAST-MODIFIED:20260313T111204Z
UID:8021-1777127400-1777132800@www.centrumkyrkan.se
SUMMARY:Församlingsbön
DESCRIPTION:
URL:https://www.centrumkyrkan.se/kalender-namn/forsamlingsbon-97/
END:VEVENT
BEGIN:VEVENT
DTSTART;TZID=Europe/Stockholm:20260426T110000
DTEND;TZID=Europe/Stockholm:20260426T123000
DTSTAMP:20260419T172720
CREATED:20260313T110949Z
LAST-MODIFIED:20260313T110949Z
UID:8017-1777201200-1777206600@www.centrumkyrkan.se
SUMMARY:Gudstjänst
DESCRIPTION:Predikan: Anton Ahlmark. Vi firar nattvard tillsammans.
URL:https://www.centrumkyrkan.se/kalender-namn/gudstjanst-216/
CATEGORIES:Gudstjänst med nattvard
END:VEVENT
BEGIN:VEVENT
DTSTART;TZID=Europe/Stockholm:20260428T130000
DTEND;TZID=Europe/Stockholm:20260428T150000
DTSTAMP:20260419T172720
CREATED:20260407T130704Z
LAST-MODIFIED:20260407T130704Z
UID:8053-1777381200-1777388400@www.centrumkyrkan.se
SUMMARY:Mitt på dagen-träff med Mötesplats Rörstrand
DESCRIPTION:Vi möts på nästa mitt på dagen-träff\, denna gång tillsammans med Mötesplats Rörstrand. Vi fikar och umgås tillsammans.
URL:https://www.centrumkyrkan.se/kalender-namn/mitt-pa-dagen-traff-med-motesplats-rorstrand/
END:VEVENT
BEGIN:VEVENT
DTSTART;TZID=Europe/Stockholm:20260429T183000
DTEND;TZID=Europe/Stockholm:20260429T193000
DTSTAMP:20260419T172720
CREATED:20260407T130754Z
LAST-MODIFIED:20260407T130754Z
UID:8055-1777487400-1777491000@www.centrumkyrkan.se
SUMMARY:Inför Hans ansikte
DESCRIPTION:Bönegudstjänst med nattvard. Vi möts i kyrksalen.
URL:https://www.centrumkyrkan.se/kalender-namn/infor-hans-ansikte-73/
CATEGORIES:Inför Hans ansikte
END:VEVENT
END:VCALENDAR