BEGIN:VCALENDAR
VERSION:2.0
PRODID:-//Centrumkyrkan i Sundbyberg - ECPv6.15.20//NONSGML v1.0//EN
CALSCALE:GREGORIAN
METHOD:PUBLISH
X-WR-CALNAME:Centrumkyrkan i Sundbyberg
X-ORIGINAL-URL:https://www.centrumkyrkan.se
X-WR-CALDESC:Händelser för Centrumkyrkan i Sundbyberg
REFRESH-INTERVAL;VALUE=DURATION:PT1H
X-Robots-Tag:noindex
X-PUBLISHED-TTL:PT1H
BEGIN:VTIMEZONE
TZID:Europe/Stockholm
BEGIN:DAYLIGHT
TZOFFSETFROM:+0100
TZOFFSETTO:+0200
TZNAME:CEST
DTSTART:20250330T010000
END:DAYLIGHT
BEGIN:STANDARD
TZOFFSETFROM:+0200
TZOFFSETTO:+0100
TZNAME:CET
DTSTART:20251026T010000
END:STANDARD
BEGIN:DAYLIGHT
TZOFFSETFROM:+0100
TZOFFSETTO:+0200
TZNAME:CEST
DTSTART:20260329T010000
END:DAYLIGHT
BEGIN:STANDARD
TZOFFSETFROM:+0200
TZOFFSETTO:+0100
TZNAME:CET
DTSTART:20261025T010000
END:STANDARD
BEGIN:DAYLIGHT
TZOFFSETFROM:+0100
TZOFFSETTO:+0200
TZNAME:CEST
DTSTART:20270328T010000
END:DAYLIGHT
BEGIN:STANDARD
TZOFFSETFROM:+0200
TZOFFSETTO:+0100
TZNAME:CET
DTSTART:20271031T010000
END:STANDARD
END:VTIMEZONE
BEGIN:VEVENT
DTSTART;TZID=Europe/Stockholm:20260207T100000
DTEND;TZID=Europe/Stockholm:20260207T120000
DTSTAMP:20260422T021142
CREATED:20260130T082327Z
LAST-MODIFIED:20260130T082327Z
UID:7834-1770458400-1770465600@www.centrumkyrkan.se
SUMMARY:Sopplunch
DESCRIPTION:
URL:https://www.centrumkyrkan.se/kalender-namn/sopplunch-196/
CATEGORIES:Sopplunch
END:VEVENT
BEGIN:VEVENT
DTSTART;TZID=Europe/Stockholm:20260207T143000
DTEND;TZID=Europe/Stockholm:20260207T160000
DTSTAMP:20260422T021142
CREATED:20260130T082357Z
LAST-MODIFIED:20260130T082357Z
UID:7836-1770474600-1770480000@www.centrumkyrkan.se
SUMMARY:Församlingsbön
DESCRIPTION:
URL:https://www.centrumkyrkan.se/kalender-namn/forsamlingsbon-86/
END:VEVENT
BEGIN:VEVENT
DTSTART;TZID=Europe/Stockholm:20260208T110000
DTEND;TZID=Europe/Stockholm:20260208T123000
DTSTAMP:20260422T021142
CREATED:20260130T082635Z
LAST-MODIFIED:20260130T082635Z
UID:7840-1770548400-1770553800@www.centrumkyrkan.se
SUMMARY:Gudstjänst
DESCRIPTION:Anton Ahlmark predikar om uppenbarelsens ljus.
URL:https://www.centrumkyrkan.se/kalender-namn/gudstjanst-206/
CATEGORIES:Gudstjänst
END:VEVENT
BEGIN:VEVENT
DTSTART;TZID=Europe/Stockholm:20260208T180000
DTEND;TZID=Europe/Stockholm:20260208T193000
DTSTAMP:20260422T021142
CREATED:20260203T131344Z
LAST-MODIFIED:20260203T131344Z
UID:7872-1770573600-1770579000@www.centrumkyrkan.se
SUMMARY:Release av mässan "Större"
DESCRIPTION:Martina Möllås och Ola Hedéns release av mässan ”Större”. Varmt välkomna kl. 18:00 till Centrumkyrkan! Det är fri entré!
URL:https://www.centrumkyrkan.se/kalender-namn/release-av-massan-storre/
END:VEVENT
BEGIN:VEVENT
DTSTART;TZID=Europe/Stockholm:20260211T170000
DTEND;TZID=Europe/Stockholm:20260211T180000
DTSTAMP:20260422T021142
CREATED:20260130T082943Z
LAST-MODIFIED:20260130T082943Z
UID:7846-1770829200-1770832800@www.centrumkyrkan.se
SUMMARY:Bibelstudie ungdom
DESCRIPTION:Bibelstudie för ungdomar. Start kl. 17:00. Se @ung.i.ck på instagram för mer info!
URL:https://www.centrumkyrkan.se/kalender-namn/bibelstudie-ungdom-16/
CATEGORIES:Bibelstudie ungdom
END:VEVENT
BEGIN:VEVENT
DTSTART;TZID=Europe/Stockholm:20260211T173000
DTEND;TZID=Europe/Stockholm:20260211T200000
DTSTAMP:20260422T021142
CREATED:20260130T082727Z
LAST-MODIFIED:20260130T082727Z
UID:7842-1770831000-1770840000@www.centrumkyrkan.se
SUMMARY:CK-onsdag
DESCRIPTION:Onsdags-middag kl. 17:30. Samtalskväll kl. 18:30. \nIngång cafévåningen i mitten av trappen utanför kyrkan för middag!
URL:https://www.centrumkyrkan.se/kalender-namn/ck-onsdag-3/
CATEGORIES:CK-onsdag
END:VEVENT
BEGIN:VEVENT
DTSTART;TZID=Europe/Stockholm:20260214T100000
DTEND;TZID=Europe/Stockholm:20260214T120000
DTSTAMP:20260422T021142
CREATED:20260130T083017Z
LAST-MODIFIED:20260130T083017Z
UID:7848-1771063200-1771070400@www.centrumkyrkan.se
SUMMARY:Sopplunch
DESCRIPTION:
URL:https://www.centrumkyrkan.se/kalender-namn/sopplunch-197/
CATEGORIES:Sopplunch
END:VEVENT
BEGIN:VEVENT
DTSTART;TZID=Europe/Stockholm:20260214T143000
DTEND;TZID=Europe/Stockholm:20260214T160000
DTSTAMP:20260422T021142
CREATED:20260130T083044Z
LAST-MODIFIED:20260130T083044Z
UID:7850-1771079400-1771084800@www.centrumkyrkan.se
SUMMARY:Församlingsbön
DESCRIPTION:
URL:https://www.centrumkyrkan.se/kalender-namn/forsamlingsbon-87/
END:VEVENT
BEGIN:VEVENT
DTSTART;TZID=Europe/Stockholm:20260215T110000
DTEND;TZID=Europe/Stockholm:20260215T123000
DTSTAMP:20260422T021142
CREATED:20260130T083304Z
LAST-MODIFIED:20260130T083304Z
UID:7852-1771153200-1771158600@www.centrumkyrkan.se
SUMMARY:Gudstjänst
DESCRIPTION:Bertil Edin predikar om kärlekens väg. \nVåffelsöndag! Vi firar nattvard tillsammans. Församlingsmöte efter gudstjänsten.
URL:https://www.centrumkyrkan.se/kalender-namn/gudstjanst-207/
CATEGORIES:Gudstjänst
END:VEVENT
BEGIN:VEVENT
DTSTART;TZID=Europe/Stockholm:20260218T170000
DTEND;TZID=Europe/Stockholm:20260218T180000
DTSTAMP:20260422T021142
CREATED:20260130T083439Z
LAST-MODIFIED:20260130T083439Z
UID:7854-1771434000-1771437600@www.centrumkyrkan.se
SUMMARY:Bibelstudie ungdom
DESCRIPTION:Bibelstudie för ungdomar. Start kl. 17:00. Se @ung.i.ck på instagram för mer information!
URL:https://www.centrumkyrkan.se/kalender-namn/bibelstudie-ungdom-17/
CATEGORIES:Bibelstudie ungdom
END:VEVENT
BEGIN:VEVENT
DTSTART;TZID=Europe/Stockholm:20260218T173000
DTEND;TZID=Europe/Stockholm:20260218T200000
DTSTAMP:20260422T021142
CREATED:20260130T083626Z
LAST-MODIFIED:20260130T083626Z
UID:7856-1771435800-1771444800@www.centrumkyrkan.se
SUMMARY:CK-onsdag
DESCRIPTION:Onsdags-middag kl. 17:30. Mässa Inför Hans ansikte kl. 18:30. \nIngång cafévåningen i mitten av trappen utanför kyrkan för middag!
URL:https://www.centrumkyrkan.se/kalender-namn/ck-onsdag-4/
CATEGORIES:CK-onsdag,Inför Hans ansikte
END:VEVENT
BEGIN:VEVENT
DTSTART;TZID=Europe/Stockholm:20260220T190000
DTEND;TZID=Europe/Stockholm:20260220T230000
DTSTAMP:20260422T021142
CREATED:20260130T083733Z
LAST-MODIFIED:20260130T083733Z
UID:7858-1771614000-1771628400@www.centrumkyrkan.se
SUMMARY:Ungdomskväll!
DESCRIPTION:Ungdomskväll i Centrumkyrkan\, start 19:00! Se @ung.i.ck på instagram för mer info!
URL:https://www.centrumkyrkan.se/kalender-namn/ungdomskvall-5/
END:VEVENT
BEGIN:VEVENT
DTSTART;TZID=Europe/Stockholm:20260221T100000
DTEND;TZID=Europe/Stockholm:20260221T120000
DTSTAMP:20260422T021142
CREATED:20260130T083806Z
LAST-MODIFIED:20260130T083806Z
UID:7860-1771668000-1771675200@www.centrumkyrkan.se
SUMMARY:Sopplunch
DESCRIPTION:
URL:https://www.centrumkyrkan.se/kalender-namn/sopplunch-198/
CATEGORIES:Sopplunch
END:VEVENT
BEGIN:VEVENT
DTSTART;TZID=Europe/Stockholm:20260221T143000
DTEND;TZID=Europe/Stockholm:20260221T160000
DTSTAMP:20260422T021142
CREATED:20260130T083833Z
LAST-MODIFIED:20260130T083833Z
UID:7862-1771684200-1771689600@www.centrumkyrkan.se
SUMMARY:Församlingsbön
DESCRIPTION:
URL:https://www.centrumkyrkan.se/kalender-namn/forsamlingsbon-88/
END:VEVENT
BEGIN:VEVENT
DTSTART;TZID=Europe/Stockholm:20260222T110000
DTEND;TZID=Europe/Stockholm:20260222T123000
DTSTAMP:20260422T021142
CREATED:20260130T083935Z
LAST-MODIFIED:20260130T083935Z
UID:7864-1771758000-1771763400@www.centrumkyrkan.se
SUMMARY:Gudstjänst
DESCRIPTION:Malin Aronsson predikar om prövningens stund.
URL:https://www.centrumkyrkan.se/kalender-namn/gudstjanst-208/
CATEGORIES:Gudstjänst
END:VEVENT
BEGIN:VEVENT
DTSTART;TZID=Europe/Stockholm:20260228T100000
DTEND;TZID=Europe/Stockholm:20260228T120000
DTSTAMP:20260422T021142
CREATED:20260130T084042Z
LAST-MODIFIED:20260130T084042Z
UID:7866-1772272800-1772280000@www.centrumkyrkan.se
SUMMARY:Sopplunch
DESCRIPTION:
URL:https://www.centrumkyrkan.se/kalender-namn/sopplunch-199/
END:VEVENT
BEGIN:VEVENT
DTSTART;TZID=Europe/Stockholm:20260228T143000
DTEND;TZID=Europe/Stockholm:20260228T160000
DTSTAMP:20260422T021142
CREATED:20260130T084202Z
LAST-MODIFIED:20260130T084202Z
UID:7868-1772289000-1772294400@www.centrumkyrkan.se
SUMMARY:Församlingsbön
DESCRIPTION:
URL:https://www.centrumkyrkan.se/kalender-namn/forsamlingsbon-89/
END:VEVENT
BEGIN:VEVENT
DTSTART;TZID=Europe/Stockholm:20260301T093000
DTEND;TZID=Europe/Stockholm:20260301T103000
DTSTAMP:20260422T021142
CREATED:20260225T104318Z
LAST-MODIFIED:20260225T104318Z
UID:7915-1772357400-1772361000@www.centrumkyrkan.se
SUMMARY:Frukostbibelstudium
DESCRIPTION:Kl. 09:30-10:30 är ni varmt välkomna på ett Frukostbibelstudium med Peter Halldorf. Temat är ”I tystnadens mörker som är ljusare än ljuset”. Vi möts i kyrkans cafeteria och där serveras det även frukost!
URL:https://www.centrumkyrkan.se/kalender-namn/frukostbibelstudium-6/
END:VEVENT
BEGIN:VEVENT
DTSTART;TZID=Europe/Stockholm:20260301T110000
DTEND;TZID=Europe/Stockholm:20260301T123000
DTSTAMP:20260422T021142
CREATED:20260130T084416Z
LAST-MODIFIED:20260225T104107Z
UID:7870-1772362800-1772368200@www.centrumkyrkan.se
SUMMARY:Gudstjänst
DESCRIPTION:Peter Halldorf predikar om den kämpande tron. Vi firar nattvard tillsammans.
URL:https://www.centrumkyrkan.se/kalender-namn/gudstjanst-209/
CATEGORIES:Gudstjänst,Gudstjänst med nattvard
END:VEVENT
BEGIN:VEVENT
DTSTART;TZID=Europe/Stockholm:20260304T170000
DTEND;TZID=Europe/Stockholm:20260304T180000
DTSTAMP:20260422T021142
CREATED:20260225T122022Z
LAST-MODIFIED:20260225T122022Z
UID:7917-1772643600-1772647200@www.centrumkyrkan.se
SUMMARY:Bibelstudie ungdom
DESCRIPTION:Bibelstudie för ungdomar. Se @ung.i.ck på instagram för mer info!
URL:https://www.centrumkyrkan.se/kalender-namn/bibelstudie-ungdom-18/
CATEGORIES:Bibelstudie ungdom
END:VEVENT
BEGIN:VEVENT
DTSTART;TZID=Europe/Stockholm:20260304T173000
DTEND;TZID=Europe/Stockholm:20260304T200000
DTSTAMP:20260422T021142
CREATED:20260225T122234Z
LAST-MODIFIED:20260225T122234Z
UID:7919-1772645400-1772654400@www.centrumkyrkan.se
SUMMARY:CK-onsdag
DESCRIPTION:Middag kl. 17:30. Mässan ”Inför Hans ansikte” kl. 18:30. Ingång genom cafévåningen i mitten av trappan utanför kyrkan för middag!
URL:https://www.centrumkyrkan.se/kalender-namn/ck-onsdag-5/
CATEGORIES:CK-onsdag,Inför Hans ansikte
END:VEVENT
BEGIN:VEVENT
DTSTART;TZID=Europe/Stockholm:20260307T100000
DTEND;TZID=Europe/Stockholm:20260307T120000
DTSTAMP:20260422T021142
CREATED:20260225T122413Z
LAST-MODIFIED:20260225T122413Z
UID:7921-1772877600-1772884800@www.centrumkyrkan.se
SUMMARY:Sopplunch
DESCRIPTION:
URL:https://www.centrumkyrkan.se/kalender-namn/sopplunch-200/
CATEGORIES:Sopplunch
END:VEVENT
BEGIN:VEVENT
DTSTART;TZID=Europe/Stockholm:20260307T143000
DTEND;TZID=Europe/Stockholm:20260307T160000
DTSTAMP:20260422T021142
CREATED:20260225T122448Z
LAST-MODIFIED:20260225T122448Z
UID:7923-1772893800-1772899200@www.centrumkyrkan.se
SUMMARY:Församlingsbön
DESCRIPTION:
URL:https://www.centrumkyrkan.se/kalender-namn/forsamlingsbon-90/
END:VEVENT
BEGIN:VEVENT
DTSTART;TZID=Europe/Stockholm:20260308T110000
DTEND;TZID=Europe/Stockholm:20260308T123000
DTSTAMP:20260422T021142
CREATED:20260225T122728Z
LAST-MODIFIED:20260225T122728Z
UID:7925-1772967600-1772973000@www.centrumkyrkan.se
SUMMARY:Gudstjänst
DESCRIPTION:Predikan: Anton Ahlmark. Våffelsöndag! Vi har församlingsforum efter gudstjänsten.
URL:https://www.centrumkyrkan.se/kalender-namn/gudstjanst-210/
CATEGORIES:Gudstjänst
END:VEVENT
BEGIN:VEVENT
DTSTART;TZID=Europe/Stockholm:20260311T170000
DTEND;TZID=Europe/Stockholm:20260311T180000
DTSTAMP:20260422T021142
CREATED:20260225T122821Z
LAST-MODIFIED:20260225T122821Z
UID:7927-1773248400-1773252000@www.centrumkyrkan.se
SUMMARY:Bibelstudie ungdom
DESCRIPTION:Bibelstudie för ungdomar. Se @ung.i.ck på instagram för mer info!
URL:https://www.centrumkyrkan.se/kalender-namn/bibelstudie-ungdom-19/
CATEGORIES:Bibelstudie ungdom
END:VEVENT
BEGIN:VEVENT
DTSTART;TZID=Europe/Stockholm:20260311T180000
DTEND;TZID=Europe/Stockholm:20260311T200000
DTSTAMP:20260422T021142
CREATED:20260225T123211Z
LAST-MODIFIED:20260225T123211Z
UID:7931-1773252000-1773259200@www.centrumkyrkan.se
SUMMARY:Alpha
DESCRIPTION:Uppstart av Alpha! En nybörjarkurs i kristen tro! Vi börjar med att äta middag tillsammans kl. 18:00 och fortsätter sedan med kursen. Anmälan och mer info finns på vår hemsida!
URL:https://www.centrumkyrkan.se/kalender-namn/alpha-9/
END:VEVENT
BEGIN:VEVENT
DTSTART;TZID=Europe/Stockholm:20260311T183000
DTEND;TZID=Europe/Stockholm:20260311T200000
DTSTAMP:20260422T021142
CREATED:20260225T123048Z
LAST-MODIFIED:20260225T123048Z
UID:7929-1773253800-1773259200@www.centrumkyrkan.se
SUMMARY:CK-onsdag
DESCRIPTION:Middag kl. 17:30\, ingång på cafévåningen i mitten av trappan utanför kyrkan. Kl.18:30- konsert: En kväll med Ingemar Olssons musik! Cathrin Sjöström och Daniel Hektor med gäster!
URL:https://www.centrumkyrkan.se/kalender-namn/ck-onsdag-6/
END:VEVENT
BEGIN:VEVENT
DTSTART;TZID=Europe/Stockholm:20260314T100000
DTEND;TZID=Europe/Stockholm:20260314T120000
DTSTAMP:20260422T021142
CREATED:20260225T123304Z
LAST-MODIFIED:20260225T123304Z
UID:7934-1773482400-1773489600@www.centrumkyrkan.se
SUMMARY:Sopplunch
DESCRIPTION:
URL:https://www.centrumkyrkan.se/kalender-namn/sopplunch-201/
CATEGORIES:Sopplunch
END:VEVENT
BEGIN:VEVENT
DTSTART;TZID=Europe/Stockholm:20260314T143000
DTEND;TZID=Europe/Stockholm:20260314T160000
DTSTAMP:20260422T021142
CREATED:20260225T123607Z
LAST-MODIFIED:20260225T123607Z
UID:7936-1773498600-1773504000@www.centrumkyrkan.se
SUMMARY:Församlingsbön
DESCRIPTION:
URL:https://www.centrumkyrkan.se/kalender-namn/forsamlingsbon-91/
END:VEVENT
BEGIN:VEVENT
DTSTART;TZID=Europe/Stockholm:20260315T110000
DTEND;TZID=Europe/Stockholm:20260315T123000
DTSTAMP:20260422T021142
CREATED:20260225T123832Z
LAST-MODIFIED:20260225T123832Z
UID:7938-1773572400-1773577800@www.centrumkyrkan.se
SUMMARY:Gudstjänst
DESCRIPTION:Predikan: Malin Aronsson. Vi firar nattvard tillsammans. Dop! (Är du intresserad av att döpa dig? Hör av dig till oss på info@centrumkyrkan.se)
URL:https://www.centrumkyrkan.se/kalender-namn/gudstjanst-211/
CATEGORIES:Gudstjänst med nattvard
END:VEVENT
END:VCALENDAR