BEGIN:VCALENDAR
VERSION:2.0
PRODID:-//Centrumkyrkan i Sundbyberg - ECPv6.15.20//NONSGML v1.0//EN
CALSCALE:GREGORIAN
METHOD:PUBLISH
X-WR-CALNAME:Centrumkyrkan i Sundbyberg
X-ORIGINAL-URL:https://www.centrumkyrkan.se
X-WR-CALDESC:Händelser för Centrumkyrkan i Sundbyberg
REFRESH-INTERVAL;VALUE=DURATION:PT1H
X-Robots-Tag:noindex
X-PUBLISHED-TTL:PT1H
BEGIN:VTIMEZONE
TZID:Europe/Stockholm
BEGIN:DAYLIGHT
TZOFFSETFROM:+0100
TZOFFSETTO:+0200
TZNAME:CEST
DTSTART:20230326T010000
END:DAYLIGHT
BEGIN:STANDARD
TZOFFSETFROM:+0200
TZOFFSETTO:+0100
TZNAME:CET
DTSTART:20231029T010000
END:STANDARD
BEGIN:DAYLIGHT
TZOFFSETFROM:+0100
TZOFFSETTO:+0200
TZNAME:CEST
DTSTART:20240331T010000
END:DAYLIGHT
BEGIN:STANDARD
TZOFFSETFROM:+0200
TZOFFSETTO:+0100
TZNAME:CET
DTSTART:20241027T010000
END:STANDARD
BEGIN:DAYLIGHT
TZOFFSETFROM:+0100
TZOFFSETTO:+0200
TZNAME:CEST
DTSTART:20250330T010000
END:DAYLIGHT
BEGIN:STANDARD
TZOFFSETFROM:+0200
TZOFFSETTO:+0100
TZNAME:CET
DTSTART:20251026T010000
END:STANDARD
END:VTIMEZONE
BEGIN:VEVENT
DTSTART;TZID=Europe/Stockholm:20240419T183000
DTEND;TZID=Europe/Stockholm:20240419T210000
DTSTAMP:20260423T001647
CREATED:20240312T122523Z
LAST-MODIFIED:20240312T125918Z
UID:5974-1713551400-1713560400@www.centrumkyrkan.se
SUMMARY:CK Tillsammans
DESCRIPTION:18.30.
URL:https://www.centrumkyrkan.se/kalender-namn/musikfest-ck-ukraina-4/
END:VEVENT
BEGIN:VEVENT
DTSTART;TZID=Europe/Stockholm:20240420T100000
DTEND;TZID=Europe/Stockholm:20240420T120000
DTSTAMP:20260423T001647
CREATED:20240116T101510Z
LAST-MODIFIED:20240116T101510Z
UID:5780-1713607200-1713614400@www.centrumkyrkan.se
SUMMARY:Sopplunch
DESCRIPTION:10.00 – 12.00.
URL:https://www.centrumkyrkan.se/kalender-namn/sopplunch-119/
END:VEVENT
BEGIN:VEVENT
DTSTART;TZID=Europe/Stockholm:20240421T110000
DTEND;TZID=Europe/Stockholm:20240421T123000
DTSTAMP:20260423T001647
CREATED:20231218T093338Z
LAST-MODIFIED:20240222T112426Z
UID:5626-1713697200-1713702600@www.centrumkyrkan.se
SUMMARY:Gudstjänst
DESCRIPTION:11.00. ”Vägen till livet”.\nPredikan: Sune Nordin.\nVi firar nattvard.
URL:https://www.centrumkyrkan.se/kalender-namn/gudstjanst-124/
END:VEVENT
BEGIN:VEVENT
DTSTART;TZID=Europe/Stockholm:20240423T173000
DTEND;TZID=Europe/Stockholm:20240423T190000
DTSTAMP:20260423T001647
CREATED:20240322T143351Z
LAST-MODIFIED:20240322T143351Z
UID:6023-1713893400-1713898800@www.centrumkyrkan.se
SUMMARY:Konfa
DESCRIPTION:Kl. 17.30-19.00.\nVi är i cafévåningen samt kyrksalen.
URL:https://www.centrumkyrkan.se/kalender-namn/konfa-26/
END:VEVENT
BEGIN:VEVENT
DTSTART;TZID=Europe/Stockholm:20240424T183000
DTEND;TZID=Europe/Stockholm:20240424T193000
DTSTAMP:20260423T001647
CREATED:20240111T090644Z
LAST-MODIFIED:20240111T090644Z
UID:5756-1713983400-1713987000@www.centrumkyrkan.se
SUMMARY:Inför Hans ansikte
DESCRIPTION:18.30-19.30.\nBönegudstjänst med nattvard.
URL:https://www.centrumkyrkan.se/kalender-namn/infor-hans-ansikte-49/
END:VEVENT
BEGIN:VEVENT
DTSTART;TZID=Europe/Stockholm:20240427T100000
DTEND;TZID=Europe/Stockholm:20240427T120000
DTSTAMP:20260423T001647
CREATED:20240116T101559Z
LAST-MODIFIED:20240116T101559Z
UID:5782-1714212000-1714219200@www.centrumkyrkan.se
SUMMARY:Sopplunch
DESCRIPTION:10.00 – 12.00.
URL:https://www.centrumkyrkan.se/kalender-namn/sopplunch-120/
END:VEVENT
BEGIN:VEVENT
DTSTART;TZID=Europe/Stockholm:20240428T110000
DTEND;TZID=Europe/Stockholm:20240428T123000
DTSTAMP:20260423T001647
CREATED:20231218T093445Z
LAST-MODIFIED:20240222T112517Z
UID:5628-1714302000-1714307400@www.centrumkyrkan.se
SUMMARY:Gudstjänst
DESCRIPTION:11.00. ”Att växa i tro”.\nPredikan: Malin Aronsson.
URL:https://www.centrumkyrkan.se/kalender-namn/gudstjanst-125/
END:VEVENT
BEGIN:VEVENT
DTSTART;TZID=Europe/Stockholm:20240428T130000
DTEND;TZID=Europe/Stockholm:20240428T150000
DTSTAMP:20260423T001647
CREATED:20240418T091521Z
LAST-MODIFIED:20240418T092247Z
UID:6089-1714309200-1714316400@www.centrumkyrkan.se
SUMMARY:Promenad efter gudstjänsten.
DESCRIPTION:Kort fika\, sen promenad till Gröna stugan vid Lötsjön.\nVälkommen med!
URL:https://www.centrumkyrkan.se/kalender-namn/promenad-2/
END:VEVENT
BEGIN:VEVENT
DTSTART;TZID=Europe/Stockholm:20240430T173000
DTEND;TZID=Europe/Stockholm:20240430T190000
DTSTAMP:20260423T001647
CREATED:20240322T143431Z
LAST-MODIFIED:20240322T143431Z
UID:6025-1714498200-1714503600@www.centrumkyrkan.se
SUMMARY:Konfa
DESCRIPTION:Kl. 17.30-19.00.\nVi är i cafévåningen samt kyrksalen.
URL:https://www.centrumkyrkan.se/kalender-namn/konfa-27/
END:VEVENT
BEGIN:VEVENT
DTSTART;TZID=Europe/Stockholm:20240504T100000
DTEND;TZID=Europe/Stockholm:20240504T120000
DTSTAMP:20260423T001647
CREATED:20240116T101641Z
LAST-MODIFIED:20240116T101641Z
UID:5784-1714816800-1714824000@www.centrumkyrkan.se
SUMMARY:Sopplunch
DESCRIPTION:10.00 – 12.00.
URL:https://www.centrumkyrkan.se/kalender-namn/sopplunch-121/
END:VEVENT
BEGIN:VEVENT
DTSTART;TZID=Europe/Stockholm:20240505T110000
DTEND;TZID=Europe/Stockholm:20240505T123000
DTSTAMP:20260423T001647
CREATED:20231218T093600Z
LAST-MODIFIED:20240426T134627Z
UID:5630-1714906800-1714912200@www.centrumkyrkan.se
SUMMARY:Gudstjänst
DESCRIPTION:11.00. ”Bönen”.\nPredikan: Molly Stenmark.\nVi firar nattvard.
URL:https://www.centrumkyrkan.se/kalender-namn/gudstjanst-126/
END:VEVENT
BEGIN:VEVENT
DTSTART;TZID=Europe/Stockholm:20240505T183000
DTEND;TZID=Europe/Stockholm:20240505T193000
DTSTAMP:20260423T001647
CREATED:20240417T135113Z
LAST-MODIFIED:20240417T135113Z
UID:6085-1714933800-1714937400@www.centrumkyrkan.se
SUMMARY:Samtalskväll med Stanley Sjöberg
DESCRIPTION:18.30.\nVälkommen till samtalskväll med Centrumkyrkans grundare\, Stanley Sjöberg.
URL:https://www.centrumkyrkan.se/kalender-namn/samtalskvall-med-stanley-sjoberg/
END:VEVENT
BEGIN:VEVENT
DTSTART;TZID=Europe/Stockholm:20240507T173000
DTEND;TZID=Europe/Stockholm:20240507T190000
DTSTAMP:20260423T001647
CREATED:20240322T143509Z
LAST-MODIFIED:20240322T143509Z
UID:6027-1715103000-1715108400@www.centrumkyrkan.se
SUMMARY:Konfa
DESCRIPTION:Kl. 17.30-19.00.\nVi är i cafévåningen samt kyrksalen.
URL:https://www.centrumkyrkan.se/kalender-namn/konfa-28/
END:VEVENT
BEGIN:VEVENT
DTSTART;TZID=Europe/Stockholm:20240508T183000
DTEND;TZID=Europe/Stockholm:20240508T193000
DTSTAMP:20260423T001647
CREATED:20240116T100845Z
LAST-MODIFIED:20240116T100845Z
UID:5772-1715193000-1715196600@www.centrumkyrkan.se
SUMMARY:Inför Hans ansikte
DESCRIPTION:18.30 – 19.30.\nBönegudstjänst med nattvard.
URL:https://www.centrumkyrkan.se/kalender-namn/infor-hans-ansikte-50/
END:VEVENT
BEGIN:VEVENT
DTSTART;TZID=Europe/Stockholm:20240509T090000
DTEND;TZID=Europe/Stockholm:20240509T120000
DTSTAMP:20260423T001647
CREATED:20240417T135331Z
LAST-MODIFIED:20240508T122031Z
UID:6087-1715245200-1715256000@www.centrumkyrkan.se
SUMMARY:Pilgrimsvandring inställd!
DESCRIPTION:På grund av ostadigt väder är Pilgrimsvandringen\ninställd!
URL:https://www.centrumkyrkan.se/kalender-namn/pilgrimsvandring-2/
END:VEVENT
BEGIN:VEVENT
DTSTART;TZID=Europe/Stockholm:20240510T183000
DTEND;TZID=Europe/Stockholm:20240510T210000
DTSTAMP:20260423T001647
CREATED:20240102T115025Z
LAST-MODIFIED:20240125T143218Z
UID:5733-1715365800-1715374800@www.centrumkyrkan.se
SUMMARY:Musikfest - CK-Ukraina
DESCRIPTION:18.30-21.00
URL:https://www.centrumkyrkan.se/kalender-namn/musikfest-ck-ukraina-2/
END:VEVENT
BEGIN:VEVENT
DTSTART;TZID=Europe/Stockholm:20240511T100000
DTEND;TZID=Europe/Stockholm:20240511T120000
DTSTAMP:20260423T001647
CREATED:20240116T101719Z
LAST-MODIFIED:20240116T101719Z
UID:5786-1715421600-1715428800@www.centrumkyrkan.se
SUMMARY:Sopplunch
DESCRIPTION:10.00 – 12.00.
URL:https://www.centrumkyrkan.se/kalender-namn/sopplunch-122/
END:VEVENT
BEGIN:VEVENT
DTSTART;TZID=Europe/Stockholm:20240512T110000
DTEND;TZID=Europe/Stockholm:20240512T123000
DTSTAMP:20260423T001647
CREATED:20240222T112854Z
LAST-MODIFIED:20240426T134427Z
UID:5949-1715511600-1715517000@www.centrumkyrkan.se
SUMMARY:Gudstjänst
DESCRIPTION:11.00. ”Hjälparen kommer”.\nPredikan: Sune Nordin.
URL:https://www.centrumkyrkan.se/kalender-namn/gudstjanst-127/
END:VEVENT
BEGIN:VEVENT
DTSTART;TZID=Europe/Stockholm:20240513T183000
DTEND;TZID=Europe/Stockholm:20240513T200000
DTSTAMP:20260423T001647
CREATED:20240426T135516Z
LAST-MODIFIED:20240430T115233Z
UID:6117-1715625000-1715630400@www.centrumkyrkan.se
SUMMARY:Poddkväll!
DESCRIPTION:18.30 Poddkväll med Malin Aronsson och inbjudna gäster.\nRickard Sjöberg\, Doreen Månsson och David Thurfjell\,\nVarmt välkommen!
URL:https://www.centrumkyrkan.se/kalender-namn/poddkvall/
END:VEVENT
BEGIN:VEVENT
DTSTART;TZID=Europe/Stockholm:20240514T173000
DTEND;TZID=Europe/Stockholm:20240514T190000
DTSTAMP:20260423T001647
CREATED:20240322T143549Z
LAST-MODIFIED:20240322T143549Z
UID:6029-1715707800-1715713200@www.centrumkyrkan.se
SUMMARY:Konfa
DESCRIPTION:Kl. 17.30-19.00.\nVi är i cafévåningen samt kyrksalen.
URL:https://www.centrumkyrkan.se/kalender-namn/konfa-29/
END:VEVENT
BEGIN:VEVENT
DTSTART;TZID=Europe/Stockholm:20240517T100000
DTEND;TZID=Europe/Stockholm:20240517T170000
DTSTAMP:20260423T001647
CREATED:20240426T135038Z
LAST-MODIFIED:20240426T135038Z
UID:6115-1715940000-1715965200@www.centrumkyrkan.se
SUMMARY:Vårmarknad i Cafévåningen
DESCRIPTION:10-17 Vårmarknad i Cafévåningen.\nVarmt välkommen!\nMer information kommer!
URL:https://www.centrumkyrkan.se/kalender-namn/varmarknad-i-cafevaningen/
END:VEVENT
BEGIN:VEVENT
DTSTART;TZID=Europe/Stockholm:20240518T100000
DTEND;TZID=Europe/Stockholm:20240518T120000
DTSTAMP:20260423T001647
CREATED:20240116T101754Z
LAST-MODIFIED:20240116T101754Z
UID:5788-1716026400-1716033600@www.centrumkyrkan.se
SUMMARY:Sopplunch
DESCRIPTION:10.00 – 12.00.
URL:https://www.centrumkyrkan.se/kalender-namn/sopplunch-123/
END:VEVENT
BEGIN:VEVENT
DTSTART;TZID=Europe/Stockholm:20240518T160000
DTEND;TZID=Europe/Stockholm:20240518T173000
DTSTAMP:20260423T001647
CREATED:20240426T134752Z
LAST-MODIFIED:20240430T100907Z
UID:6113-1716048000-1716053400@www.centrumkyrkan.se
SUMMARY:Vårkonsert
DESCRIPTION:16.00 Vårkonsert under ledning av\nHeidi Rohlin Westin.\nSe affisch på hemsidan! \nVarmt välkommen!
URL:https://www.centrumkyrkan.se/kalender-namn/varkonsert-3/
END:VEVENT
BEGIN:VEVENT
DTSTART;TZID=Europe/Stockholm:20240519T110000
DTEND;TZID=Europe/Stockholm:20240519T123000
DTSTAMP:20260423T001647
CREATED:20240222T113030Z
LAST-MODIFIED:20240508T122229Z
UID:5951-1716116400-1716121800@www.centrumkyrkan.se
SUMMARY:Gudstjänst
DESCRIPTION:11.00. ”Den heliga Anden”.\nPredikan: Malin Aronsson.\nVi firar nattvard.
URL:https://www.centrumkyrkan.se/kalender-namn/gudstjanst-128/
END:VEVENT
BEGIN:VEVENT
DTSTART;TZID=Europe/Stockholm:20240519T130000
DTEND;TZID=Europe/Stockholm:20240519T150000
DTSTAMP:20260423T001647
CREATED:20240430T104715Z
LAST-MODIFIED:20240430T104857Z
UID:6136-1716123600-1716130800@www.centrumkyrkan.se
SUMMARY:Promenad efter gudstjänsten.
DESCRIPTION:13.00\nPromenad efter gudstjänsten.\nKort fika i cafévåningen\, sen promenad till Gröna stugan vid Lötsjön för fortsatt\ngemenskap och lunch. \nVäl mött!
URL:https://www.centrumkyrkan.se/kalender-namn/promenad-3/
END:VEVENT
BEGIN:VEVENT
DTSTART;TZID=Europe/Stockholm:20240521T173000
DTEND;TZID=Europe/Stockholm:20240521T190000
DTSTAMP:20260423T001647
CREATED:20240322T143636Z
LAST-MODIFIED:20240322T143636Z
UID:6031-1716312600-1716318000@www.centrumkyrkan.se
SUMMARY:Konfa
DESCRIPTION:Kl. 17.30-19.00.\nVi är i cafévåningen samt kyrksalen.
URL:https://www.centrumkyrkan.se/kalender-namn/konfa-30/
END:VEVENT
BEGIN:VEVENT
DTSTART;TZID=Europe/Stockholm:20240522T183000
DTEND;TZID=Europe/Stockholm:20240522T193000
DTSTAMP:20260423T001647
CREATED:20240116T101008Z
LAST-MODIFIED:20240116T101008Z
UID:5774-1716402600-1716406200@www.centrumkyrkan.se
SUMMARY:Inför Hans ansikte
DESCRIPTION:18.30 – 19.30.\nBönegudstjänst med nattvard.\nSista för terminen.
URL:https://www.centrumkyrkan.se/kalender-namn/infor-hans-ansikte-51/
END:VEVENT
BEGIN:VEVENT
DTSTART;VALUE=DATE:20240524
DTEND;VALUE=DATE:20240527
DTSTAMP:20260423T001647
CREATED:20240221T142023Z
LAST-MODIFIED:20240222T115305Z
UID:5936-1716508800-1716767999@www.centrumkyrkan.se
SUMMARY:Retreat - Björkögården
DESCRIPTION:Välkommen till retreat på Björkögården!\nBertil Edin leder.\nAnmäl dig på info@centrumkyrkan.se\nKostnad: 1950 kr/person.\nInbetalning via Swish eller bg 5356-5438.\nMärk med Retreat.
URL:https://www.centrumkyrkan.se/kalender-namn/retreat-bjorkogarden/
END:VEVENT
BEGIN:VEVENT
DTSTART;TZID=Europe/Stockholm:20240525T100000
DTEND;TZID=Europe/Stockholm:20240525T120000
DTSTAMP:20260423T001647
CREATED:20240116T101834Z
LAST-MODIFIED:20240116T101834Z
UID:5790-1716631200-1716638400@www.centrumkyrkan.se
SUMMARY:Sopplunch
DESCRIPTION:10.00 – 12.00.
URL:https://www.centrumkyrkan.se/kalender-namn/sopplunch-124/
END:VEVENT
BEGIN:VEVENT
DTSTART;TZID=Europe/Stockholm:20240526T110000
DTEND;TZID=Europe/Stockholm:20240526T123000
DTSTAMP:20260423T001647
CREATED:20240222T113309Z
LAST-MODIFIED:20240508T122426Z
UID:5953-1716721200-1716726600@www.centrumkyrkan.se
SUMMARY:Gudstjänst
DESCRIPTION:11.00. ”Gud – Fader\, Son och Anden”.\nPredikan: Erik Valier.
URL:https://www.centrumkyrkan.se/kalender-namn/gudstjanst-129/
END:VEVENT
END:VCALENDAR