BEGIN:VCALENDAR
VERSION:2.0
PRODID:-//Centrumkyrkan i Sundbyberg - ECPv6.15.20//NONSGML v1.0//EN
CALSCALE:GREGORIAN
METHOD:PUBLISH
X-WR-CALNAME:Centrumkyrkan i Sundbyberg
X-ORIGINAL-URL:https://www.centrumkyrkan.se
X-WR-CALDESC:Händelser för Centrumkyrkan i Sundbyberg
REFRESH-INTERVAL;VALUE=DURATION:PT1H
X-Robots-Tag:noindex
X-PUBLISHED-TTL:PT1H
BEGIN:VTIMEZONE
TZID:Europe/Stockholm
BEGIN:DAYLIGHT
TZOFFSETFROM:+0100
TZOFFSETTO:+0200
TZNAME:CEST
DTSTART:20230326T010000
END:DAYLIGHT
BEGIN:STANDARD
TZOFFSETFROM:+0200
TZOFFSETTO:+0100
TZNAME:CET
DTSTART:20231029T010000
END:STANDARD
BEGIN:DAYLIGHT
TZOFFSETFROM:+0100
TZOFFSETTO:+0200
TZNAME:CEST
DTSTART:20240331T010000
END:DAYLIGHT
BEGIN:STANDARD
TZOFFSETFROM:+0200
TZOFFSETTO:+0100
TZNAME:CET
DTSTART:20241027T010000
END:STANDARD
BEGIN:DAYLIGHT
TZOFFSETFROM:+0100
TZOFFSETTO:+0200
TZNAME:CEST
DTSTART:20250330T010000
END:DAYLIGHT
BEGIN:STANDARD
TZOFFSETFROM:+0200
TZOFFSETTO:+0100
TZNAME:CET
DTSTART:20251026T010000
END:STANDARD
END:VTIMEZONE
BEGIN:VEVENT
DTSTART;TZID=Europe/Stockholm:20240307T180000
DTEND;TZID=Europe/Stockholm:20240307T193000
DTSTAMP:20260422T222028
CREATED:20240118T133902Z
LAST-MODIFIED:20240221T132623Z
UID:5851-1709834400-1709839800@www.centrumkyrkan.se
SUMMARY:Samtalskväll
DESCRIPTION:Samtalskväll om tro och livsfrågor.\n18.00 – 19.30.\nMalin Aronsson och Sune Nordin leder.
URL:https://www.centrumkyrkan.se/kalender-namn/tjejkvall/
END:VEVENT
BEGIN:VEVENT
DTSTART;TZID=Europe/Stockholm:20240308T190000
DTEND;TZID=Europe/Stockholm:20240308T220000
DTSTAMP:20260422T222028
CREATED:20240305T091423Z
LAST-MODIFIED:20240305T091423Z
UID:5971-1709924400-1709935200@www.centrumkyrkan.se
SUMMARY:Sevenup!
DESCRIPTION:Kl. 19.00.
URL:https://www.centrumkyrkan.se/kalender-namn/sevenup-5/
END:VEVENT
BEGIN:VEVENT
DTSTART;TZID=Europe/Stockholm:20240309T100000
DTEND;TZID=Europe/Stockholm:20240309T120000
DTSTAMP:20260422T222028
CREATED:20231107T124026Z
LAST-MODIFIED:20231107T124026Z
UID:5470-1709978400-1709985600@www.centrumkyrkan.se
SUMMARY:Sopplunch
DESCRIPTION:
URL:https://www.centrumkyrkan.se/kalender-namn/sopplunch-111/
END:VEVENT
BEGIN:VEVENT
DTSTART;TZID=Europe/Stockholm:20240310T080000
DTEND;TZID=Europe/Stockholm:20240310T133000
DTSTAMP:20260422T222028
CREATED:20231031T132757Z
LAST-MODIFIED:20240221T132103Z
UID:5397-1710057600-1710077400@www.centrumkyrkan.se
SUMMARY:Gudstjänst
DESCRIPTION:11.00. ”Livets bröd”.\nPredikan: Maja Folkesson.
URL:https://www.centrumkyrkan.se/kalender-namn/gudstjanst-119/
END:VEVENT
BEGIN:VEVENT
DTSTART;TZID=Europe/Stockholm:20240312T173000
DTEND;TZID=Europe/Stockholm:20240312T190000
DTSTAMP:20260422T222028
CREATED:20231103T095432Z
LAST-MODIFIED:20231103T095432Z
UID:5443-1710264600-1710270000@www.centrumkyrkan.se
SUMMARY:Konfa
DESCRIPTION:Vi är i cafévåningen samt kyrksalen.
URL:https://www.centrumkyrkan.se/kalender-namn/konfa-21/
END:VEVENT
BEGIN:VEVENT
DTSTART;TZID=Europe/Stockholm:20240313T183000
DTEND;TZID=Europe/Stockholm:20240313T193000
DTSTAMP:20260422T222028
CREATED:20240111T085642Z
LAST-MODIFIED:20240111T085642Z
UID:5750-1710354600-1710358200@www.centrumkyrkan.se
SUMMARY:Inför Hans ansikte
DESCRIPTION:18.30-19.30.\nBönegudstjänst med nattvard.
URL:https://www.centrumkyrkan.se/kalender-namn/infor-hans-ansikte-46/
END:VEVENT
BEGIN:VEVENT
DTSTART;TZID=Europe/Stockholm:20240314T183000
DTEND;TZID=Europe/Stockholm:20240314T210000
DTSTAMP:20260422T222028
CREATED:20240118T133452Z
LAST-MODIFIED:20240314T130130Z
UID:5847-1710441000-1710450000@www.centrumkyrkan.se
SUMMARY:Tjej-och kvinnokväll!
DESCRIPTION:18.30 – 21.00.\nTjej- och kvinnokväll för alla åldrar.\nMalin Aronsson leder.\nDet blir libanesisk buffé. Kostnad 100 kr/pers.\nStudent/ungdom 50 kr/pers.
URL:https://www.centrumkyrkan.se/kalender-namn/samtalskvall-5/
END:VEVENT
BEGIN:VEVENT
DTSTART;TZID=Europe/Stockholm:20240315T183000
DTEND;TZID=Europe/Stockholm:20240315T210000
DTSTAMP:20260422T222028
CREATED:20240102T115145Z
LAST-MODIFIED:20240125T143016Z
UID:5735-1710527400-1710536400@www.centrumkyrkan.se
SUMMARY:Musikfest - CK-Ukraina
DESCRIPTION:18.30-21.00.
URL:https://www.centrumkyrkan.se/kalender-namn/musikfest-ck-ukraina-3/
END:VEVENT
BEGIN:VEVENT
DTSTART;TZID=Europe/Stockholm:20240316T100000
DTEND;TZID=Europe/Stockholm:20240316T120000
DTSTAMP:20260422T222028
CREATED:20231107T124109Z
LAST-MODIFIED:20231107T124109Z
UID:5472-1710583200-1710590400@www.centrumkyrkan.se
SUMMARY:Sopplunch
DESCRIPTION:
URL:https://www.centrumkyrkan.se/kalender-namn/sopplunch-112/
END:VEVENT
BEGIN:VEVENT
DTSTART;TZID=Europe/Stockholm:20240317T110000
DTEND;TZID=Europe/Stockholm:20240317T123000
DTSTAMP:20260422T222028
CREATED:20231107T124950Z
LAST-MODIFIED:20240221T132159Z
UID:5482-1710673200-1710678600@www.centrumkyrkan.se
SUMMARY:Gudstjänst
DESCRIPTION:11.00. ”Guds mäktiga verk”.\nPredikan: Sune Nordin.\nVi firar nattvard.
URL:https://www.centrumkyrkan.se/kalender-namn/gudstjanst-121/
END:VEVENT
BEGIN:VEVENT
DTSTART;TZID=Europe/Stockholm:20240319T173000
DTEND;TZID=Europe/Stockholm:20240319T190000
DTSTAMP:20260422T222028
CREATED:20231103T105626Z
LAST-MODIFIED:20231103T105626Z
UID:5445-1710869400-1710874800@www.centrumkyrkan.se
SUMMARY:Konfa
DESCRIPTION:Vi är i cafévåningen samt kyrksalen.
URL:https://www.centrumkyrkan.se/kalender-namn/konfa-22/
END:VEVENT
BEGIN:VEVENT
DTSTART;TZID=Europe/Stockholm:20240321T103000
DTEND;TZID=Europe/Stockholm:20240321T130000
DTSTAMP:20260422T222028
CREATED:20240208T104634Z
LAST-MODIFIED:20240208T105538Z
UID:5911-1711017000-1711026000@www.centrumkyrkan.se
SUMMARY:Babyfest med babyBarock
DESCRIPTION:Kl. 10.30.\nVi firar Centrumkyrkans långa tradition av babyrytmik med en\nfest för föräldrar och barn från ca 3-18 månader. \nSe affisch för mer information.
URL:https://www.centrumkyrkan.se/kalender-namn/babyfest-med-babybarock/
END:VEVENT
BEGIN:VEVENT
DTSTART;TZID=Europe/Stockholm:20240321T180000
DTEND;TZID=Europe/Stockholm:20240321T193000
DTSTAMP:20260422T222028
CREATED:20240118T133611Z
LAST-MODIFIED:20240202T110145Z
UID:5849-1711044000-1711049400@www.centrumkyrkan.se
SUMMARY:Samtalskväll
DESCRIPTION:18.00 -19.30.\nÖppen samtalskväll om tro och livsfrågor.
URL:https://www.centrumkyrkan.se/kalender-namn/samtalskvall-6/
END:VEVENT
BEGIN:VEVENT
DTSTART;TZID=Europe/Stockholm:20240322T190000
DTEND;TZID=Europe/Stockholm:20240322T220000
DTSTAMP:20260422T222028
CREATED:20240305T091307Z
LAST-MODIFIED:20240305T091307Z
UID:5969-1711134000-1711144800@www.centrumkyrkan.se
SUMMARY:Sevenup!
DESCRIPTION:Kl. 19.00.
URL:https://www.centrumkyrkan.se/kalender-namn/sevenup-4/
END:VEVENT
BEGIN:VEVENT
DTSTART;TZID=Europe/Stockholm:20240323T100000
DTEND;TZID=Europe/Stockholm:20240323T120000
DTSTAMP:20260422T222028
CREATED:20231107T124155Z
LAST-MODIFIED:20231107T124155Z
UID:5474-1711188000-1711195200@www.centrumkyrkan.se
SUMMARY:Sopplunch
DESCRIPTION:
URL:https://www.centrumkyrkan.se/kalender-namn/sopplunch-113/
END:VEVENT
BEGIN:VEVENT
DTSTART;TZID=Europe/Stockholm:20240324T110000
DTEND;TZID=Europe/Stockholm:20240324T123000
DTSTAMP:20260422T222028
CREATED:20231107T125048Z
LAST-MODIFIED:20231218T092346Z
UID:5484-1711278000-1711283400@www.centrumkyrkan.se
SUMMARY:Gudstjänst
DESCRIPTION:11.00. ”Vägen till korset”.\nPredikan: Adina Wenell.
URL:https://www.centrumkyrkan.se/kalender-namn/gudstjans/
END:VEVENT
BEGIN:VEVENT
DTSTART;TZID=Europe/Stockholm:20240324T130000
DTEND;TZID=Europe/Stockholm:20240324T150000
DTSTAMP:20260422T222028
CREATED:20240322T141927Z
LAST-MODIFIED:20240322T141927Z
UID:6012-1711285200-1711292400@www.centrumkyrkan.se
SUMMARY:Promenad
DESCRIPTION:Efter gudstjänsten är den som vill välkommen på promenad till Gröna stugan\nvid Lötsjön. Vi tar en kort fika i cafévåningen sen gör vi sällskap för vidare gemenskap och\nlunch.
URL:https://www.centrumkyrkan.se/kalender-namn/promenad/
END:VEVENT
BEGIN:VEVENT
DTSTART;TZID=Europe/Stockholm:20240325T183000
DTEND;TZID=Europe/Stockholm:20240325T190000
DTSTAMP:20260422T222028
CREATED:20240216T091110Z
LAST-MODIFIED:20240216T091110Z
UID:5919-1711391400-1711393200@www.centrumkyrkan.se
SUMMARY:Stilla veckan
DESCRIPTION:18.30-19.00.\nJesus rensar templet. Bön och textläsning.\nSune Nordin leder.
URL:https://www.centrumkyrkan.se/kalender-namn/stilla-veckan-4/
END:VEVENT
BEGIN:VEVENT
DTSTART;TZID=Europe/Stockholm:20240326T173000
DTEND;TZID=Europe/Stockholm:20240326T190000
DTSTAMP:20260422T222028
CREATED:20231103T105711Z
LAST-MODIFIED:20231103T105711Z
UID:5447-1711474200-1711479600@www.centrumkyrkan.se
SUMMARY:Konfa
DESCRIPTION:Vi är i cafévåningen samt kyrksalen.
URL:https://www.centrumkyrkan.se/kalender-namn/konfa-23/
END:VEVENT
BEGIN:VEVENT
DTSTART;TZID=Europe/Stockholm:20240326T183000
DTEND;TZID=Europe/Stockholm:20240326T190000
DTSTAMP:20260422T222028
CREATED:20240216T091318Z
LAST-MODIFIED:20240216T091318Z
UID:5921-1711477800-1711479600@www.centrumkyrkan.se
SUMMARY:Stilla veckan
DESCRIPTION:18.30-19.00.\nGripandet av Jesus planeras. Bön och textläsning.\nSune Nordin leder.
URL:https://www.centrumkyrkan.se/kalender-namn/stilla-veckan-5/
END:VEVENT
BEGIN:VEVENT
DTSTART;TZID=Europe/Stockholm:20240327T183000
DTEND;TZID=Europe/Stockholm:20240327T193000
DTSTAMP:20260422T222028
CREATED:20240111T085757Z
LAST-MODIFIED:20240216T091524Z
UID:5752-1711564200-1711567800@www.centrumkyrkan.se
SUMMARY:Stilla veckan - Inför Hans ansikte
DESCRIPTION:18.30-19.30.\nKvinnan med alabasterflaskan. Bönegudstjänst med nattvard.\nBertil Edin leder.
URL:https://www.centrumkyrkan.se/kalender-namn/infor-hans-ansikte-47/
END:VEVENT
BEGIN:VEVENT
DTSTART;TZID=Europe/Stockholm:20240328T183000
DTEND;TZID=Europe/Stockholm:20240328T193000
DTSTAMP:20260422T222028
CREATED:20240216T091751Z
LAST-MODIFIED:20240221T132934Z
UID:5925-1711650600-1711654200@www.centrumkyrkan.se
SUMMARY:Skärtorsdag - Getsemaneafton
DESCRIPTION:18.30-19.30.\nNattvard\, textläsning och musik.\nMalin Aronsson leder.
URL:https://www.centrumkyrkan.se/kalender-namn/skartorsdag-2/
END:VEVENT
BEGIN:VEVENT
DTSTART;TZID=Europe/Stockholm:20240329T110000
DTEND;TZID=Europe/Stockholm:20240329T123000
DTSTAMP:20260422T222028
CREATED:20231107T124433Z
LAST-MODIFIED:20231218T092510Z
UID:5479-1711710000-1711715400@www.centrumkyrkan.se
SUMMARY:Långfredag
DESCRIPTION:11.00. ”Korset”.\nPredikan: Malin Aronsson.
URL:https://www.centrumkyrkan.se/kalender-namn/langfredag/
END:VEVENT
BEGIN:VEVENT
DTSTART;TZID=Europe/Stockholm:20240330T100000
DTEND;TZID=Europe/Stockholm:20240330T120000
DTSTAMP:20260422T222028
CREATED:20231107T124231Z
LAST-MODIFIED:20231107T124231Z
UID:5477-1711792800-1711800000@www.centrumkyrkan.se
SUMMARY:Sopplunch
DESCRIPTION:
URL:https://www.centrumkyrkan.se/kalender-namn/sopplunch-114/
END:VEVENT
BEGIN:VEVENT
DTSTART;TZID=Europe/Stockholm:20240331T110000
DTEND;TZID=Europe/Stockholm:20240331T123000
DTSTAMP:20260422T222028
CREATED:20231107T125232Z
LAST-MODIFIED:20240328T084012Z
UID:5486-1711882800-1711888200@www.centrumkyrkan.se
SUMMARY:Kristus är uppstånden!
DESCRIPTION:11.00. ”Kristus är uppstånden!”\nFestgudstjänst.\nPredikan: Bertil Edin.
URL:https://www.centrumkyrkan.se/kalender-namn/uppstandelsegudstjanst/
END:VEVENT
BEGIN:VEVENT
DTSTART;TZID=Europe/Stockholm:20240401T110000
DTEND;TZID=Europe/Stockholm:20240401T123000
DTSTAMP:20260422T222028
CREATED:20240322T141228Z
LAST-MODIFIED:20240328T084248Z
UID:6009-1711969200-1711974600@www.centrumkyrkan.se
SUMMARY:Annandag Påsk
DESCRIPTION:11.00\nEkumenisk gudstjänst i Rissnekyrkan.\nPredikan: Christina Lundström.\nMusik: Bertil Edin.
URL:https://www.centrumkyrkan.se/kalender-namn/annandag-pask/
END:VEVENT
BEGIN:VEVENT
DTSTART;TZID=Europe/Stockholm:20240406T100000
DTEND;TZID=Europe/Stockholm:20240406T120000
DTSTAMP:20260422T222028
CREATED:20240116T101332Z
LAST-MODIFIED:20240116T101332Z
UID:5776-1712397600-1712404800@www.centrumkyrkan.se
SUMMARY:Sopplunch
DESCRIPTION:10.00 – 12.00.
URL:https://www.centrumkyrkan.se/kalender-namn/sopplunch-117/
END:VEVENT
BEGIN:VEVENT
DTSTART;TZID=Europe/Stockholm:20240407T110000
DTEND;TZID=Europe/Stockholm:20240407T123000
DTSTAMP:20260422T222028
CREATED:20231218T092931Z
LAST-MODIFIED:20240222T111927Z
UID:5620-1712487600-1712493000@www.centrumkyrkan.se
SUMMARY:Gudstjänst
DESCRIPTION:11.00. ”Påskens vittnen”.\nPredikan: Merzek Botros.\nVi firar nattvard. \n 
URL:https://www.centrumkyrkan.se/kalender-namn/gudstjanst-122/
END:VEVENT
BEGIN:VEVENT
DTSTART;TZID=Europe/Stockholm:20240409T173000
DTEND;TZID=Europe/Stockholm:20240409T190000
DTSTAMP:20260422T222028
CREATED:20240322T143215Z
LAST-MODIFIED:20240322T143215Z
UID:6019-1712683800-1712689200@www.centrumkyrkan.se
SUMMARY:Konfa
DESCRIPTION:Kl. 17.30-19.00.\nVi är i cafévåningen samt kyrksalen.
URL:https://www.centrumkyrkan.se/kalender-namn/konfa-24/
END:VEVENT
BEGIN:VEVENT
DTSTART;TZID=Europe/Stockholm:20240410T140000
DTEND;TZID=Europe/Stockholm:20240410T160000
DTSTAMP:20260422T222028
CREATED:20240222T112245Z
LAST-MODIFIED:20240222T112245Z
UID:5944-1712757600-1712764800@www.centrumkyrkan.se
SUMMARY:Dagledigträff
DESCRIPTION:14.00 Inga-May Hörnberg och Lennart Sjöholm\nsjunger och spelar.\n15.00 Kaffe i cafévåningen.
URL:https://www.centrumkyrkan.se/kalender-namn/dagledigtraff-3/
END:VEVENT
END:VCALENDAR