BEGIN:VCALENDAR
VERSION:2.0
PRODID:-//Centrumkyrkan i Sundbyberg - ECPv6.15.20//NONSGML v1.0//EN
CALSCALE:GREGORIAN
METHOD:PUBLISH
X-WR-CALNAME:Centrumkyrkan i Sundbyberg
X-ORIGINAL-URL:https://www.centrumkyrkan.se
X-WR-CALDESC:Händelser för Centrumkyrkan i Sundbyberg
REFRESH-INTERVAL;VALUE=DURATION:PT1H
X-Robots-Tag:noindex
X-PUBLISHED-TTL:PT1H
BEGIN:VTIMEZONE
TZID:Europe/Stockholm
BEGIN:DAYLIGHT
TZOFFSETFROM:+0100
TZOFFSETTO:+0200
TZNAME:CEST
DTSTART:20230326T010000
END:DAYLIGHT
BEGIN:STANDARD
TZOFFSETFROM:+0200
TZOFFSETTO:+0100
TZNAME:CET
DTSTART:20231029T010000
END:STANDARD
BEGIN:DAYLIGHT
TZOFFSETFROM:+0100
TZOFFSETTO:+0200
TZNAME:CEST
DTSTART:20240331T010000
END:DAYLIGHT
BEGIN:STANDARD
TZOFFSETFROM:+0200
TZOFFSETTO:+0100
TZNAME:CET
DTSTART:20241027T010000
END:STANDARD
BEGIN:DAYLIGHT
TZOFFSETFROM:+0100
TZOFFSETTO:+0200
TZNAME:CEST
DTSTART:20250330T010000
END:DAYLIGHT
BEGIN:STANDARD
TZOFFSETFROM:+0200
TZOFFSETTO:+0100
TZNAME:CET
DTSTART:20251026T010000
END:STANDARD
END:VTIMEZONE
BEGIN:VEVENT
DTSTART;TZID=Europe/Stockholm:20240106T100000
DTEND;TZID=Europe/Stockholm:20240106T120000
DTSTAMP:20260423T000946
CREATED:20231102T095531Z
LAST-MODIFIED:20231102T095531Z
UID:5408-1704535200-1704542400@www.centrumkyrkan.se
SUMMARY:Sopplunch
DESCRIPTION:
URL:https://www.centrumkyrkan.se/kalender-namn/sopplunch-102/
END:VEVENT
BEGIN:VEVENT
DTSTART;TZID=Europe/Stockholm:20240107T110000
DTEND;TZID=Europe/Stockholm:20240107T123000
DTSTAMP:20260423T000946
CREATED:20231013T092748Z
LAST-MODIFIED:20231031T125335Z
UID:5270-1704625200-1704630600@www.centrumkyrkan.se
SUMMARY:Gudstjänst
DESCRIPTION:11.00. ”Jesu dop”.\nPredikan: Sune Nordin.\nVi firar nattvard.
URL:https://www.centrumkyrkan.se/kalender-namn/gudstjanst-111/
END:VEVENT
BEGIN:VEVENT
DTSTART;TZID=Europe/Stockholm:20240112T190000
DTEND;TZID=Europe/Stockholm:20240112T210000
DTSTAMP:20260423T000946
CREATED:20231228T085311Z
LAST-MODIFIED:20231228T085311Z
UID:5714-1705086000-1705093200@www.centrumkyrkan.se
SUMMARY:SevenUp!
DESCRIPTION:19.00. SEVENUP\nFör dig som går högstadiet och gymnasiet. Vi träffas varannan fredag i Centrumkyrkan. Fika\, aktivitet och andakt.\nTa gärna med en vän! \nFredagar jämna veckor\n19.00-21.30 (häng till 23.00) \nMer info: @ung.i.ck (Instagram)
URL:https://www.centrumkyrkan.se/kalender-namn/sevenup/
END:VEVENT
BEGIN:VEVENT
DTSTART;TZID=Europe/Stockholm:20240113T100000
DTEND;TZID=Europe/Stockholm:20240113T120000
DTSTAMP:20260423T000946
CREATED:20231102T095818Z
LAST-MODIFIED:20231102T095818Z
UID:5410-1705140000-1705147200@www.centrumkyrkan.se
SUMMARY:Sopplunch
DESCRIPTION:
URL:https://www.centrumkyrkan.se/kalender-namn/sopplunch-103/
END:VEVENT
BEGIN:VEVENT
DTSTART;TZID=Europe/Stockholm:20240114T110000
DTEND;TZID=Europe/Stockholm:20240114T123000
DTSTAMP:20260423T000946
CREATED:20231031T125716Z
LAST-MODIFIED:20231031T130838Z
UID:5378-1705230000-1705235400@www.centrumkyrkan.se
SUMMARY:Gudstjänst
DESCRIPTION:11.00. ”Livets källa”\nPredikan: Malin Aronsson.
URL:https://www.centrumkyrkan.se/kalender-namn/gudstjanst-112/
END:VEVENT
BEGIN:VEVENT
DTSTART;TZID=Europe/Stockholm:20240116T173000
DTEND;TZID=Europe/Stockholm:20240116T190000
DTSTAMP:20260423T000946
CREATED:20231102T100028Z
LAST-MODIFIED:20231102T100028Z
UID:5412-1705426200-1705431600@www.centrumkyrkan.se
SUMMARY:Konfa
DESCRIPTION:Vi håller till i cafévåningen samt  i kyrksalen.
URL:https://www.centrumkyrkan.se/kalender-namn/konfa-15/
END:VEVENT
BEGIN:VEVENT
DTSTART;TZID=Europe/Stockholm:20240118T120000
DTEND;TZID=Europe/Stockholm:20240118T130000
DTSTAMP:20260423T000946
CREATED:20240117T154227Z
LAST-MODIFIED:20240117T154325Z
UID:5815-1705579200-1705582800@www.centrumkyrkan.se
SUMMARY:Ekumenisk Bönevecka
DESCRIPTION:Torsdag 18 januari kl.12.00.\nCentrumkyrkan. \n 
URL:https://www.centrumkyrkan.se/kalender-namn/ekumenisk-bonevecka/
END:VEVENT
BEGIN:VEVENT
DTSTART;TZID=Europe/Stockholm:20240119T100000
DTEND;TZID=Europe/Stockholm:20240119T110000
DTSTAMP:20260423T000946
CREATED:20240117T154431Z
LAST-MODIFIED:20240117T154431Z
UID:5818-1705658400-1705662000@www.centrumkyrkan.se
SUMMARY:Ekumenisk Bönevecka
DESCRIPTION:Fredag 19 januari kl. 10.00.\nRissnekyrkan.
URL:https://www.centrumkyrkan.se/kalender-namn/ekumenisk-bonevecka-2/
END:VEVENT
BEGIN:VEVENT
DTSTART;TZID=Europe/Stockholm:20240119T183000
DTEND;TZID=Europe/Stockholm:20240119T210000
DTSTAMP:20260423T000946
CREATED:20240102T113541Z
LAST-MODIFIED:20240102T113541Z
UID:5731-1705689000-1705698000@www.centrumkyrkan.se
SUMMARY:Musikfest - CK-Ukraina
DESCRIPTION:18.30-21.00
URL:https://www.centrumkyrkan.se/kalender-namn/musikfest-ck-ukraina/
END:VEVENT
BEGIN:VEVENT
DTSTART;TZID=Europe/Stockholm:20240120T100000
DTEND;TZID=Europe/Stockholm:20240120T120000
DTSTAMP:20260423T000946
CREATED:20231102T105330Z
LAST-MODIFIED:20231102T105330Z
UID:5414-1705744800-1705752000@www.centrumkyrkan.se
SUMMARY:Sopplunch
DESCRIPTION:
URL:https://www.centrumkyrkan.se/kalender-namn/sopplunch-104/
END:VEVENT
BEGIN:VEVENT
DTSTART;TZID=Europe/Stockholm:20240121T110000
DTEND;TZID=Europe/Stockholm:20240121T160000
DTSTAMP:20260423T000946
CREATED:20231027T085057Z
LAST-MODIFIED:20240117T100820Z
UID:5347-1705834800-1705852800@www.centrumkyrkan.se
SUMMARY:Gudstjänst och Centrumkyrkans dag!
DESCRIPTION:11.00 ”Jesus skapar tro”.\nPredikan: Sune Nordin.\nVi firar nattvard. \nEfter lunch har vi besök av\npolischef Anders Djurestad.
URL:https://www.centrumkyrkan.se/kalender-namn/gudstjanst-samt-centrumkyrkans-dag/
END:VEVENT
BEGIN:VEVENT
DTSTART;TZID=Europe/Stockholm:20240122T190000
DTEND;TZID=Europe/Stockholm:20240122T200000
DTSTAMP:20260423T000946
CREATED:20240117T154533Z
LAST-MODIFIED:20240117T154613Z
UID:5820-1705950000-1705953600@www.centrumkyrkan.se
SUMMARY:Ekumenisk Bönevecka
DESCRIPTION:Måndag 22 januari kl. 19.00.\nFörsamlingsbön i Centrumkyrkan.
URL:https://www.centrumkyrkan.se/kalender-namn/ekumenisk-bonevecka-3/
END:VEVENT
BEGIN:VEVENT
DTSTART;TZID=Europe/Stockholm:20240123T100000
DTEND;TZID=Europe/Stockholm:20240123T120000
DTSTAMP:20260423T000946
CREATED:20240117T154824Z
LAST-MODIFIED:20240117T154824Z
UID:5824-1706004000-1706011200@www.centrumkyrkan.se
SUMMARY:Ekumenisk Bönevecka
DESCRIPTION:Tisdag kl. 10.00.\nBön i Sundbybergs kyrka.
URL:https://www.centrumkyrkan.se/kalender-namn/ekumenisk-bonevecka-5/
END:VEVENT
BEGIN:VEVENT
DTSTART;TZID=Europe/Stockholm:20240123T173000
DTEND;TZID=Europe/Stockholm:20240123T190000
DTSTAMP:20260423T000946
CREATED:20231102T105515Z
LAST-MODIFIED:20231102T105515Z
UID:5418-1706031000-1706036400@www.centrumkyrkan.se
SUMMARY:Konfa
DESCRIPTION:Vi är i cafévåningen samt i kyrksalen.
URL:https://www.centrumkyrkan.se/kalender-namn/konfa-16/
END:VEVENT
BEGIN:VEVENT
DTSTART;TZID=Europe/Stockholm:20240123T190000
DTEND;TZID=Europe/Stockholm:20240123T200000
DTSTAMP:20260423T000946
CREATED:20240117T154726Z
LAST-MODIFIED:20240117T154726Z
UID:5822-1706036400-1706040000@www.centrumkyrkan.se
SUMMARY:Ekumenisk Bönevecka
DESCRIPTION:Tisdag 23 januari kl. 19.00\nFörsamlingsbön i Centrumkyrkan.
URL:https://www.centrumkyrkan.se/kalender-namn/ekumenisk-bonevecka-4/
END:VEVENT
BEGIN:VEVENT
DTSTART;TZID=Europe/Stockholm:20240126T190000
DTEND;TZID=Europe/Stockholm:20240126T210000
DTSTAMP:20260423T000946
CREATED:20231228T085625Z
LAST-MODIFIED:20231228T085625Z
UID:5716-1706295600-1706302800@www.centrumkyrkan.se
SUMMARY:SevenUp!
DESCRIPTION:19.00 SEVENUP\nFör dig som går högstadiet och gymnasiet. Vi träffas varannan fredag i Centrumkyrkan. Fika\, aktivitet och andakt.\nTa gärna med en vän! \nFredagar jämna veckor\n19.00-21.30 (häng till 23.00) \nMer info: @ung.i.ck (instagram)
URL:https://www.centrumkyrkan.se/kalender-namn/sevenup-2/
END:VEVENT
BEGIN:VEVENT
DTSTART;TZID=Europe/Stockholm:20240127T100000
DTEND;TZID=Europe/Stockholm:20240127T120000
DTSTAMP:20260423T000946
CREATED:20231102T105408Z
LAST-MODIFIED:20231102T105408Z
UID:5416-1706349600-1706356800@www.centrumkyrkan.se
SUMMARY:Sopplunch
DESCRIPTION:
URL:https://www.centrumkyrkan.se/kalender-namn/sopplunch-105/
END:VEVENT
BEGIN:VEVENT
DTSTART;TZID=Europe/Stockholm:20240128T110000
DTEND;TZID=Europe/Stockholm:20240128T123000
DTSTAMP:20260423T000946
CREATED:20231031T130608Z
LAST-MODIFIED:20240102T111553Z
UID:5383-1706439600-1706445000@www.centrumkyrkan.se
SUMMARY:Gudstjänst
DESCRIPTION:11.00. ”Nåd och tjänst”.\nPredikan: Bertil Edin. \nFörsamlingsmöte efter gudstjänsten.
URL:https://www.centrumkyrkan.se/kalender-namn/gudstjanst-113/
END:VEVENT
BEGIN:VEVENT
DTSTART;TZID=Europe/Stockholm:20240130T173000
DTEND;TZID=Europe/Stockholm:20240130T190000
DTSTAMP:20260423T000946
CREATED:20231102T112013Z
LAST-MODIFIED:20231102T112013Z
UID:5422-1706635800-1706641200@www.centrumkyrkan.se
SUMMARY:Konfa
DESCRIPTION:Vi är i cafévåningen och i kyrksalen.
URL:https://www.centrumkyrkan.se/kalender-namn/konfa-17/
END:VEVENT
BEGIN:VEVENT
DTSTART;TZID=Europe/Stockholm:20240131T183000
DTEND;TZID=Europe/Stockholm:20240131T193000
DTSTAMP:20260423T000946
CREATED:20240111T084338Z
LAST-MODIFIED:20240111T084338Z
UID:5743-1706725800-1706729400@www.centrumkyrkan.se
SUMMARY:Inför Hans ansikte
DESCRIPTION:18.30.\nBönegudstjänst med nattvard.
URL:https://www.centrumkyrkan.se/kalender-namn/infor-hans-ansikte-43/
END:VEVENT
BEGIN:VEVENT
DTSTART;TZID=Europe/Stockholm:20240201T180000
DTEND;TZID=Europe/Stockholm:20240201T193000
DTSTAMP:20260423T000946
CREATED:20240102T113431Z
LAST-MODIFIED:20240125T143952Z
UID:5729-1706810400-1706815800@www.centrumkyrkan.se
SUMMARY:Samtalskväll
DESCRIPTION:18.00 – 19.30\nÖppen samtalskväll om tro och livsfrågor.\nSune Nordin leder.
URL:https://www.centrumkyrkan.se/kalender-namn/samtalskvall/
END:VEVENT
BEGIN:VEVENT
DTSTART;TZID=Europe/Stockholm:20240203T100000
DTEND;TZID=Europe/Stockholm:20240203T120000
DTSTAMP:20260423T000946
CREATED:20231102T105643Z
LAST-MODIFIED:20231102T111527Z
UID:5420-1706954400-1706961600@www.centrumkyrkan.se
SUMMARY:Sopplunch
DESCRIPTION:
URL:https://www.centrumkyrkan.se/kalender-namn/sopplunch-106/
END:VEVENT
BEGIN:VEVENT
DTSTART;TZID=Europe/Stockholm:20240203T130000
DTEND;TZID=Europe/Stockholm:20240203T150000
DTSTAMP:20260423T000946
CREATED:20240118T134933Z
LAST-MODIFIED:20240118T135159Z
UID:5856-1706965200-1706972400@www.centrumkyrkan.se
SUMMARY:Städdag!
DESCRIPTION:Välkommen mellan kl. 13-15 så städar vi vår fina kyrka!\nSe affisch på hemsidan med mer information. \n 
URL:https://www.centrumkyrkan.se/kalender-namn/staddag/
END:VEVENT
BEGIN:VEVENT
DTSTART;TZID=Europe/Stockholm:20240204T110000
DTEND;TZID=Europe/Stockholm:20240204T123000
DTSTAMP:20260423T000946
CREATED:20231031T131033Z
LAST-MODIFIED:20231031T131033Z
UID:5386-1707044400-1707049800@www.centrumkyrkan.se
SUMMARY:Gudstjänst
DESCRIPTION:11.00. ”Uppenbarelsens ljus”.\nPredikan: Sune Nordin.\nVi firar nattvard.
URL:https://www.centrumkyrkan.se/kalender-namn/gudstjanst-114/
END:VEVENT
BEGIN:VEVENT
DTSTART;TZID=Europe/Stockholm:20240204T130000
DTEND;TZID=Europe/Stockholm:20240204T153000
DTSTAMP:20260423T000946
CREATED:20240125T145729Z
LAST-MODIFIED:20240125T145729Z
UID:5871-1707051600-1707060600@www.centrumkyrkan.se
SUMMARY:Promenad efter gudstjänst
DESCRIPTION:En kopp kaffe efter gudstjänst\, sen promenad till Gröna stugan vid Lötsjön\ndär vi äter lunch och delar gemenskap med varandra.
URL:https://www.centrumkyrkan.se/kalender-namn/promenad-efter-gudstjanst/
END:VEVENT
BEGIN:VEVENT
DTSTART;TZID=Europe/Stockholm:20240207T140000
DTEND;TZID=Europe/Stockholm:20240207T160000
DTSTAMP:20260423T000946
CREATED:20240125T144807Z
LAST-MODIFIED:20240126T132846Z
UID:5865-1707314400-1707321600@www.centrumkyrkan.se
SUMMARY:Dagledigträff
DESCRIPTION:14.00.\nMusik i vintertid.\nKonsert av Kaggeholms musiklinje. \n15.00 Fika i cafévåningen.
URL:https://www.centrumkyrkan.se/kalender-namn/dagledigtraff-2/
END:VEVENT
BEGIN:VEVENT
DTSTART;TZID=Europe/Stockholm:20240208T183000
DTEND;TZID=Europe/Stockholm:20240208T200000
DTSTAMP:20260423T000946
CREATED:20240118T133013Z
LAST-MODIFIED:20240118T133013Z
UID:5841-1707417000-1707422400@www.centrumkyrkan.se
SUMMARY:Temakväll
DESCRIPTION:18.30 Besök av Peter Hallström.\n”Min väg till tro”.\nMalin Aronsson leder samtalet.
URL:https://www.centrumkyrkan.se/kalender-namn/temakvall/
END:VEVENT
BEGIN:VEVENT
DTSTART;VALUE=DATE:20240210
DTEND;VALUE=DATE:20240212
DTSTAMP:20260423T000946
CREATED:20240125T145059Z
LAST-MODIFIED:20240125T145059Z
UID:5867-1707523200-1707695999@www.centrumkyrkan.se
SUMMARY:SevenUp dygn
DESCRIPTION:
URL:https://www.centrumkyrkan.se/kalender-namn/sevenup-dygn/
END:VEVENT
BEGIN:VEVENT
DTSTART;TZID=Europe/Stockholm:20240210T100000
DTEND;TZID=Europe/Stockholm:20240210T120000
DTSTAMP:20260423T000946
CREATED:20231107T123421Z
LAST-MODIFIED:20231107T123446Z
UID:5462-1707559200-1707566400@www.centrumkyrkan.se
SUMMARY:Sopplunch
DESCRIPTION:
URL:https://www.centrumkyrkan.se/kalender-namn/sopplunch-107/
END:VEVENT
BEGIN:VEVENT
DTSTART;TZID=Europe/Stockholm:20240211T110000
DTEND;TZID=Europe/Stockholm:20240211T123000
DTSTAMP:20260423T000946
CREATED:20231031T131824Z
LAST-MODIFIED:20240102T112731Z
UID:5388-1707649200-1707654600@www.centrumkyrkan.se
SUMMARY:Gudstjänst
DESCRIPTION:11.00. ”Kärlekens väg”.\nPredikan: Malin Aronsson.\nGudstjänst för alla åldrar.
URL:https://www.centrumkyrkan.se/kalender-namn/gudstjanst-115/
END:VEVENT
END:VCALENDAR