BEGIN:VCALENDAR
VERSION:2.0
PRODID:-//Centrumkyrkan i Sundbyberg - ECPv6.15.20//NONSGML v1.0//EN
CALSCALE:GREGORIAN
METHOD:PUBLISH
X-WR-CALNAME:Centrumkyrkan i Sundbyberg
X-ORIGINAL-URL:https://www.centrumkyrkan.se
X-WR-CALDESC:Händelser för Centrumkyrkan i Sundbyberg
REFRESH-INTERVAL;VALUE=DURATION:PT1H
X-Robots-Tag:noindex
X-PUBLISHED-TTL:PT1H
BEGIN:VTIMEZONE
TZID:Europe/Stockholm
BEGIN:DAYLIGHT
TZOFFSETFROM:+0100
TZOFFSETTO:+0200
TZNAME:CEST
DTSTART:20220327T010000
END:DAYLIGHT
BEGIN:STANDARD
TZOFFSETFROM:+0200
TZOFFSETTO:+0100
TZNAME:CET
DTSTART:20221030T010000
END:STANDARD
BEGIN:DAYLIGHT
TZOFFSETFROM:+0100
TZOFFSETTO:+0200
TZNAME:CEST
DTSTART:20230326T010000
END:DAYLIGHT
BEGIN:STANDARD
TZOFFSETFROM:+0200
TZOFFSETTO:+0100
TZNAME:CET
DTSTART:20231029T010000
END:STANDARD
BEGIN:DAYLIGHT
TZOFFSETFROM:+0100
TZOFFSETTO:+0200
TZNAME:CEST
DTSTART:20240331T010000
END:DAYLIGHT
BEGIN:STANDARD
TZOFFSETFROM:+0200
TZOFFSETTO:+0100
TZNAME:CET
DTSTART:20241027T010000
END:STANDARD
END:VTIMEZONE
BEGIN:VEVENT
DTSTART;TZID=Europe/Stockholm:20231005T180000
DTEND;TZID=Europe/Stockholm:20231005T200000
DTSTAMP:20260423T075141
CREATED:20230522T093851Z
LAST-MODIFIED:20231013T084654Z
UID:4924-1696528800-1696536000@www.centrumkyrkan.se
SUMMARY:Alpha
DESCRIPTION:Kl 18.30-20.00.\nMatgemenskap\, samt film och  gruppsamtal.
URL:https://www.centrumkyrkan.se/kalender-namn/alpha/
LOCATION:Centrumkyrkan i Sundbyberg\, Prästgårdsgatan 13\, Sundbyberg\, 17268
ORGANIZER;CN="Centrumkyrkan i Sundbyberg":MAILTO:info@centrumkyrkan.se
END:VEVENT
BEGIN:VEVENT
DTSTART;TZID=Europe/Stockholm:20231008T110000
DTEND;TZID=Europe/Stockholm:20231008T123000
DTSTAMP:20260423T075141
CREATED:20230913T065512Z
LAST-MODIFIED:20230913T065512Z
UID:5164-1696762800-1696768200@www.centrumkyrkan.se
SUMMARY:Gudstjänst
DESCRIPTION:11.00 ”Tacksamhet och lovsång”\nPredikan: Sune Nordin\nVi firar nattvard
URL:https://www.centrumkyrkan.se/kalender-namn/gudstjanst-100/
END:VEVENT
BEGIN:VEVENT
DTSTART;TZID=Europe/Stockholm:20231010T173000
DTEND;TZID=Europe/Stockholm:20231010T190000
DTSTAMP:20260423T075141
CREATED:20230526T151436Z
LAST-MODIFIED:20230526T151436Z
UID:4974-1696959000-1696964400@www.centrumkyrkan.se
SUMMARY:Konfa
DESCRIPTION:Kl. 17.30-19.00.\nVi håller till i L:et\, cafévåningen samt i\nkyrksalen.
URL:https://www.centrumkyrkan.se/kalender-namn/konfa-5/
LOCATION:Centrumkyrkan i Sundbyberg\, Prästgårdsgatan 13\, Sundbyberg\, 17268
ORGANIZER;CN="Centrumkyrkan i Sundbyberg":MAILTO:info@centrumkyrkan.se
END:VEVENT
BEGIN:VEVENT
DTSTART;TZID=Europe/Stockholm:20231011T183000
DTEND;TZID=Europe/Stockholm:20231011T193000
DTSTAMP:20260423T075141
CREATED:20230913T071942Z
LAST-MODIFIED:20230913T071942Z
UID:5192-1697049000-1697052600@www.centrumkyrkan.se
SUMMARY:Inför hans ansikte
DESCRIPTION:18.30 Bönegudstjänst med nattvard.
URL:https://www.centrumkyrkan.se/kalender-namn/infor-hans-ansikte-38/
END:VEVENT
BEGIN:VEVENT
DTSTART;TZID=Europe/Stockholm:20231012T183000
DTEND;TZID=Europe/Stockholm:20231012T200000
DTSTAMP:20260423T075141
CREATED:20230522T094045Z
LAST-MODIFIED:20231013T101711Z
UID:4926-1697135400-1697140800@www.centrumkyrkan.se
SUMMARY:Alpha
DESCRIPTION:Kl. 18.30-20.00.\nMatgemenskap\, film samt gruppsamtal.
URL:https://www.centrumkyrkan.se/kalender-namn/alpha-2/
LOCATION:Centrumkyrkan i Sundbyberg\, Prästgårdsgatan 13\, Sundbyberg\, 17268
ORGANIZER;CN="Centrumkyrkan i Sundbyberg":MAILTO:info@centrumkyrkan.se
END:VEVENT
BEGIN:VEVENT
DTSTART;TZID=Europe/Stockholm:20231014T100000
DTEND;TZID=Europe/Stockholm:20231014T120000
DTSTAMP:20260423T075141
CREATED:20231013T093205Z
LAST-MODIFIED:20231013T093449Z
UID:5272-1697277600-1697284800@www.centrumkyrkan.se
SUMMARY:Sopplunch
DESCRIPTION:10-12.\nSopplunch.
URL:https://www.centrumkyrkan.se/kalender-namn/sopplunch-92/
END:VEVENT
BEGIN:VEVENT
DTSTART;TZID=Europe/Stockholm:20231015T110000
DTEND;TZID=Europe/Stockholm:20231015T123000
DTSTAMP:20260423T075141
CREATED:20230913T065627Z
LAST-MODIFIED:20231013T080634Z
UID:5166-1697367600-1697373000@www.centrumkyrkan.se
SUMMARY:Gudstjänst
DESCRIPTION:11.00 ”Trons kraft”\nPredikan: Malin Aronsson \n 
URL:https://www.centrumkyrkan.se/kalender-namn/gudstjanst-101/
END:VEVENT
BEGIN:VEVENT
DTSTART;TZID=Europe/Stockholm:20231017T173000
DTEND;TZID=Europe/Stockholm:20231017T190000
DTSTAMP:20260423T075141
CREATED:20230526T152314Z
LAST-MODIFIED:20230526T152314Z
UID:4976-1697563800-1697569200@www.centrumkyrkan.se
SUMMARY:Konfa
DESCRIPTION:Kl. 17.30-19.00.\nVi håller till i L:et\, cafévåningen samt i\nkyrksalen.
URL:https://www.centrumkyrkan.se/kalender-namn/konfa-6/
LOCATION:Centrumkyrkan i Sundbyberg\, Prästgårdsgatan 13\, Sundbyberg\, 17268
ORGANIZER;CN="Centrumkyrkan i Sundbyberg":MAILTO:info@centrumkyrkan.se
END:VEVENT
BEGIN:VEVENT
DTSTART;TZID=Europe/Stockholm:20231018T140000
DTEND;TZID=Europe/Stockholm:20231018T160000
DTSTAMP:20260423T075141
CREATED:20231013T083847Z
LAST-MODIFIED:20231013T083847Z
UID:5246-1697637600-1697644800@www.centrumkyrkan.se
SUMMARY:Dagledig träff
DESCRIPTION:14.00\nBesök av Ramu Rayamajhi från\nBethseda i Nepal.\nMusik: Elise Nestor sjunger och spelar.\nKaffe i cafévåningen kl 15.
URL:https://www.centrumkyrkan.se/kalender-namn/dagledig-traff-4/
END:VEVENT
BEGIN:VEVENT
DTSTART;TZID=Europe/Stockholm:20231019T183000
DTEND;TZID=Europe/Stockholm:20231019T200000
DTSTAMP:20260423T075141
CREATED:20230526T154213Z
LAST-MODIFIED:20231013T101555Z
UID:4995-1697740200-1697745600@www.centrumkyrkan.se
SUMMARY:Alpha
DESCRIPTION:kl. 18.30-20.00.\nMatgemenskap\, film samt gruppsamtal.
URL:https://www.centrumkyrkan.se/kalender-namn/alpha-3/
LOCATION:Centrumkyrkan i Sundbyberg\, Prästgårdsgatan 13\, Sundbyberg\, 17268
ORGANIZER;CN="Centrumkyrkan i Sundbyberg":MAILTO:info@centrumkyrkan.se
END:VEVENT
BEGIN:VEVENT
DTSTART;TZID=Europe/Stockholm:20231020T183000
DTEND;TZID=Europe/Stockholm:20231020T210000
DTSTAMP:20260423T075141
CREATED:20231013T090407Z
LAST-MODIFIED:20231013T090407Z
UID:5260-1697826600-1697835600@www.centrumkyrkan.se
SUMMARY:Musik/familjefest Ukraina
DESCRIPTION:18.30-21.00.\nMusik och familjefest Ukraina.
URL:https://www.centrumkyrkan.se/kalender-namn/musik-familjefest-ukraina/
END:VEVENT
BEGIN:VEVENT
DTSTART;TZID=Europe/Stockholm:20231021T100000
DTEND;TZID=Europe/Stockholm:20231021T120000
DTSTAMP:20260423T075141
CREATED:20231013T093602Z
LAST-MODIFIED:20231013T093602Z
UID:5275-1697882400-1697889600@www.centrumkyrkan.se
SUMMARY:Sopplunch
DESCRIPTION:10.00-12.00.\nSopplunch.
URL:https://www.centrumkyrkan.se/kalender-namn/sopplunch-93/
END:VEVENT
BEGIN:VEVENT
DTSTART;TZID=Europe/Stockholm:20231021T190000
DTEND;TZID=Europe/Stockholm:20231021T210000
DTSTAMP:20260423T075141
CREATED:20230928T092128Z
LAST-MODIFIED:20230928T092128Z
UID:5216-1697914800-1697922000@www.centrumkyrkan.se
SUMMARY:Hela kyrkan sjunger
DESCRIPTION:Lördag 21 oktober kl 19.00 \nCentrumkyrkans duktiga sångare o musiker tillsammans med kören Laudes\, sjunger för och med oss under Per-Henrik Holgerssons ledning.\nDet blir ett brett urval ur den rika kristna sångskatten.\nBehållningen går till ett Suicide Prevention arbete som organisationen Bethesda bedriver i Nepal. Deras direktor Ramu Rayamajhi medverkar under konserten. \nPrästgårdsgatan 13\, Sundbyberg \nNumrerade platser\, 125 kr. \nBiljetter: https://nortic.se/ticket/event/50399
URL:https://www.centrumkyrkan.se/kalender-namn/hela-kyrkan-sjunger/
END:VEVENT
BEGIN:VEVENT
DTSTART;TZID=Europe/Stockholm:20231022T110000
DTEND;TZID=Europe/Stockholm:20231022T123000
DTSTAMP:20260423T075141
CREATED:20230913T065752Z
LAST-MODIFIED:20230913T065752Z
UID:5168-1697972400-1697977800@www.centrumkyrkan.se
SUMMARY:Gudstjänst
DESCRIPTION:11.00 ”Mission”\nPredikan: Ramu Rayamajhi från Nepal
URL:https://www.centrumkyrkan.se/kalender-namn/gudstjanst-102/
END:VEVENT
BEGIN:VEVENT
DTSTART;TZID=Europe/Stockholm:20231024T173000
DTEND;TZID=Europe/Stockholm:20231024T190000
DTSTAMP:20260423T075141
CREATED:20230526T152426Z
LAST-MODIFIED:20230526T152426Z
UID:4978-1698168600-1698174000@www.centrumkyrkan.se
SUMMARY:Konfa
DESCRIPTION:Kl. 17.30-19.00.\nVi håller till i L:et\, cafévåningen samt i\nkyrksalen.
URL:https://www.centrumkyrkan.se/kalender-namn/konfa-7/
LOCATION:Centrumkyrkan i Sundbyberg\, Prästgårdsgatan 13\, Sundbyberg\, 17268
ORGANIZER;CN="Centrumkyrkan i Sundbyberg":MAILTO:info@centrumkyrkan.se
END:VEVENT
BEGIN:VEVENT
DTSTART;TZID=Europe/Stockholm:20231025T183000
DTEND;TZID=Europe/Stockholm:20231025T193000
DTSTAMP:20260423T075141
CREATED:20230913T072056Z
LAST-MODIFIED:20231013T081402Z
UID:5194-1698258600-1698262200@www.centrumkyrkan.se
SUMMARY:Inför hans ansikte
DESCRIPTION:18.30 Bönegudstjänst med nattvard.
URL:https://www.centrumkyrkan.se/kalender-namn/infor-hans-ansikte-39/
END:VEVENT
BEGIN:VEVENT
DTSTART;TZID=Europe/Stockholm:20231026T183000
DTEND;TZID=Europe/Stockholm:20231026T200000
DTSTAMP:20260423T075141
CREATED:20230526T154339Z
LAST-MODIFIED:20231013T101402Z
UID:4997-1698345000-1698350400@www.centrumkyrkan.se
SUMMARY:Alpha
DESCRIPTION:Kl. 18.30-20.00.\nMatgemenskap\, film samt gruppsamtal.
URL:https://www.centrumkyrkan.se/kalender-namn/alpha-4/
LOCATION:Centrumkyrkan i Sundbyberg\, Prästgårdsgatan 13\, Sundbyberg\, 17268
ORGANIZER;CN="Centrumkyrkan i Sundbyberg":MAILTO:info@centrumkyrkan.se
END:VEVENT
BEGIN:VEVENT
DTSTART;TZID=Europe/Stockholm:20231028T100000
DTEND;TZID=Europe/Stockholm:20231028T120000
DTSTAMP:20260423T075141
CREATED:20231013T093643Z
LAST-MODIFIED:20231013T093643Z
UID:5277-1698487200-1698494400@www.centrumkyrkan.se
SUMMARY:Sopplunch
DESCRIPTION:10.00-12.00.\nSopplunch.
URL:https://www.centrumkyrkan.se/kalender-namn/sopplunch-94/
END:VEVENT
BEGIN:VEVENT
DTSTART;TZID=Europe/Stockholm:20231029T110000
DTEND;TZID=Europe/Stockholm:20231029T123000
DTSTAMP:20260423T075141
CREATED:20230913T065839Z
LAST-MODIFIED:20231027T083735Z
UID:5170-1698577200-1698582600@www.centrumkyrkan.se
SUMMARY:Gudstjänst
DESCRIPTION:11.00 ”Samhällsansvar”\nPredikan: Erik Valier.\nVi firar nattvard.
URL:https://www.centrumkyrkan.se/kalender-namn/gudstjanst-103/
END:VEVENT
BEGIN:VEVENT
DTSTART;TZID=Europe/Stockholm:20231104T100000
DTEND;TZID=Europe/Stockholm:20231104T120000
DTSTAMP:20260423T075141
CREATED:20231013T093727Z
LAST-MODIFIED:20231013T093727Z
UID:5279-1699092000-1699099200@www.centrumkyrkan.se
SUMMARY:Sopplunch
DESCRIPTION:10.00-12.00.\nSopplunch.
URL:https://www.centrumkyrkan.se/kalender-namn/sopplunch-95/
END:VEVENT
BEGIN:VEVENT
DTSTART;TZID=Europe/Stockholm:20231105T110000
DTEND;TZID=Europe/Stockholm:20231105T123000
DTSTAMP:20260423T075141
CREATED:20230913T070008Z
LAST-MODIFIED:20231031T095940Z
UID:5172-1699182000-1699187400@www.centrumkyrkan.se
SUMMARY:Gudstjänst
DESCRIPTION:11.00 ”Vårt evighetshopp”\nPredikan: Sune Nordin.\nVi firar nattvard.
URL:https://www.centrumkyrkan.se/kalender-namn/gudstjanst-104/
END:VEVENT
BEGIN:VEVENT
DTSTART;TZID=Europe/Stockholm:20231107T173000
DTEND;TZID=Europe/Stockholm:20231107T190000
DTSTAMP:20260423T075141
CREATED:20230526T152544Z
LAST-MODIFIED:20230526T152544Z
UID:4980-1699378200-1699383600@www.centrumkyrkan.se
SUMMARY:Konfa
DESCRIPTION:Kl. 17.30-19.00.\nVi håller till i L:et\, cafévåningen samt i\nkyrksalen.
URL:https://www.centrumkyrkan.se/kalender-namn/konfa-8/
LOCATION:Centrumkyrkan i Sundbyberg\, Prästgårdsgatan 13\, Sundbyberg\, 17268
ORGANIZER;CN="Centrumkyrkan i Sundbyberg":MAILTO:info@centrumkyrkan.se
END:VEVENT
BEGIN:VEVENT
DTSTART;TZID=Europe/Stockholm:20231108T183000
DTEND;TZID=Europe/Stockholm:20231108T193000
DTSTAMP:20260423T075141
CREATED:20230913T072143Z
LAST-MODIFIED:20230913T072143Z
UID:5196-1699468200-1699471800@www.centrumkyrkan.se
SUMMARY:Inför hans ansikte
DESCRIPTION:18.30 Bönegudstjänst med nattvard
URL:https://www.centrumkyrkan.se/kalender-namn/infor-hans-ansikte-40/
END:VEVENT
BEGIN:VEVENT
DTSTART;TZID=Europe/Stockholm:20231109T183000
DTEND;TZID=Europe/Stockholm:20231109T200000
DTSTAMP:20260423T075141
CREATED:20230526T154807Z
LAST-MODIFIED:20231013T084826Z
UID:4999-1699554600-1699560000@www.centrumkyrkan.se
SUMMARY:Alhpa
DESCRIPTION:Kl. 18.30-20.00.\nMatgemenskap\, samt film och  gruppsamtal.
URL:https://www.centrumkyrkan.se/kalender-namn/alhpa/
LOCATION:Centrumkyrkan i Sundbyberg\, Prästgårdsgatan 13\, Sundbyberg\, 17268
ORGANIZER;CN="Centrumkyrkan i Sundbyberg":MAILTO:info@centrumkyrkan.se
END:VEVENT
BEGIN:VEVENT
DTSTART;TZID=Europe/Stockholm:20231110T190000
DTEND;TZID=Europe/Stockholm:20231110T210000
DTSTAMP:20260423T075141
CREATED:20231027T123111Z
LAST-MODIFIED:20231027T123111Z
UID:5362-1699642800-1699650000@www.centrumkyrkan.se
SUMMARY:7-up
DESCRIPTION:19.00-21.00
URL:https://www.centrumkyrkan.se/kalender-namn/7-up/
END:VEVENT
BEGIN:VEVENT
DTSTART;VALUE=DATE:20231111
DTEND;VALUE=DATE:20231113
DTSTAMP:20260423T075141
CREATED:20231102T093926Z
LAST-MODIFIED:20231103T123625Z
UID:5405-1699660800-1699833599@www.centrumkyrkan.se
SUMMARY:Höstsmajläger
DESCRIPTION:För mer information och anmälan\, se hemsidan!
URL:https://www.centrumkyrkan.se/kalender-namn/hostsmajl/
END:VEVENT
BEGIN:VEVENT
DTSTART;TZID=Europe/Stockholm:20231111T100000
DTEND;TZID=Europe/Stockholm:20231111T120000
DTSTAMP:20260423T075141
CREATED:20231013T093806Z
LAST-MODIFIED:20231013T093806Z
UID:5281-1699696800-1699704000@www.centrumkyrkan.se
SUMMARY:Sopplunch
DESCRIPTION:10.00-12.00.\nSopplunch.
URL:https://www.centrumkyrkan.se/kalender-namn/sopplunch-96/
END:VEVENT
BEGIN:VEVENT
DTSTART;TZID=Europe/Stockholm:20231112T110000
DTEND;TZID=Europe/Stockholm:20231112T123000
DTSTAMP:20260423T075141
CREATED:20230913T070218Z
LAST-MODIFIED:20231103T115927Z
UID:5174-1699786800-1699792200@www.centrumkyrkan.se
SUMMARY:Gudstjänst
DESCRIPTION:11.00 ”Förlåtelse utan gräns”\nPredikan: Malin Aronsson\nSmajlgudstjänst med By Grace.
URL:https://www.centrumkyrkan.se/kalender-namn/gudstjanst-105/
END:VEVENT
BEGIN:VEVENT
DTSTART;TZID=Europe/Stockholm:20231114T173000
DTEND;TZID=Europe/Stockholm:20231114T190000
DTSTAMP:20260423T075141
CREATED:20230526T152701Z
LAST-MODIFIED:20230526T152701Z
UID:4982-1699983000-1699988400@www.centrumkyrkan.se
SUMMARY:Konfa
DESCRIPTION:Kl. 17.30-19.00.\nVi håller till i L:et\, cafévåningen samt i\nkyrksalen.
URL:https://www.centrumkyrkan.se/kalender-namn/konfa-9/
LOCATION:Centrumkyrkan i Sundbyberg\, Prästgårdsgatan 13\, Sundbyberg\, 17268
ORGANIZER;CN="Centrumkyrkan i Sundbyberg":MAILTO:info@centrumkyrkan.se
END:VEVENT
BEGIN:VEVENT
DTSTART;TZID=Europe/Stockholm:20231115T140000
DTEND;TZID=Europe/Stockholm:20231115T160000
DTSTAMP:20260423T075141
CREATED:20231027T083631Z
LAST-MODIFIED:20231027T121921Z
UID:5340-1700056800-1700064000@www.centrumkyrkan.se
SUMMARY:Dagledigträff
DESCRIPTION:14.00 Dagledigträff med Birger Thuresson.\n”Leva livet ut”\n15.00 Kaffe i cafévåningen.
URL:https://www.centrumkyrkan.se/kalender-namn/dagledigtraff/
END:VEVENT
END:VCALENDAR