BEGIN:VCALENDAR
VERSION:2.0
PRODID:-//Centrumkyrkan i Sundbyberg - ECPv6.15.20//NONSGML v1.0//EN
CALSCALE:GREGORIAN
METHOD:PUBLISH
X-WR-CALNAME:Centrumkyrkan i Sundbyberg
X-ORIGINAL-URL:https://www.centrumkyrkan.se
X-WR-CALDESC:Händelser för Centrumkyrkan i Sundbyberg
REFRESH-INTERVAL;VALUE=DURATION:PT1H
X-Robots-Tag:noindex
X-PUBLISHED-TTL:PT1H
BEGIN:VTIMEZONE
TZID:Europe/Stockholm
BEGIN:DAYLIGHT
TZOFFSETFROM:+0100
TZOFFSETTO:+0200
TZNAME:CEST
DTSTART:20220327T010000
END:DAYLIGHT
BEGIN:STANDARD
TZOFFSETFROM:+0200
TZOFFSETTO:+0100
TZNAME:CET
DTSTART:20221030T010000
END:STANDARD
BEGIN:DAYLIGHT
TZOFFSETFROM:+0100
TZOFFSETTO:+0200
TZNAME:CEST
DTSTART:20230326T010000
END:DAYLIGHT
BEGIN:STANDARD
TZOFFSETFROM:+0200
TZOFFSETTO:+0100
TZNAME:CET
DTSTART:20231029T010000
END:STANDARD
BEGIN:DAYLIGHT
TZOFFSETFROM:+0100
TZOFFSETTO:+0200
TZNAME:CEST
DTSTART:20240331T010000
END:DAYLIGHT
BEGIN:STANDARD
TZOFFSETFROM:+0200
TZOFFSETTO:+0100
TZNAME:CET
DTSTART:20241027T010000
END:STANDARD
END:VTIMEZONE
BEGIN:VEVENT
DTSTART;TZID=Europe/Stockholm:20230416T110000
DTEND;TZID=Europe/Stockholm:20230416T123000
DTSTAMP:20260423T153757
CREATED:20230119T082848Z
LAST-MODIFIED:20230331T111144Z
UID:4579-1681642800-1681648200@www.centrumkyrkan.se
SUMMARY:Gudstjänst
DESCRIPTION:11.00. ”Påskens vittnen”.\nPredikan: Beryl Lindeman.\nNattvard. \n 
URL:https://www.centrumkyrkan.se/kalender-namn/gudstjanst-71/
LOCATION:Centrumkyrkan i Sundbyberg\, Prästgårdsgatan 13\, Sundbyberg\, 17268
ORGANIZER;CN="Centrumkyrkan i Sundbyberg":MAILTO:info@centrumkyrkan.se
END:VEVENT
BEGIN:VEVENT
DTSTART;TZID=Europe/Stockholm:20230416T180000
DTEND;TZID=Europe/Stockholm:20230416T193000
DTSTAMP:20260423T153757
CREATED:20230314T122318Z
LAST-MODIFIED:20230314T122318Z
UID:4768-1681668000-1681673400@www.centrumkyrkan.se
SUMMARY:Församlingsbön
DESCRIPTION:Kl. 18.00. Vi möts för bön och lovsång.\nErik Valier leder.
URL:https://www.centrumkyrkan.se/kalender-namn/forsamlingsbon-6/
LOCATION:Centrumkyrkan i Sundbyberg\, Prästgårdsgatan 13\, Sundbyberg\, 17268
ORGANIZER;CN="Centrumkyrkan i Sundbyberg":MAILTO:info@centrumkyrkan.se
END:VEVENT
BEGIN:VEVENT
DTSTART;TZID=Europe/Stockholm:20230419T183000
DTEND;TZID=Europe/Stockholm:20230419T193000
DTSTAMP:20260423T153757
CREATED:20221220T104236Z
LAST-MODIFIED:20221220T104236Z
UID:4450-1681929000-1681932600@www.centrumkyrkan.se
SUMMARY:Inför Hans Ansikte
DESCRIPTION:18.30-19.30\nBönegudstjänst med nattvard.
URL:https://www.centrumkyrkan.se/kalender-namn/infor-hans-ansikte-33/
LOCATION:Centrumkyrkan i Sundbyberg\, Prästgårdsgatan 13\, Sundbyberg\, 17268
ORGANIZER;CN="Centrumkyrkan i Sundbyberg":MAILTO:info@centrumkyrkan.se
END:VEVENT
BEGIN:VEVENT
DTSTART;TZID=Europe/Stockholm:20230422T100000
DTEND;TZID=Europe/Stockholm:20230422T120000
DTSTAMP:20260423T153757
CREATED:20230109T115028Z
LAST-MODIFIED:20230109T115028Z
UID:4495-1682157600-1682164800@www.centrumkyrkan.se
SUMMARY:Sopplunch
DESCRIPTION:kl. 10.00-12.00.
URL:https://www.centrumkyrkan.se/kalender-namn/sopplunch-84/
LOCATION:Centrumkyrkan i Sundbyberg\, Prästgårdsgatan 13\, Sundbyberg\, 17268
ORGANIZER;CN="Centrumkyrkan i Sundbyberg":MAILTO:info@centrumkyrkan.se
END:VEVENT
BEGIN:VEVENT
DTSTART;TZID=Europe/Stockholm:20230423T110000
DTEND;TZID=Europe/Stockholm:20230423T123000
DTSTAMP:20260423T153757
CREATED:20230119T083018Z
LAST-MODIFIED:20230119T083018Z
UID:4581-1682247600-1682253000@www.centrumkyrkan.se
SUMMARY:Gudstjänst
DESCRIPTION:11.00. ”Den gode herden”.\nPredikan: Erik Valier.
URL:https://www.centrumkyrkan.se/kalender-namn/gudstjanst-72/
LOCATION:Centrumkyrkan i Sundbyberg\, Prästgårdsgatan 13\, Sundbyberg\, 17268
ORGANIZER;CN="Centrumkyrkan i Sundbyberg":MAILTO:info@centrumkyrkan.se
END:VEVENT
BEGIN:VEVENT
DTSTART;TZID=Europe/Stockholm:20230423T123000
DTEND;TZID=Europe/Stockholm:20230423T140000
DTSTAMP:20260423T153757
CREATED:20230119T104003Z
LAST-MODIFIED:20230119T104003Z
UID:4593-1682253000-1682258400@www.centrumkyrkan.se
SUMMARY:Årsmöte
DESCRIPTION:Årsmötet börjar efter gudstjänsten.
URL:https://www.centrumkyrkan.se/kalender-namn/arsmote-2/
LOCATION:Centrumkyrkan i Sundbyberg\, Prästgårdsgatan 13\, Sundbyberg\, 17268
ORGANIZER;CN="Centrumkyrkan i Sundbyberg":MAILTO:info@centrumkyrkan.se
END:VEVENT
BEGIN:VEVENT
DTSTART;TZID=Europe/Stockholm:20230423T180000
DTEND;TZID=Europe/Stockholm:20230423T193000
DTSTAMP:20260423T153757
CREATED:20230314T122416Z
LAST-MODIFIED:20230314T122416Z
UID:4770-1682272800-1682278200@www.centrumkyrkan.se
SUMMARY:Församlingsbön
DESCRIPTION:Kl. 18.00. Vi möts för bön och lovsång.\nErik Valier leder.
URL:https://www.centrumkyrkan.se/kalender-namn/forsamlingsbon-7/
LOCATION:Centrumkyrkan i Sundbyberg\, Prästgårdsgatan 13\, Sundbyberg\, 17268
ORGANIZER;CN="Centrumkyrkan i Sundbyberg":MAILTO:info@centrumkyrkan.se
END:VEVENT
BEGIN:VEVENT
DTSTART;TZID=Europe/Stockholm:20230428T190000
DTEND;TZID=Europe/Stockholm:20230428T210000
DTSTAMP:20260423T153757
CREATED:20230427T071809Z
LAST-MODIFIED:20230427T071830Z
UID:4839-1682708400-1682715600@www.centrumkyrkan.se
SUMMARY:CK-tillsammans familj
DESCRIPTION:Hej föräldrar!\nNu på fredag kör vi pizzakväll med Bäst i Test för alla familjer med barn och tonåringar i Centrumkyrkan! Om ni har kids tonåren\, mellanstadiehänget eller yngre\, välkomna hela familjen! Det blir ingen livemusik\, fokus är att bara hänga\, äta pizza och göra några kul utmaningar ihop. (Den som vill kan välja att bara heja på 🙂 Anmäl er till Malin Aronsson på messenger senast fredag fm kl 11\, så jag kan beställa pizza! \nVälkomna! Malin\, Lisa\, Jakob\, Johannes\, Karin och några till❤️
URL:https://www.centrumkyrkan.se/kalender-namn/4839/
LOCATION:Centrumkyrkan i Sundbyberg\, Prästgårdsgatan 13\, Sundbyberg\, 17268
ORGANIZER;CN="Centrumkyrkan i Sundbyberg":MAILTO:info@centrumkyrkan.se
END:VEVENT
BEGIN:VEVENT
DTSTART;TZID=Europe/Stockholm:20230429T100000
DTEND;TZID=Europe/Stockholm:20230429T140000
DTSTAMP:20260423T153757
CREATED:20230109T115157Z
LAST-MODIFIED:20230109T115157Z
UID:4497-1682762400-1682776800@www.centrumkyrkan.se
SUMMARY:Sopplunch
DESCRIPTION:kl. 10.00-12.00.
URL:https://www.centrumkyrkan.se/kalender-namn/sopplunch-85/
LOCATION:Centrumkyrkan i Sundbyberg\, Prästgårdsgatan 13\, Sundbyberg\, 17268
ORGANIZER;CN="Centrumkyrkan i Sundbyberg":MAILTO:info@centrumkyrkan.se
END:VEVENT
BEGIN:VEVENT
DTSTART;TZID=Europe/Stockholm:20230430T110000
DTEND;TZID=Europe/Stockholm:20230430T123000
DTSTAMP:20260423T153757
CREATED:20230119T083353Z
LAST-MODIFIED:20230331T111252Z
UID:4583-1682852400-1682857800@www.centrumkyrkan.se
SUMMARY:Gudstjänst
DESCRIPTION:11.00. ”Vägen till livet”.\nPredikan: Malin Aronsson.\nNattvard.
URL:https://www.centrumkyrkan.se/kalender-namn/gudstjanst-76/
LOCATION:Centrumkyrkan i Sundbyberg\, Prästgårdsgatan 13\, Sundbyberg\, 17268
ORGANIZER;CN="Centrumkyrkan i Sundbyberg":MAILTO:info@centrumkyrkan.se
END:VEVENT
BEGIN:VEVENT
DTSTART;TZID=Europe/Stockholm:20230430T180000
DTEND;TZID=Europe/Stockholm:20230430T193000
DTSTAMP:20260423T153757
CREATED:20230314T122735Z
LAST-MODIFIED:20230314T122735Z
UID:4774-1682877600-1682883000@www.centrumkyrkan.se
SUMMARY:Församlingsbön
DESCRIPTION:Kl. 18.00. Vi möts för bön och lovsång.\nErik Valier leder.
URL:https://www.centrumkyrkan.se/kalender-namn/forsamlingsbon-9/
LOCATION:Centrumkyrkan i Sundbyberg\, Prästgårdsgatan 13\, Sundbyberg\, 17268
ORGANIZER;CN="Centrumkyrkan i Sundbyberg":MAILTO:info@centrumkyrkan.se
END:VEVENT
BEGIN:VEVENT
DTSTART;TZID=Europe/Stockholm:20230503T183000
DTEND;TZID=Europe/Stockholm:20230503T193000
DTSTAMP:20260423T153757
CREATED:20221220T104438Z
LAST-MODIFIED:20230207T124159Z
UID:4452-1683138600-1683142200@www.centrumkyrkan.se
SUMMARY:Inför Hans Ansikte
DESCRIPTION:18.30-19.30.\nBönegudstjänst med nattvard.\nDen sista för terminen.
URL:https://www.centrumkyrkan.se/kalender-namn/infor-hans-ansikte-34/
LOCATION:Centrumkyrkan i Sundbyberg\, Prästgårdsgatan 13\, Sundbyberg\, 17268
ORGANIZER;CN="Centrumkyrkan i Sundbyberg":MAILTO:info@centrumkyrkan.se
END:VEVENT
BEGIN:VEVENT
DTSTART;TZID=Europe/Stockholm:20230506T100000
DTEND;TZID=Europe/Stockholm:20230506T120000
DTSTAMP:20260423T153757
CREATED:20230119T104229Z
LAST-MODIFIED:20230119T104229Z
UID:4595-1683367200-1683374400@www.centrumkyrkan.se
SUMMARY:Sopplunch
DESCRIPTION:10.00-12.00. Sopplunch.
URL:https://www.centrumkyrkan.se/kalender-namn/sopplunch-86/
LOCATION:Centrumkyrkan i Sundbyberg\, Prästgårdsgatan 13\, Sundbyberg\, 17268
ORGANIZER;CN="Centrumkyrkan i Sundbyberg":MAILTO:info@centrumkyrkan.se
END:VEVENT
BEGIN:VEVENT
DTSTART;TZID=Europe/Stockholm:20230507T110000
DTEND;TZID=Europe/Stockholm:20230507T123000
DTSTAMP:20260423T153757
CREATED:20230119T083611Z
LAST-MODIFIED:20230131T085119Z
UID:4585-1683457200-1683462600@www.centrumkyrkan.se
SUMMARY:Gudstjänst
DESCRIPTION:11.00. ”Att växa i tro”.\nPredikan: Bertil Edin.\nAvtackning Bertil. \n 
URL:https://www.centrumkyrkan.se/kalender-namn/gudstjanst-77/
LOCATION:Centrumkyrkan i Sundbyberg\, Prästgårdsgatan 13\, Sundbyberg\, 17268
ORGANIZER;CN="Centrumkyrkan i Sundbyberg":MAILTO:info@centrumkyrkan.se
END:VEVENT
BEGIN:VEVENT
DTSTART;TZID=Europe/Stockholm:20230507T180000
DTEND;TZID=Europe/Stockholm:20230507T193000
DTSTAMP:20260423T153757
CREATED:20230314T122832Z
LAST-MODIFIED:20230314T122832Z
UID:4776-1683482400-1683487800@www.centrumkyrkan.se
SUMMARY:Församlingsbön
DESCRIPTION:Kl. 18.00. Vi möts för bön och lovsång.\nErik Valier leder.
URL:https://www.centrumkyrkan.se/kalender-namn/forsamlingsbon-10/
LOCATION:Centrumkyrkan i Sundbyberg\, Prästgårdsgatan 13\, Sundbyberg\, 17268
ORGANIZER;CN="Centrumkyrkan i Sundbyberg":MAILTO:info@centrumkyrkan.se
END:VEVENT
BEGIN:VEVENT
DTSTART;TZID=Europe/Stockholm:20230510T183000
DTEND;TZID=Europe/Stockholm:20230510T193000
DTSTAMP:20260423T153757
CREATED:20230426T085736Z
LAST-MODIFIED:20230426T085736Z
UID:4836-1683743400-1683747000@www.centrumkyrkan.se
SUMMARY:Vårkonsert
DESCRIPTION:Den 10 maj kl. 18.30.\nBlockflöjstoner med Flauto Sera\nFlauto F.I.K.A.\nSe mer info på affisch på hemsidan.\nVälkommen! Fri entré.
URL:https://www.centrumkyrkan.se/kalender-namn/varkonsert/
LOCATION:Centrumkyrkan i Sundbyberg\, Prästgårdsgatan 13\, Sundbyberg\, 17268
ORGANIZER;CN="Centrumkyrkan i Sundbyberg":MAILTO:info@centrumkyrkan.se
END:VEVENT
BEGIN:VEVENT
DTSTART;TZID=Europe/Stockholm:20230513T100000
DTEND;TZID=Europe/Stockholm:20230513T120000
DTSTAMP:20260423T153757
CREATED:20230119T104337Z
LAST-MODIFIED:20230119T104337Z
UID:4597-1683972000-1683979200@www.centrumkyrkan.se
SUMMARY:Sopplunch
DESCRIPTION:10.00-12.00 Sopplunch.
URL:https://www.centrumkyrkan.se/kalender-namn/sopplunch-87/
LOCATION:Centrumkyrkan i Sundbyberg\, Prästgårdsgatan 13\, Sundbyberg\, 17268
ORGANIZER;CN="Centrumkyrkan i Sundbyberg":MAILTO:info@centrumkyrkan.se
END:VEVENT
BEGIN:VEVENT
DTSTART;TZID=Europe/Stockholm:20230514T110000
DTEND;TZID=Europe/Stockholm:20230514T123000
DTSTAMP:20260423T153757
CREATED:20230119T083731Z
LAST-MODIFIED:20230426T075028Z
UID:4587-1684062000-1684067400@www.centrumkyrkan.se
SUMMARY:Gudstjänst
DESCRIPTION:11.00. ”Bönen”\nPredikan: Elin Hulebo.\nNattvard.
URL:https://www.centrumkyrkan.se/kalender-namn/gudstjanst-78/
LOCATION:Centrumkyrkan i Sundbyberg\, Prästgårdsgatan 13\, Sundbyberg\, 17268
ORGANIZER;CN="Centrumkyrkan i Sundbyberg":MAILTO:info@centrumkyrkan.se
END:VEVENT
BEGIN:VEVENT
DTSTART;TZID=Europe/Stockholm:20230514T180000
DTEND;TZID=Europe/Stockholm:20230514T193000
DTSTAMP:20260423T153757
CREATED:20230314T122950Z
LAST-MODIFIED:20230314T122950Z
UID:4778-1684087200-1684092600@www.centrumkyrkan.se
SUMMARY:Församlingsbön
DESCRIPTION:Kl. 18.00. Vi möts för bön och lovsång.\nErik Valier leder.
URL:https://www.centrumkyrkan.se/kalender-namn/forsamlingsbon-11/
LOCATION:Centrumkyrkan i Sundbyberg\, Prästgårdsgatan 13\, Sundbyberg\, 17268
ORGANIZER;CN="Centrumkyrkan i Sundbyberg":MAILTO:info@centrumkyrkan.se
END:VEVENT
BEGIN:VEVENT
DTSTART;TZID=Europe/Stockholm:20230518T093000
DTEND;TZID=Europe/Stockholm:20230518T120000
DTSTAMP:20260423T153757
CREATED:20230119T084035Z
LAST-MODIFIED:20230517T110732Z
UID:4589-1684402200-1684411200@www.centrumkyrkan.se
SUMMARY:Pilgrimsvandring
DESCRIPTION:18 maj Kristi himmelsfärds dag.\nPilgrimsvandring – Malin Aronsson\nFrån kl. 09.30-12.00 Samlingsplats Riddersviks\nherrgård. Medtag matsäck.
URL:https://www.centrumkyrkan.se/kalender-namn/pilgrimsvandring/
LOCATION:Centrumkyrkan i Sundbyberg\, Prästgårdsgatan 13\, Sundbyberg\, 17268
ORGANIZER;CN="Centrumkyrkan i Sundbyberg":MAILTO:info@centrumkyrkan.se
END:VEVENT
BEGIN:VEVENT
DTSTART;TZID=Europe/Stockholm:20230520T100000
DTEND;TZID=Europe/Stockholm:20230520T120000
DTSTAMP:20260423T153757
CREATED:20230119T104443Z
LAST-MODIFIED:20230119T104443Z
UID:4599-1684576800-1684584000@www.centrumkyrkan.se
SUMMARY:Sopplunch
DESCRIPTION:10.00-12.00. Sopplunch.
URL:https://www.centrumkyrkan.se/kalender-namn/sopplunch-88/
LOCATION:Centrumkyrkan i Sundbyberg\, Prästgårdsgatan 13\, Sundbyberg\, 17268
ORGANIZER;CN="Centrumkyrkan i Sundbyberg":MAILTO:info@centrumkyrkan.se
END:VEVENT
BEGIN:VEVENT
DTSTART;TZID=Europe/Stockholm:20230521T110000
DTEND;TZID=Europe/Stockholm:20230521T123000
DTSTAMP:20260423T153757
CREATED:20230119T084225Z
LAST-MODIFIED:20230221T090252Z
UID:4591-1684666800-1684672200@www.centrumkyrkan.se
SUMMARY:Gudstjänst
DESCRIPTION:11.00. ”Hjälparen kommer”.\nPredikan: Erik Valier.
URL:https://www.centrumkyrkan.se/kalender-namn/gudstjanst-79/
LOCATION:Centrumkyrkan i Sundbyberg\, Prästgårdsgatan 13\, Sundbyberg\, 17268
ORGANIZER;CN="Centrumkyrkan i Sundbyberg":MAILTO:info@centrumkyrkan.se
END:VEVENT
BEGIN:VEVENT
DTSTART;TZID=Europe/Stockholm:20230521T180000
DTEND;TZID=Europe/Stockholm:20230521T193000
DTSTAMP:20260423T153757
CREATED:20230314T123043Z
LAST-MODIFIED:20230314T123043Z
UID:4780-1684692000-1684697400@www.centrumkyrkan.se
SUMMARY:Församlingsbön
DESCRIPTION:Kl. 18.00. Vi möts för bön och lovsång.\nErik Valier leder.
URL:https://www.centrumkyrkan.se/kalender-namn/forsamlingsbon-12/
LOCATION:Centrumkyrkan i Sundbyberg\, Prästgårdsgatan 13\, Sundbyberg\, 17268
ORGANIZER;CN="Centrumkyrkan i Sundbyberg":MAILTO:info@centrumkyrkan.se
END:VEVENT
BEGIN:VEVENT
DTSTART;TZID=Europe/Stockholm:20230522T080000
DTEND;TZID=Europe/Stockholm:20230522T170000
DTSTAMP:20260423T153757
CREATED:20230522T091700Z
LAST-MODIFIED:20230522T091700Z
UID:4915-1684742400-1684774800@www.centrumkyrkan.se
SUMMARY:Gudstjänst
DESCRIPTION:11.00 ”Friheten i Kristus”.\nPredikan:
URL:https://www.centrumkyrkan.se/kalender-namn/gudstjanst-94/
END:VEVENT
BEGIN:VEVENT
DTSTART;VALUE=DATE:20230526
DTEND;VALUE=DATE:20230529
DTSTAMP:20260423T153757
CREATED:20230127T102850Z
LAST-MODIFIED:20230127T102850Z
UID:4642-1685059200-1685318399@www.centrumkyrkan.se
SUMMARY:Retreat Björkögården 26-28 maj
DESCRIPTION:Anmälan så snart som möjligt för att få plats.\nMail till: bertil@centrumkyrkan.se \n 
URL:https://www.centrumkyrkan.se/kalender-namn/retreat-bjorkogarden-26-28-maj/
LOCATION:Centrumkyrkan i Sundbyberg\, Prästgårdsgatan 13\, Sundbyberg\, 17268
ORGANIZER;CN="Centrumkyrkan i Sundbyberg":MAILTO:info@centrumkyrkan.se
END:VEVENT
BEGIN:VEVENT
DTSTART;TZID=Europe/Stockholm:20230526T183000
DTEND;TZID=Europe/Stockholm:20230526T210000
DTSTAMP:20260423T153757
CREATED:20230427T072239Z
LAST-MODIFIED:20230427T072239Z
UID:4842-1685125800-1685134800@www.centrumkyrkan.se
SUMMARY:CK-tillsammans - Ukraina
DESCRIPTION:Kl. 18.30-21.00.\nMer info kommer.
URL:https://www.centrumkyrkan.se/kalender-namn/ck-tillsammans-ukraina/
LOCATION:Centrumkyrkan i Sundbyberg\, Prästgårdsgatan 13\, Sundbyberg\, 17268
ORGANIZER;CN="Centrumkyrkan i Sundbyberg":MAILTO:info@centrumkyrkan.se
END:VEVENT
BEGIN:VEVENT
DTSTART;TZID=Europe/Stockholm:20230527T100000
DTEND;TZID=Europe/Stockholm:20230527T120000
DTSTAMP:20260423T153757
CREATED:20230119T104622Z
LAST-MODIFIED:20230119T104622Z
UID:4601-1685181600-1685188800@www.centrumkyrkan.se
SUMMARY:Sopplunch
DESCRIPTION:10.00-12.00. Sopplunch.
URL:https://www.centrumkyrkan.se/kalender-namn/sopplunch-89/
LOCATION:Centrumkyrkan i Sundbyberg\, Prästgårdsgatan 13\, Sundbyberg\, 17268
ORGANIZER;CN="Centrumkyrkan i Sundbyberg":MAILTO:info@centrumkyrkan.se
END:VEVENT
BEGIN:VEVENT
DTSTART;TZID=Europe/Stockholm:20230527T160000
DTEND;TZID=Europe/Stockholm:20230527T173000
DTSTAMP:20260423T153757
CREATED:20230505T073005Z
LAST-MODIFIED:20230505T073005Z
UID:4859-1685203200-1685208600@www.centrumkyrkan.se
SUMMARY:Vårkonsert
DESCRIPTION:KL. 16. ”Hela kyrkan sjunger och spelar” med\nblockflöjtselever och ensembler under ledning\nav Heidi Rohlin Westin och Gun Magnusson.\nVälkommen! Fri entré.
URL:https://www.centrumkyrkan.se/kalender-namn/varkonsert-2/
LOCATION:Centrumkyrkan i Sundbyberg\, Prästgårdsgatan 13\, Sundbyberg\, 17268
ORGANIZER;CN="Centrumkyrkan i Sundbyberg":MAILTO:info@centrumkyrkan.se
END:VEVENT
BEGIN:VEVENT
DTSTART;TZID=Europe/Stockholm:20230528T110000
DTEND;TZID=Europe/Stockholm:20230528T123000
DTSTAMP:20260423T153757
CREATED:20230131T085443Z
LAST-MODIFIED:20230331T111537Z
UID:4658-1685271600-1685277000@www.centrumkyrkan.se
SUMMARY:Gudstjänst
DESCRIPTION:11.00. ”Den heliga Anden”.\nPredikan: Malin Aronsson.\nNattvard.
URL:https://www.centrumkyrkan.se/kalender-namn/gudstjanst-80/
LOCATION:Centrumkyrkan i Sundbyberg\, Prästgårdsgatan 13\, Sundbyberg\, 17268
ORGANIZER;CN="Centrumkyrkan i Sundbyberg":MAILTO:info@centrumkyrkan.se
END:VEVENT
BEGIN:VEVENT
DTSTART;TZID=Europe/Stockholm:20230528T180000
DTEND;TZID=Europe/Stockholm:20230528T193000
DTSTAMP:20260423T153757
CREATED:20230314T123136Z
LAST-MODIFIED:20230314T123136Z
UID:4782-1685296800-1685302200@www.centrumkyrkan.se
SUMMARY:Församlingsbön
DESCRIPTION:Kl. 18.00. Vi möts för bön och lovsång.\nErik Valier leder.
URL:https://www.centrumkyrkan.se/kalender-namn/forsamlingsbon-13/
LOCATION:Centrumkyrkan i Sundbyberg\, Prästgårdsgatan 13\, Sundbyberg\, 17268
ORGANIZER;CN="Centrumkyrkan i Sundbyberg":MAILTO:info@centrumkyrkan.se
END:VEVENT
END:VCALENDAR