BEGIN:VCALENDAR
VERSION:2.0
PRODID:-//Centrumkyrkan i Sundbyberg - ECPv6.15.20//NONSGML v1.0//EN
CALSCALE:GREGORIAN
METHOD:PUBLISH
X-WR-CALNAME:Centrumkyrkan i Sundbyberg
X-ORIGINAL-URL:https://www.centrumkyrkan.se
X-WR-CALDESC:Händelser för Centrumkyrkan i Sundbyberg
REFRESH-INTERVAL;VALUE=DURATION:PT1H
X-Robots-Tag:noindex
X-PUBLISHED-TTL:PT1H
BEGIN:VTIMEZONE
TZID:Europe/Stockholm
BEGIN:DAYLIGHT
TZOFFSETFROM:+0100
TZOFFSETTO:+0200
TZNAME:CEST
DTSTART:20210328T010000
END:DAYLIGHT
BEGIN:STANDARD
TZOFFSETFROM:+0200
TZOFFSETTO:+0100
TZNAME:CET
DTSTART:20211031T010000
END:STANDARD
BEGIN:DAYLIGHT
TZOFFSETFROM:+0100
TZOFFSETTO:+0200
TZNAME:CEST
DTSTART:20220327T010000
END:DAYLIGHT
BEGIN:STANDARD
TZOFFSETFROM:+0200
TZOFFSETTO:+0100
TZNAME:CET
DTSTART:20221030T010000
END:STANDARD
BEGIN:DAYLIGHT
TZOFFSETFROM:+0100
TZOFFSETTO:+0200
TZNAME:CEST
DTSTART:20230326T010000
END:DAYLIGHT
BEGIN:STANDARD
TZOFFSETFROM:+0200
TZOFFSETTO:+0100
TZNAME:CET
DTSTART:20231029T010000
END:STANDARD
END:VTIMEZONE
BEGIN:VEVENT
DTSTART;TZID=Europe/Stockholm:20221019T183000
DTEND;TZID=Europe/Stockholm:20221019T193000
DTSTAMP:20260424T043545
CREATED:20220812T094135Z
LAST-MODIFIED:20220812T094135Z
UID:3952-1666204200-1666207800@www.centrumkyrkan.se
SUMMARY:Inför Hans Ansikte
DESCRIPTION:”Inför Hans Ansikte”\nBönegudstjänst med nattvard\n18.30
URL:https://www.centrumkyrkan.se/kalender-namn/infor-hans-ansikte-23/
LOCATION:Centrumkyrkan i Sundbyberg\, Prästgårdsgatan 13\, Sundbyberg\, 17268
ORGANIZER;CN="Centrumkyrkan i Sundbyberg":MAILTO:info@centrumkyrkan.se
END:VEVENT
BEGIN:VEVENT
DTSTART;TZID=Europe/Stockholm:20221020T183000
DTEND;TZID=Europe/Stockholm:20221020T210000
DTSTAMP:20260424T043545
CREATED:20220830T133209Z
LAST-MODIFIED:20220830T133209Z
UID:4025-1666290600-1666299600@www.centrumkyrkan.se
SUMMARY:ALPHA-grupp
DESCRIPTION:För redan anmälda! 18.30-21.00
URL:https://www.centrumkyrkan.se/kalender-namn/alpha-grupp/
LOCATION:Centrumkyrkan i Sundbyberg\, Prästgårdsgatan 13\, Sundbyberg\, 17268
ORGANIZER;CN="Centrumkyrkan i Sundbyberg":MAILTO:info@centrumkyrkan.se
END:VEVENT
BEGIN:VEVENT
DTSTART;TZID=Europe/Stockholm:20221022T100000
DTEND;TZID=Europe/Stockholm:20221022T120000
DTSTAMP:20260424T043545
CREATED:20220809T111325Z
LAST-MODIFIED:20220809T111325Z
UID:3925-1666432800-1666440000@www.centrumkyrkan.se
SUMMARY:Sopplunch
DESCRIPTION:Sopplunch 10-12\nEn värmande skål soppa för den som behöver\nVarmt välkommen!
URL:https://www.centrumkyrkan.se/kalender-namn/sopplunch-60/
LOCATION:Centrumkyrkan i Sundbyberg\, Prästgårdsgatan 13\, Sundbyberg\, 17268
ORGANIZER;CN="Centrumkyrkan i Sundbyberg":MAILTO:info@centrumkyrkan.se
END:VEVENT
BEGIN:VEVENT
DTSTART;TZID=Europe/Stockholm:20221023T093000
DTEND;TZID=Europe/Stockholm:20221023T103000
DTSTAMP:20260424T043545
CREATED:20220926T112033Z
LAST-MODIFIED:20220926T112033Z
UID:4079-1666517400-1666521000@www.centrumkyrkan.se
SUMMARY:Frukostbibelstudium
DESCRIPTION:9.30 Frukostbibelstudium med Peter Halldorf\nI samarbete med studieförbundet BILDA
URL:https://www.centrumkyrkan.se/kalender-namn/frukostbibelstudium-3/
LOCATION:Centrumkyrkan i Sundbyberg\, Prästgårdsgatan 13\, Sundbyberg\, 17268
ORGANIZER;CN="Centrumkyrkan i Sundbyberg":MAILTO:info@centrumkyrkan.se
END:VEVENT
BEGIN:VEVENT
DTSTART;TZID=Europe/Stockholm:20221023T110000
DTEND;TZID=Europe/Stockholm:20221023T123000
DTSTAMP:20260424T043545
CREATED:20220809T080426Z
LAST-MODIFIED:20220926T111838Z
UID:3896-1666522800-1666528200@www.centrumkyrkan.se
SUMMARY:Gudstjänst
DESCRIPTION:Frukostbibelstudium från 9.30 med P Halldorf\n11.00 ”Trons kraft”\nPredikan: Peter Halldorf\nMusik: Niklas Aronsson med team
URL:https://www.centrumkyrkan.se/kalender-namn/gudstjanst-53/
LOCATION:Centrumkyrkan i Sundbyberg\, Prästgårdsgatan 13\, Sundbyberg\, 17268
ORGANIZER;CN="Centrumkyrkan i Sundbyberg":MAILTO:info@centrumkyrkan.se
END:VEVENT
BEGIN:VEVENT
DTSTART;TZID=Europe/Stockholm:20221023T123000
DTEND;TZID=Europe/Stockholm:20221023T133000
DTSTAMP:20260424T043545
CREATED:20221012T082108Z
LAST-MODIFIED:20221012T082108Z
UID:4095-1666528200-1666531800@www.centrumkyrkan.se
SUMMARY:Extra församlingsmöte kl. 12.30.
DESCRIPTION:Välkommen till extra församlingsmöte direkt efter gudstjänsten kl 12.30. Fika serveras i kyrksalen.
URL:https://www.centrumkyrkan.se/kalender-namn/extra-forsamlingsmote-kl-12-30/
LOCATION:Centrumkyrkan i Sundbyberg\, Prästgårdsgatan 13\, Sundbyberg\, 17268
ORGANIZER;CN="Centrumkyrkan i Sundbyberg":MAILTO:info@centrumkyrkan.se
END:VEVENT
BEGIN:VEVENT
DTSTART;TZID=Europe/Stockholm:20221026T183000
DTEND;TZID=Europe/Stockholm:20221026T210000
DTSTAMP:20260424T043545
CREATED:20220926T112839Z
LAST-MODIFIED:20221013T120940Z
UID:4084-1666809000-1666818000@www.centrumkyrkan.se
SUMMARY:Halv sju hos mig!
DESCRIPTION:Tid: 18.30-21.00.\nVälkommen att dela enkel mat\, prat\, skratt\, liv och tro.\nVill du anmäla dig direkt i kyrkan finns det lista längst bak i kyrksalen.\nEller maila: info@centrumkyrkan.se
URL:https://www.centrumkyrkan.se/kalender-namn/halv-sju-hos-mig/
END:VEVENT
BEGIN:VEVENT
DTSTART;TZID=Europe/Stockholm:20221027T183000
DTEND;TZID=Europe/Stockholm:20221027T210000
DTSTAMP:20260424T043545
CREATED:20220830T133349Z
LAST-MODIFIED:20220830T133349Z
UID:4027-1666895400-1666904400@www.centrumkyrkan.se
SUMMARY:ALPHA-grupp
DESCRIPTION:För redan anmälda! 18.30-21.00
URL:https://www.centrumkyrkan.se/kalender-namn/alpha-grupp-2/
LOCATION:Centrumkyrkan i Sundbyberg\, Prästgårdsgatan 13\, Sundbyberg\, 17268
ORGANIZER;CN="Centrumkyrkan i Sundbyberg":MAILTO:info@centrumkyrkan.se
END:VEVENT
BEGIN:VEVENT
DTSTART;TZID=Europe/Stockholm:20221029T100000
DTEND;TZID=Europe/Stockholm:20221029T120000
DTSTAMP:20260424T043545
CREATED:20220809T111445Z
LAST-MODIFIED:20220809T111445Z
UID:3927-1667037600-1667044800@www.centrumkyrkan.se
SUMMARY:Sopplunch
DESCRIPTION:Sopplunch 10-12\nEn värmande skål soppa för den som behöver\nVarmt välkommen!
URL:https://www.centrumkyrkan.se/kalender-namn/sopplunch-61/
LOCATION:Centrumkyrkan i Sundbyberg\, Prästgårdsgatan 13\, Sundbyberg\, 17268
ORGANIZER;CN="Centrumkyrkan i Sundbyberg":MAILTO:info@centrumkyrkan.se
END:VEVENT
BEGIN:VEVENT
DTSTART;TZID=Europe/Stockholm:20221030T110000
DTEND;TZID=Europe/Stockholm:20221030T123000
DTSTAMP:20260424T043545
CREATED:20220809T080825Z
LAST-MODIFIED:20220926T112231Z
UID:3899-1667127600-1667133000@www.centrumkyrkan.se
SUMMARY:Gudstjänst
DESCRIPTION:”Att leva tillsammans”\nPredikan: Malin Aronsson\nMusik: Siri Klinth med vänner
URL:https://www.centrumkyrkan.se/kalender-namn/gudstjanst-54/
LOCATION:Centrumkyrkan i Sundbyberg\, Prästgårdsgatan 13\, Sundbyberg\, 17268
ORGANIZER;CN="Centrumkyrkan i Sundbyberg":MAILTO:info@centrumkyrkan.se
END:VEVENT
BEGIN:VEVENT
DTSTART;TZID=Europe/Stockholm:20221102T183000
DTEND;TZID=Europe/Stockholm:20221102T193000
DTSTAMP:20260424T043545
CREATED:20220812T094322Z
LAST-MODIFIED:20220812T094322Z
UID:3954-1667413800-1667417400@www.centrumkyrkan.se
SUMMARY:Inför Hans Ansikte
DESCRIPTION:”Inför Hans Ansikte”\nBönegudstjänst med nattvard\n18.30
URL:https://www.centrumkyrkan.se/kalender-namn/infor-hans-ansikte-24/
LOCATION:Centrumkyrkan i Sundbyberg\, Prästgårdsgatan 13\, Sundbyberg\, 17268
ORGANIZER;CN="Centrumkyrkan i Sundbyberg":MAILTO:info@centrumkyrkan.se
END:VEVENT
BEGIN:VEVENT
DTSTART;TZID=Europe/Stockholm:20221103T183000
DTEND;TZID=Europe/Stockholm:20221103T210000
DTSTAMP:20260424T043545
CREATED:20220830T133511Z
LAST-MODIFIED:20220830T133511Z
UID:4029-1667500200-1667509200@www.centrumkyrkan.se
SUMMARY:ALPHA-grupp
DESCRIPTION:För redan anmälda. 18.30-21.00
URL:https://www.centrumkyrkan.se/kalender-namn/alpha-grupp-3/
LOCATION:Centrumkyrkan i Sundbyberg\, Prästgårdsgatan 13\, Sundbyberg\, 17268
ORGANIZER;CN="Centrumkyrkan i Sundbyberg":MAILTO:info@centrumkyrkan.se
END:VEVENT
BEGIN:VEVENT
DTSTART;TZID=Europe/Stockholm:20221105T100000
DTEND;TZID=Europe/Stockholm:20221105T120000
DTSTAMP:20260424T043545
CREATED:20220809T111621Z
LAST-MODIFIED:20221103T111726Z
UID:3929-1667642400-1667649600@www.centrumkyrkan.se
SUMMARY:Sopplunch
DESCRIPTION:Sopplunch kl. 10-12
URL:https://www.centrumkyrkan.se/kalender-namn/sopplunch-62/
LOCATION:Centrumkyrkan i Sundbyberg\, Prästgårdsgatan 13\, Sundbyberg\, 17268
ORGANIZER;CN="Centrumkyrkan i Sundbyberg":MAILTO:info@centrumkyrkan.se
END:VEVENT
BEGIN:VEVENT
DTSTART;TZID=Europe/Stockholm:20221106T110000
DTEND;TZID=Europe/Stockholm:20221106T123000
DTSTAMP:20260424T043545
CREATED:20220809T081024Z
LAST-MODIFIED:20221103T105223Z
UID:3901-1667732400-1667737800@www.centrumkyrkan.se
SUMMARY:Gudstjänst
DESCRIPTION:”Vårt eviga hopp”\nPredikan: Bertil Edin\nMusik: Anders & Anneli Ringqvist.
URL:https://www.centrumkyrkan.se/kalender-namn/gudstjanst-55/
LOCATION:Centrumkyrkan i Sundbyberg\, Prästgårdsgatan 13\, Sundbyberg\, 17268
ORGANIZER;CN="Centrumkyrkan i Sundbyberg":MAILTO:info@centrumkyrkan.se
END:VEVENT
BEGIN:VEVENT
DTSTART;TZID=Europe/Stockholm:20221110T183000
DTEND;TZID=Europe/Stockholm:20221110T210000
DTSTAMP:20260424T043545
CREATED:20220830T133629Z
LAST-MODIFIED:20220830T133629Z
UID:4031-1668105000-1668114000@www.centrumkyrkan.se
SUMMARY:ALPHA-grupp
DESCRIPTION:För redan anmälda! 18.30-21.00
URL:https://www.centrumkyrkan.se/kalender-namn/alpha-grupp-4/
LOCATION:Centrumkyrkan i Sundbyberg\, Prästgårdsgatan 13\, Sundbyberg\, 17268
ORGANIZER;CN="Centrumkyrkan i Sundbyberg":MAILTO:info@centrumkyrkan.se
END:VEVENT
BEGIN:VEVENT
DTSTART;TZID=Europe/Stockholm:20221112T100000
DTEND;TZID=Europe/Stockholm:20221112T120000
DTSTAMP:20260424T043545
CREATED:20220809T111818Z
LAST-MODIFIED:20221103T111946Z
UID:3931-1668247200-1668254400@www.centrumkyrkan.se
SUMMARY:Sopplunch
DESCRIPTION:Sopplunch kl. 10-12
URL:https://www.centrumkyrkan.se/kalender-namn/sopplunch-63/
LOCATION:Centrumkyrkan i Sundbyberg\, Prästgårdsgatan 13\, Sundbyberg\, 17268
ORGANIZER;CN="Centrumkyrkan i Sundbyberg":MAILTO:info@centrumkyrkan.se
END:VEVENT
BEGIN:VEVENT
DTSTART;TZID=Europe/Stockholm:20221113T110000
DTEND;TZID=Europe/Stockholm:20221113T123000
DTSTAMP:20260424T043545
CREATED:20220809T081216Z
LAST-MODIFIED:20221012T094032Z
UID:3903-1668337200-1668342600@www.centrumkyrkan.se
SUMMARY:Gudstjänst
DESCRIPTION:”Vaksamhet och väntan”\nPredikan: Erik Valier\nMusik: Per-Henrik Holgersson och Laudes
URL:https://www.centrumkyrkan.se/kalender-namn/gudstjanst-56/
LOCATION:Centrumkyrkan i Sundbyberg\, Prästgårdsgatan 13\, Sundbyberg\, 17268
ORGANIZER;CN="Centrumkyrkan i Sundbyberg":MAILTO:info@centrumkyrkan.se
END:VEVENT
BEGIN:VEVENT
DTSTART;TZID=Europe/Stockholm:20221116T183000
DTEND;TZID=Europe/Stockholm:20221116T193000
DTSTAMP:20260424T043545
CREATED:20220812T094508Z
LAST-MODIFIED:20220812T094508Z
UID:3956-1668623400-1668627000@www.centrumkyrkan.se
SUMMARY:Inför Hans Ansikte
DESCRIPTION:”Inför Hans Ansikte”\nBönegudstjänst med nattvard\n18.30
URL:https://www.centrumkyrkan.se/kalender-namn/infor-hans-ansikte-25/
LOCATION:Centrumkyrkan i Sundbyberg\, Prästgårdsgatan 13\, Sundbyberg\, 17268
ORGANIZER;CN="Centrumkyrkan i Sundbyberg":MAILTO:info@centrumkyrkan.se
END:VEVENT
BEGIN:VEVENT
DTSTART;TZID=Europe/Stockholm:20221117T183000
DTEND;TZID=Europe/Stockholm:20221117T210000
DTSTAMP:20260424T043545
CREATED:20220830T133743Z
LAST-MODIFIED:20220830T133743Z
UID:4033-1668709800-1668718800@www.centrumkyrkan.se
SUMMARY:ALPHA-grupp
DESCRIPTION:För redan anmälda! 18.30-21.00
URL:https://www.centrumkyrkan.se/kalender-namn/alpha-grupp-5/
LOCATION:Centrumkyrkan i Sundbyberg\, Prästgårdsgatan 13\, Sundbyberg\, 17268
ORGANIZER;CN="Centrumkyrkan i Sundbyberg":MAILTO:info@centrumkyrkan.se
END:VEVENT
BEGIN:VEVENT
DTSTART;TZID=Europe/Stockholm:20221119T100000
DTEND;TZID=Europe/Stockholm:20221119T120000
DTSTAMP:20260424T043545
CREATED:20220809T112009Z
LAST-MODIFIED:20221115T115746Z
UID:3933-1668852000-1668859200@www.centrumkyrkan.se
SUMMARY:Sopplunch
DESCRIPTION:Sopplunch 10-12.
URL:https://www.centrumkyrkan.se/kalender-namn/sopplunch-64/
LOCATION:Centrumkyrkan i Sundbyberg\, Prästgårdsgatan 13\, Sundbyberg\, 17268
ORGANIZER;CN="Centrumkyrkan i Sundbyberg":MAILTO:info@centrumkyrkan.se
END:VEVENT
BEGIN:VEVENT
DTSTART;TZID=Europe/Stockholm:20221120T110000
DTEND;TZID=Europe/Stockholm:20221120T123000
DTSTAMP:20260424T043545
CREATED:20220809T081411Z
LAST-MODIFIED:20221103T105943Z
UID:3905-1668942000-1668947400@www.centrumkyrkan.se
SUMMARY:Gudstjänst
DESCRIPTION:”Kristi återkomst”\nPredikan: Malin Aronsson\nMusik: Elise Nestor
URL:https://www.centrumkyrkan.se/kalender-namn/gudstjanst-57/
LOCATION:Centrumkyrkan i Sundbyberg\, Prästgårdsgatan 13\, Sundbyberg\, 17268
ORGANIZER;CN="Centrumkyrkan i Sundbyberg":MAILTO:info@centrumkyrkan.se
END:VEVENT
BEGIN:VEVENT
DTSTART;TZID=Europe/Stockholm:20221124T183000
DTEND;TZID=Europe/Stockholm:20221124T210000
DTSTAMP:20260424T043545
CREATED:20220830T133906Z
LAST-MODIFIED:20221124T133235Z
UID:4035-1669314600-1669323600@www.centrumkyrkan.se
SUMMARY:ALPHA-grupp
DESCRIPTION:Kl 18.30-21.00.\nPågående kurs.
URL:https://www.centrumkyrkan.se/kalender-namn/alpha-grupp-6/
LOCATION:Centrumkyrkan i Sundbyberg\, Prästgårdsgatan 13\, Sundbyberg\, 17268
ORGANIZER;CN="Centrumkyrkan i Sundbyberg":MAILTO:info@centrumkyrkan.se
END:VEVENT
BEGIN:VEVENT
DTSTART;TZID=Europe/Stockholm:20221125T190000
DTEND;TZID=Europe/Stockholm:20221125T210000
DTSTAMP:20260424T043545
CREATED:20221111T121023Z
LAST-MODIFIED:20221124T122618Z
UID:4247-1669402800-1669410000@www.centrumkyrkan.se
SUMMARY:CK-Tillsammans
DESCRIPTION:Kl. 19-21.\nVälkommen till CK-tillsammans!\nLivemusik Cahoot!\nFri entré.\nPizza till självkostnadspris. \n 
URL:https://www.centrumkyrkan.se/kalender-namn/ck-tillsammans/
LOCATION:Centrumkyrkan i Sundbyberg\, Prästgårdsgatan 13\, Sundbyberg\, 17268
ORGANIZER;CN="Centrumkyrkan i Sundbyberg":MAILTO:info@centrumkyrkan.se
END:VEVENT
BEGIN:VEVENT
DTSTART;TZID=Europe/Stockholm:20221126T100000
DTEND;TZID=Europe/Stockholm:20221126T120000
DTSTAMP:20260424T043545
CREATED:20220809T112213Z
LAST-MODIFIED:20221124T134222Z
UID:3935-1669456800-1669464000@www.centrumkyrkan.se
SUMMARY:Sopplunch
DESCRIPTION:Sopplunch kl. 10-12.
URL:https://www.centrumkyrkan.se/kalender-namn/sopplunch-65/
LOCATION:Centrumkyrkan i Sundbyberg\, Prästgårdsgatan 13\, Sundbyberg\, 17268
ORGANIZER;CN="Centrumkyrkan i Sundbyberg":MAILTO:info@centrumkyrkan.se
END:VEVENT
BEGIN:VEVENT
DTSTART;TZID=Europe/Stockholm:20221127T100000
DTEND;TZID=Europe/Stockholm:20221127T110000
DTSTAMP:20260424T043545
CREATED:20220809T081705Z
LAST-MODIFIED:20221115T115502Z
UID:3907-1669543200-1669546800@www.centrumkyrkan.se
SUMMARY:Första advent - gudstjänst
DESCRIPTION:”Ett nådens år”\nPredikan: Malin Aronsson\nMusik: Holgersson/Möllås\,\nAdventskören\, barnkör mm.\nKaffe serveras endast mellan gudstjänsterna. \n 
URL:https://www.centrumkyrkan.se/kalender-namn/gudstjanst-58/
LOCATION:Centrumkyrkan i Sundbyberg\, Prästgårdsgatan 13\, Sundbyberg\, 17268
ORGANIZER;CN="Centrumkyrkan i Sundbyberg":MAILTO:info@centrumkyrkan.se
END:VEVENT
BEGIN:VEVENT
DTSTART;TZID=Europe/Stockholm:20221127T120000
DTEND;TZID=Europe/Stockholm:20221127T130000
DTSTAMP:20260424T043545
CREATED:20221115T105456Z
LAST-MODIFIED:20221115T115334Z
UID:4270-1669550400-1669554000@www.centrumkyrkan.se
SUMMARY:Första advent gudstjänst
DESCRIPTION:”Ett nådens år”\nPredikan: Bertil Edin\nMusik: Holgersson/Möllås\,\nAdventskören\, barnkör mm.\nKaffe serveras endast mellan gudstjänsterna.
URL:https://www.centrumkyrkan.se/kalender-namn/forsta-advent-gudstjanst/
LOCATION:Centrumkyrkan i Sundbyberg\, Prästgårdsgatan 13\, Sundbyberg\, 17268
ORGANIZER;CN="Centrumkyrkan i Sundbyberg":MAILTO:info@centrumkyrkan.se
END:VEVENT
BEGIN:VEVENT
DTSTART;TZID=Europe/Stockholm:20221130T183000
DTEND;TZID=Europe/Stockholm:20221130T193000
DTSTAMP:20260424T043545
CREATED:20220812T094759Z
LAST-MODIFIED:20221124T101529Z
UID:3958-1669833000-1669836600@www.centrumkyrkan.se
SUMMARY:Inför Hans Ansikte
DESCRIPTION:”Inför Hans Ansikte”\nBönegudstjänst med nattvard\n18.30.\nSista för terminen.
URL:https://www.centrumkyrkan.se/kalender-namn/infor-hans-ansikte-26/
LOCATION:Centrumkyrkan i Sundbyberg\, Prästgårdsgatan 13\, Sundbyberg\, 17268
ORGANIZER;CN="Centrumkyrkan i Sundbyberg":MAILTO:info@centrumkyrkan.se
END:VEVENT
BEGIN:VEVENT
DTSTART;TZID=Europe/Stockholm:20221201T183000
DTEND;TZID=Europe/Stockholm:20221201T210000
DTSTAMP:20260424T043545
CREATED:20220830T134045Z
LAST-MODIFIED:20221124T105323Z
UID:4037-1669919400-1669928400@www.centrumkyrkan.se
SUMMARY:ALPHA sista träffen
DESCRIPTION:Kl. 18.30-21.00\nSista ALPHA-träffen
URL:https://www.centrumkyrkan.se/kalender-namn/alpha-sista-traffen/
LOCATION:Centrumkyrkan i Sundbyberg\, Prästgårdsgatan 13\, Sundbyberg\, 17268
ORGANIZER;CN="Centrumkyrkan i Sundbyberg":MAILTO:info@centrumkyrkan.se
END:VEVENT
BEGIN:VEVENT
DTSTART;TZID=Europe/Stockholm:20221203T100000
DTEND;TZID=Europe/Stockholm:20221203T120000
DTSTAMP:20260424T043545
CREATED:20220809T112441Z
LAST-MODIFIED:20221117T104051Z
UID:3937-1670061600-1670068800@www.centrumkyrkan.se
SUMMARY:Sopplunch
DESCRIPTION:Sopplunch kl. 10-12
URL:https://www.centrumkyrkan.se/kalender-namn/sopplunch-66/
LOCATION:Centrumkyrkan i Sundbyberg\, Prästgårdsgatan 13\, Sundbyberg\, 17268
ORGANIZER;CN="Centrumkyrkan i Sundbyberg":MAILTO:info@centrumkyrkan.se
END:VEVENT
BEGIN:VEVENT
DTSTART;TZID=Europe/Stockholm:20221204T110000
DTEND;TZID=Europe/Stockholm:20221204T123000
DTSTAMP:20260424T043545
CREATED:20220809T081840Z
LAST-MODIFIED:20221124T152408Z
UID:3909-1670151600-1670157000@www.centrumkyrkan.se
SUMMARY:Gudstjänst
DESCRIPTION:”Guds rike är nära”\nPredikan: Erik Valier\nMusik: Lotta & Therese
URL:https://www.centrumkyrkan.se/kalender-namn/gudstjanst-59/
LOCATION:Centrumkyrkan i Sundbyberg\, Prästgårdsgatan 13\, Sundbyberg\, 17268
ORGANIZER;CN="Centrumkyrkan i Sundbyberg":MAILTO:info@centrumkyrkan.se
END:VEVENT
END:VCALENDAR