BEGIN:VCALENDAR
VERSION:2.0
PRODID:-//Centrumkyrkan i Sundbyberg - ECPv6.15.20//NONSGML v1.0//EN
CALSCALE:GREGORIAN
METHOD:PUBLISH
X-WR-CALNAME:Centrumkyrkan i Sundbyberg
X-ORIGINAL-URL:https://www.centrumkyrkan.se
X-WR-CALDESC:Händelser för Centrumkyrkan i Sundbyberg
REFRESH-INTERVAL;VALUE=DURATION:PT1H
X-Robots-Tag:noindex
X-PUBLISHED-TTL:PT1H
BEGIN:VTIMEZONE
TZID:Europe/Stockholm
BEGIN:DAYLIGHT
TZOFFSETFROM:+0100
TZOFFSETTO:+0200
TZNAME:CEST
DTSTART:20210328T010000
END:DAYLIGHT
BEGIN:STANDARD
TZOFFSETFROM:+0200
TZOFFSETTO:+0100
TZNAME:CET
DTSTART:20211031T010000
END:STANDARD
BEGIN:DAYLIGHT
TZOFFSETFROM:+0100
TZOFFSETTO:+0200
TZNAME:CEST
DTSTART:20220327T010000
END:DAYLIGHT
BEGIN:STANDARD
TZOFFSETFROM:+0200
TZOFFSETTO:+0100
TZNAME:CET
DTSTART:20221030T010000
END:STANDARD
BEGIN:DAYLIGHT
TZOFFSETFROM:+0100
TZOFFSETTO:+0200
TZNAME:CEST
DTSTART:20230326T010000
END:DAYLIGHT
BEGIN:STANDARD
TZOFFSETFROM:+0200
TZOFFSETTO:+0100
TZNAME:CET
DTSTART:20231029T010000
END:STANDARD
END:VTIMEZONE
BEGIN:VEVENT
DTSTART;TZID=Europe/Stockholm:20220724T110000
DTEND;TZID=Europe/Stockholm:20220724T123000
DTSTAMP:20260424T110415
CREATED:20220616T123857Z
LAST-MODIFIED:20220616T125429Z
UID:3819-1658660400-1658665800@www.centrumkyrkan.se
SUMMARY:Sommargudstjänst
DESCRIPTION:Predikan Beryl Lindeman\nMusik Alwar Almqvist
URL:https://www.centrumkyrkan.se/kalender-namn/sommargudstjanst-5/
LOCATION:Centrumkyrkan i Sundbyberg\, Prästgårdsgatan 13\, Sundbyberg\, 17268
END:VEVENT
BEGIN:VEVENT
DTSTART;TZID=Europe/Stockholm:20220731T110000
DTEND;TZID=Europe/Stockholm:20220731T123000
DTSTAMP:20260424T110415
CREATED:20220616T124245Z
LAST-MODIFIED:20220616T125504Z
UID:3823-1659265200-1659270600@www.centrumkyrkan.se
SUMMARY:Sommargudstjänst
DESCRIPTION:Predikan Beryl Lindeman\nMusik Anders och Anneli Ringqvist
URL:https://www.centrumkyrkan.se/kalender-namn/sommargudstjanst-6/
LOCATION:Centrumkyrkan i Sundbyberg\, Prästgårdsgatan 13\, Sundbyberg\, 17268
END:VEVENT
BEGIN:VEVENT
DTSTART;TZID=Europe/Stockholm:20220807T110000
DTEND;TZID=Europe/Stockholm:20220807T123000
DTSTAMP:20260424T110415
CREATED:20220616T125831Z
LAST-MODIFIED:20220805T124121Z
UID:3830-1659870000-1659875400@www.centrumkyrkan.se
SUMMARY:Gudstjänst
DESCRIPTION:Söndag 11.00 ”Andlig klarsyn”\nPredikan Bertil Edin\nMusik Niklas Aronsson med vänner
URL:https://www.centrumkyrkan.se/kalender-namn/gudstjanst-43/
LOCATION:Centrumkyrkan i Sundbyberg\, Prästgårdsgatan 13\, Sundbyberg\, 17268
END:VEVENT
BEGIN:VEVENT
DTSTART;TZID=Europe/Stockholm:20220813T100000
DTEND;TZID=Europe/Stockholm:20220813T120000
DTSTAMP:20260424T110415
CREATED:20220803T074800Z
LAST-MODIFIED:20220803T074800Z
UID:3850-1660384800-1660392000@www.centrumkyrkan.se
SUMMARY:Sopplunch
DESCRIPTION:10-12 Sopplunch\nEn värmande skål soppa för den som behöver. Varmt välkommen!
URL:https://www.centrumkyrkan.se/kalender-namn/sopplunch-50/
LOCATION:Centrumkyrkan i Sundbyberg\, Prästgårdsgatan 13\, Sundbyberg\, 17268
ORGANIZER;CN="Centrumkyrkan i Sundbyberg":MAILTO:info@centrumkyrkan.se
END:VEVENT
BEGIN:VEVENT
DTSTART;TZID=Europe/Stockholm:20220814T110000
DTEND;TZID=Europe/Stockholm:20220814T123000
DTSTAMP:20260424T110415
CREATED:20220616T125948Z
LAST-MODIFIED:20220809T073818Z
UID:3832-1660474800-1660480200@www.centrumkyrkan.se
SUMMARY:Gudstjänst
DESCRIPTION:Söndag 11.00 ”Goda förvaltare”\nPredikan Malin Aronsson\nMusik Niklas Aronsson med vänner
URL:https://www.centrumkyrkan.se/kalender-namn/gudstjanst-44/
LOCATION:Centrumkyrkan i Sundbyberg\, Prästgårdsgatan 13\, Sundbyberg\, 17268
END:VEVENT
BEGIN:VEVENT
DTSTART;TZID=Europe/Stockholm:20220820T100000
DTEND;TZID=Europe/Stockholm:20220820T120000
DTSTAMP:20260424T110415
CREATED:20220803T075305Z
LAST-MODIFIED:20220803T075305Z
UID:3852-1660989600-1660996800@www.centrumkyrkan.se
SUMMARY:Sopplunch
DESCRIPTION:10-12 Sopplunch\nEn värmande skål soppa för den som behöver. Varmt välkommen!
URL:https://www.centrumkyrkan.se/kalender-namn/sopplunch-51/
LOCATION:Centrumkyrkan i Sundbyberg\, Prästgårdsgatan 13\, Sundbyberg\, 17268
ORGANIZER;CN="Centrumkyrkan i Sundbyberg":MAILTO:info@centrumkyrkan.se
END:VEVENT
BEGIN:VEVENT
DTSTART;TZID=Europe/Stockholm:20220821T110000
DTEND;TZID=Europe/Stockholm:20220821T123000
DTSTAMP:20260424T110415
CREATED:20220314T135110Z
LAST-MODIFIED:20220816T111915Z
UID:3696-1661079600-1661085000@www.centrumkyrkan.se
SUMMARY:Gudstjänst upptakt!
DESCRIPTION:”Nådens gåvor”\nFestgudstjänst!\nPredikan: Bertil Edin\nMusik: Robin Broqvist\, Titti Hvenare
URL:https://www.centrumkyrkan.se/kalender-namn/gudstjanst-upptakt/
LOCATION:Centrumkyrkan i Sundbyberg\, Prästgårdsgatan 13\, Sundbyberg\, 17268
END:VEVENT
BEGIN:VEVENT
DTSTART;TZID=Europe/Stockholm:20220824T183000
DTEND;TZID=Europe/Stockholm:20220824T193000
DTSTAMP:20260424T110415
CREATED:20220812T093635Z
LAST-MODIFIED:20220812T093635Z
UID:3944-1661365800-1661369400@www.centrumkyrkan.se
SUMMARY:Inför Hans Ansikte
DESCRIPTION:”Inför Hans Ansikte”\nBönegudstjänst med nattvard\n18.30
URL:https://www.centrumkyrkan.se/kalender-namn/infor-hans-ansikte-19/
LOCATION:Centrumkyrkan i Sundbyberg\, Prästgårdsgatan 13\, Sundbyberg\, 17268
ORGANIZER;CN="Centrumkyrkan i Sundbyberg":MAILTO:info@centrumkyrkan.se
END:VEVENT
BEGIN:VEVENT
DTSTART;TZID=Europe/Stockholm:20220827T100000
DTEND;TZID=Europe/Stockholm:20220827T120000
DTSTAMP:20260424T110415
CREATED:20220803T075604Z
LAST-MODIFIED:20220803T075604Z
UID:3854-1661594400-1661601600@www.centrumkyrkan.se
SUMMARY:Sopplunch
DESCRIPTION:10-12 Sopplunch\nEn värmande skål soppa för den som behöver.\nVarmt välkommen!
URL:https://www.centrumkyrkan.se/kalender-namn/sopplunch-52/
LOCATION:Centrumkyrkan i Sundbyberg\, Prästgårdsgatan 13\, Sundbyberg\, 17268
ORGANIZER;CN="Centrumkyrkan i Sundbyberg":MAILTO:info@centrumkyrkan.se
END:VEVENT
BEGIN:VEVENT
DTSTART;TZID=Europe/Stockholm:20220828T110000
DTEND;TZID=Europe/Stockholm:20220828T123000
DTSTAMP:20260424T110415
CREATED:20220809T074420Z
LAST-MODIFIED:20220817T075027Z
UID:3879-1661684400-1661689800@www.centrumkyrkan.se
SUMMARY:Gudstjänst
DESCRIPTION:”Tro och Liv”\nPredikan: Malin Aronsson\nMusik:Erik Valier
URL:https://www.centrumkyrkan.se/kalender-namn/gudstjanst-45/
LOCATION:Centrumkyrkan i Sundbyberg\, Prästgårdsgatan 13\, Sundbyberg\, 17268
ORGANIZER;CN="Centrumkyrkan i Sundbyberg":MAILTO:info@centrumkyrkan.se
END:VEVENT
BEGIN:VEVENT
DTSTART;TZID=Europe/Stockholm:20220903T100000
DTEND;TZID=Europe/Stockholm:20220903T120000
DTSTAMP:20260424T110415
CREATED:20220803T075906Z
LAST-MODIFIED:20220803T075906Z
UID:3856-1662199200-1662206400@www.centrumkyrkan.se
SUMMARY:Sopplunch
DESCRIPTION:10-12 Sopplunch\nEn värmande skål soppa för den som behöver.\nVarmt välkommen!
URL:https://www.centrumkyrkan.se/kalender-namn/sopplunch-53/
LOCATION:Centrumkyrkan i Sundbyberg\, Prästgårdsgatan 13\, Sundbyberg\, 17268
ORGANIZER;CN="Centrumkyrkan i Sundbyberg":MAILTO:info@centrumkyrkan.se
END:VEVENT
BEGIN:VEVENT
DTSTART;TZID=Europe/Stockholm:20220904T110000
DTEND;TZID=Europe/Stockholm:20220904T123000
DTSTAMP:20260424T110415
CREATED:20220809T074858Z
LAST-MODIFIED:20220830T124004Z
UID:3882-1662289200-1662294600@www.centrumkyrkan.se
SUMMARY:Gudstjänst
DESCRIPTION:”Friheten i Kristus”\nPredikan: Eleonore Gustafsson\nMusik:Agnes Hvenare m fl
URL:https://www.centrumkyrkan.se/kalender-namn/gudstjanst-46/
LOCATION:Centrumkyrkan i Sundbyberg\, Prästgårdsgatan 13\, Sundbyberg\, 17268
ORGANIZER;CN="Centrumkyrkan i Sundbyberg":MAILTO:info@centrumkyrkan.se
END:VEVENT
BEGIN:VEVENT
DTSTART;TZID=Europe/Stockholm:20220907T183000
DTEND;TZID=Europe/Stockholm:20220907T193000
DTSTAMP:20260424T110415
CREATED:20220812T093806Z
LAST-MODIFIED:20220812T093806Z
UID:3946-1662575400-1662579000@www.centrumkyrkan.se
SUMMARY:Inför Hans Ansikte
DESCRIPTION:”Inför Hans Ansikte”\nBönegudstjänst med nattvard\n18.30
URL:https://www.centrumkyrkan.se/kalender-namn/infor-hans-ansikte-20/
LOCATION:Centrumkyrkan i Sundbyberg\, Prästgårdsgatan 13\, Sundbyberg\, 17268
ORGANIZER;CN="Centrumkyrkan i Sundbyberg":MAILTO:info@centrumkyrkan.se
END:VEVENT
BEGIN:VEVENT
DTSTART;TZID=Europe/Stockholm:20220910T100000
DTEND;TZID=Europe/Stockholm:20220910T120000
DTSTAMP:20260424T110415
CREATED:20220805T125927Z
LAST-MODIFIED:20220805T132715Z
UID:3870-1662804000-1662811200@www.centrumkyrkan.se
SUMMARY:Sopplunch
DESCRIPTION:10-12 Sopplunch\nEn värmande skål soppa för den som behöver!\nVarmt välkommen!
URL:https://www.centrumkyrkan.se/kalender-namn/sopplunch-54/
LOCATION:Centrumkyrkan i Sundbyberg\, Prästgårdsgatan 13\, Sundbyberg\, 17268
ORGANIZER;CN="Centrumkyrkan i Sundbyberg":MAILTO:info@centrumkyrkan.se
END:VEVENT
BEGIN:VEVENT
DTSTART;TZID=Europe/Stockholm:20220911T093000
DTEND;TZID=Europe/Stockholm:20220911T103000
DTSTAMP:20260424T110415
CREATED:20220906T130250Z
LAST-MODIFIED:20220906T130250Z
UID:4053-1662888600-1662892200@www.centrumkyrkan.se
SUMMARY:Frukostbibelstudium
DESCRIPTION:9.30\nMikael Tellbe\nPaulus mot väggen: Vad hände egentligen på vägen till Damaskus?\nEfterföljande gudstjänst kl 11.00
URL:https://www.centrumkyrkan.se/kalender-namn/frukostbibelstudium-2/
LOCATION:Centrumkyrkan i Sundbyberg\, Prästgårdsgatan 13\, Sundbyberg\, 17268
ORGANIZER;CN="Centrumkyrkan i Sundbyberg":MAILTO:info@centrumkyrkan.se
END:VEVENT
BEGIN:VEVENT
DTSTART;TZID=Europe/Stockholm:20220911T110000
DTEND;TZID=Europe/Stockholm:20220911T123000
DTSTAMP:20260424T110415
CREATED:20220809T075104Z
LAST-MODIFIED:20220906T125943Z
UID:3884-1662894000-1662899400@www.centrumkyrkan.se
SUMMARY:Gudstjänst
DESCRIPTION:Romarbrevet 8: 18-28 ” Den trefaldiga suckan”\nPredikan: Mikael Tellbe\nMusik: Martina Möllås
URL:https://www.centrumkyrkan.se/kalender-namn/gudstjanst-47/
LOCATION:Centrumkyrkan i Sundbyberg\, Prästgårdsgatan 13\, Sundbyberg\, 17268
ORGANIZER;CN="Centrumkyrkan i Sundbyberg":MAILTO:info@centrumkyrkan.se
END:VEVENT
BEGIN:VEVENT
DTSTART;TZID=Europe/Stockholm:20220915T183000
DTEND;TZID=Europe/Stockholm:20220915T193000
DTSTAMP:20260424T110415
CREATED:20220830T133036Z
LAST-MODIFIED:20220830T133036Z
UID:4023-1663266600-1663270200@www.centrumkyrkan.se
SUMMARY:Informationskväll ALPHA
DESCRIPTION:Välkommen till en informationskväll om ALPHA\, grundkurs i kristen tro.\nLivets frågor och funderingar\, det goda samtalet och inlyssnandet. Matgemenskap!\nTors 15 sept kl 18.30
URL:https://www.centrumkyrkan.se/kalender-namn/informationskvall-alpha/
LOCATION:Centrumkyrkan i Sundbyberg\, Prästgårdsgatan 13\, Sundbyberg\, 17268
ORGANIZER;CN="Centrumkyrkan i Sundbyberg":MAILTO:info@centrumkyrkan.se
END:VEVENT
BEGIN:VEVENT
DTSTART;TZID=Europe/Stockholm:20220917T100000
DTEND;TZID=Europe/Stockholm:20220917T120000
DTSTAMP:20260424T110415
CREATED:20220809T110645Z
LAST-MODIFIED:20220809T110645Z
UID:3915-1663408800-1663416000@www.centrumkyrkan.se
SUMMARY:Sopplunch
DESCRIPTION:Sopplunch 10-12\nEn värmande skål soppa för den som behöver\nVarmt välkommen!
URL:https://www.centrumkyrkan.se/kalender-namn/sopplunch-55/
LOCATION:Centrumkyrkan i Sundbyberg\, Prästgårdsgatan 13\, Sundbyberg\, 17268
ORGANIZER;CN="Centrumkyrkan i Sundbyberg":MAILTO:info@centrumkyrkan.se
END:VEVENT
BEGIN:VEVENT
DTSTART;TZID=Europe/Stockholm:20220918T110000
DTEND;TZID=Europe/Stockholm:20220918T123000
DTSTAMP:20260424T110415
CREATED:20220809T075308Z
LAST-MODIFIED:20220817T074445Z
UID:3886-1663498800-1663504200@www.centrumkyrkan.se
SUMMARY:Gudstjänst
DESCRIPTION:”Enheten i Kristus”\nPredikan: Bertil Edin\nMusik: Lotta och Therese
URL:https://www.centrumkyrkan.se/kalender-namn/gudstjanst-48/
LOCATION:Centrumkyrkan i Sundbyberg\, Prästgårdsgatan 13\, Sundbyberg\, 17268
ORGANIZER;CN="Centrumkyrkan i Sundbyberg":MAILTO:info@centrumkyrkan.se
END:VEVENT
BEGIN:VEVENT
DTSTART;TZID=Europe/Stockholm:20220921T183000
DTEND;TZID=Europe/Stockholm:20220921T193000
DTSTAMP:20260424T110415
CREATED:20220812T093909Z
LAST-MODIFIED:20220812T093909Z
UID:3948-1663785000-1663788600@www.centrumkyrkan.se
SUMMARY:Inför Hans Ansikte
DESCRIPTION:”Inför Hans Ansikte”\nBönegudstjänst med nattvard\n18.30
URL:https://www.centrumkyrkan.se/kalender-namn/infor-hans-ansikte-21/
LOCATION:Centrumkyrkan i Sundbyberg\, Prästgårdsgatan 13\, Sundbyberg\, 17268
ORGANIZER;CN="Centrumkyrkan i Sundbyberg":MAILTO:info@centrumkyrkan.se
END:VEVENT
BEGIN:VEVENT
DTSTART;TZID=Europe/Stockholm:20220924T100000
DTEND;TZID=Europe/Stockholm:20220924T120000
DTSTAMP:20260424T110415
CREATED:20220809T110758Z
LAST-MODIFIED:20220809T110758Z
UID:3917-1664013600-1664020800@www.centrumkyrkan.se
SUMMARY:Sopplunch
DESCRIPTION:Sopplunch 10-12\nEn värmande skål soppa för den som behöver\nVarmt välkommen!
URL:https://www.centrumkyrkan.se/kalender-namn/sopplunch-56/
LOCATION:Centrumkyrkan i Sundbyberg\, Prästgårdsgatan 13\, Sundbyberg\, 17268
ORGANIZER;CN="Centrumkyrkan i Sundbyberg":MAILTO:info@centrumkyrkan.se
END:VEVENT
BEGIN:VEVENT
DTSTART;TZID=Europe/Stockholm:20220925T110000
DTEND;TZID=Europe/Stockholm:20220925T123000
DTSTAMP:20260424T110415
CREATED:20220809T075536Z
LAST-MODIFIED:20220921T131629Z
UID:3888-1664103600-1664109000@www.centrumkyrkan.se
SUMMARY:Gudstjänst
DESCRIPTION:”Ett är nödvändigt”\nPredikan: Erik Valier\nMusik: Jeanette och Titti
URL:https://www.centrumkyrkan.se/kalender-namn/gudstjanst-49/
LOCATION:Centrumkyrkan i Sundbyberg\, Prästgårdsgatan 13\, Sundbyberg\, 17268
ORGANIZER;CN="Centrumkyrkan i Sundbyberg":MAILTO:info@centrumkyrkan.se
END:VEVENT
BEGIN:VEVENT
DTSTART;TZID=Europe/Stockholm:20221001T100000
DTEND;TZID=Europe/Stockholm:20221001T120000
DTSTAMP:20260424T110415
CREATED:20220809T110911Z
LAST-MODIFIED:20220809T110911Z
UID:3919-1664618400-1664625600@www.centrumkyrkan.se
SUMMARY:Sopplunch
DESCRIPTION:Sopplunch 10-12\nEn värmande skål soppa för den som behöver\nVarmt välkommen!
URL:https://www.centrumkyrkan.se/kalender-namn/sopplunch-57/
LOCATION:Centrumkyrkan i Sundbyberg\, Prästgårdsgatan 13\, Sundbyberg\, 17268
ORGANIZER;CN="Centrumkyrkan i Sundbyberg":MAILTO:info@centrumkyrkan.se
END:VEVENT
BEGIN:VEVENT
DTSTART;TZID=Europe/Stockholm:20221002T110000
DTEND;TZID=Europe/Stockholm:20221002T123000
DTSTAMP:20260424T110415
CREATED:20220809T075837Z
LAST-MODIFIED:20220926T110400Z
UID:3890-1664708400-1664713800@www.centrumkyrkan.se
SUMMARY:Gudstjänst
DESCRIPTION:”Änglarna” Gudstjänst med barnvälsignelse\nPredikan: Malin Aronsson\nMusik: Doris Aronsson
URL:https://www.centrumkyrkan.se/kalender-namn/gudstjanst-50/
LOCATION:Centrumkyrkan i Sundbyberg\, Prästgårdsgatan 13\, Sundbyberg\, 17268
ORGANIZER;CN="Centrumkyrkan i Sundbyberg":MAILTO:info@centrumkyrkan.se
END:VEVENT
BEGIN:VEVENT
DTSTART;TZID=Europe/Stockholm:20221005T183000
DTEND;TZID=Europe/Stockholm:20221005T193000
DTSTAMP:20260424T110415
CREATED:20220812T094019Z
LAST-MODIFIED:20220812T094019Z
UID:3950-1664994600-1664998200@www.centrumkyrkan.se
SUMMARY:Inför Hans Ansikte
DESCRIPTION:”Inför Hans Ansikte”\nBönegudstjänst med nattvard\n18.30
URL:https://www.centrumkyrkan.se/kalender-namn/infor-hans-ansikte-22/
LOCATION:Centrumkyrkan i Sundbyberg\, Prästgårdsgatan 13\, Sundbyberg\, 17268
ORGANIZER;CN="Centrumkyrkan i Sundbyberg":MAILTO:info@centrumkyrkan.se
END:VEVENT
BEGIN:VEVENT
DTSTART;TZID=Europe/Stockholm:20221006T183000
DTEND;TZID=Europe/Stockholm:20221006T210000
DTSTAMP:20260424T110415
CREATED:20220830T132806Z
LAST-MODIFIED:20220830T132806Z
UID:4021-1665081000-1665090000@www.centrumkyrkan.se
SUMMARY:ALPHA Uppstart
DESCRIPTION:Alpha Uppstart för anmälda! 18.30-21.00
URL:https://www.centrumkyrkan.se/kalender-namn/alpha-uppstart/
LOCATION:Centrumkyrkan i Sundbyberg\, Prästgårdsgatan 13\, Sundbyberg\, 17268
ORGANIZER;CN="Centrumkyrkan i Sundbyberg":MAILTO:info@centrumkyrkan.se
END:VEVENT
BEGIN:VEVENT
DTSTART;TZID=Europe/Stockholm:20221007T190000
DTEND;TZID=Europe/Stockholm:20221007T220000
DTSTAMP:20260424T110415
CREATED:20220926T112608Z
LAST-MODIFIED:20220926T112608Z
UID:4082-1665169200-1665180000@www.centrumkyrkan.se
SUMMARY:CK Tillsammans Hansam-tema
DESCRIPTION:19.00 CK-Tillsammans med Hansam-tema.\nFamiljehäng\, kahoot\, CK-solister\, husband samt gästinslag av Hansam själv.\nGemenskap för alla åldrar!
URL:https://www.centrumkyrkan.se/kalender-namn/ck-tillsammans-hansam-tema/
LOCATION:Centrumkyrkan i Sundbyberg\, Prästgårdsgatan 13\, Sundbyberg\, 17268
ORGANIZER;CN="Centrumkyrkan i Sundbyberg":MAILTO:info@centrumkyrkan.se
END:VEVENT
BEGIN:VEVENT
DTSTART;TZID=Europe/Stockholm:20221008T100000
DTEND;TZID=Europe/Stockholm:20221008T120000
DTSTAMP:20260424T110415
CREATED:20220809T111041Z
LAST-MODIFIED:20220809T111041Z
UID:3921-1665223200-1665230400@www.centrumkyrkan.se
SUMMARY:Sopplunch
DESCRIPTION:Sopplunch 10-12\nEn värmande skål soppa för den som behöver\nVarmt välkommen!
URL:https://www.centrumkyrkan.se/kalender-namn/sopplunch-58/
LOCATION:Centrumkyrkan i Sundbyberg\, Prästgårdsgatan 13\, Sundbyberg\, 17268
ORGANIZER;CN="Centrumkyrkan i Sundbyberg":MAILTO:info@centrumkyrkan.se
END:VEVENT
BEGIN:VEVENT
DTSTART;TZID=Europe/Stockholm:20221009T110000
DTEND;TZID=Europe/Stockholm:20221009T123000
DTSTAMP:20260424T110415
CREATED:20220809T080054Z
LAST-MODIFIED:20220926T111138Z
UID:3892-1665313200-1665318600@www.centrumkyrkan.se
SUMMARY:Tacksägelsedagens gudstjänst
DESCRIPTION:Tacksägelsedagen – ”Lovsång”\nPredikan: Bertil Edin\nMusik: Elise Nestor\n12.30 Församlingsmöte
URL:https://www.centrumkyrkan.se/kalender-namn/gudstjanst-51/
LOCATION:Centrumkyrkan i Sundbyberg\, Prästgårdsgatan 13\, Sundbyberg\, 17268
ORGANIZER;CN="Centrumkyrkan i Sundbyberg":MAILTO:info@centrumkyrkan.se
END:VEVENT
BEGIN:VEVENT
DTSTART;TZID=Europe/Stockholm:20221009T123000
DTEND;TZID=Europe/Stockholm:20221009T140000
DTSTAMP:20260424T110415
CREATED:20220926T111417Z
LAST-MODIFIED:20220926T111417Z
UID:4074-1665318600-1665324000@www.centrumkyrkan.se
SUMMARY:Församlingsmöte 12.30
DESCRIPTION:Församlingsmöte med mingelfika inleds i direkt anslutning till\natt gudstjänsten avslutats. ca 12.30\nVarmt välkomna!
URL:https://www.centrumkyrkan.se/kalender-namn/forsamlingsmote-12-30-2/
LOCATION:Centrumkyrkan i Sundbyberg\, Prästgårdsgatan 13\, Sundbyberg\, 17268
ORGANIZER;CN="Centrumkyrkan i Sundbyberg":MAILTO:info@centrumkyrkan.se
END:VEVENT
END:VCALENDAR