BEGIN:VCALENDAR
VERSION:2.0
PRODID:-//Centrumkyrkan i Sundbyberg - ECPv6.15.20//NONSGML v1.0//EN
CALSCALE:GREGORIAN
METHOD:PUBLISH
X-WR-CALNAME:Centrumkyrkan i Sundbyberg
X-ORIGINAL-URL:https://www.centrumkyrkan.se
X-WR-CALDESC:Händelser för Centrumkyrkan i Sundbyberg
REFRESH-INTERVAL;VALUE=DURATION:PT1H
X-Robots-Tag:noindex
X-PUBLISHED-TTL:PT1H
BEGIN:VTIMEZONE
TZID:Europe/Stockholm
BEGIN:DAYLIGHT
TZOFFSETFROM:+0100
TZOFFSETTO:+0200
TZNAME:CEST
DTSTART:20200329T010000
END:DAYLIGHT
BEGIN:STANDARD
TZOFFSETFROM:+0200
TZOFFSETTO:+0100
TZNAME:CET
DTSTART:20201025T010000
END:STANDARD
BEGIN:DAYLIGHT
TZOFFSETFROM:+0100
TZOFFSETTO:+0200
TZNAME:CEST
DTSTART:20210328T010000
END:DAYLIGHT
BEGIN:STANDARD
TZOFFSETFROM:+0200
TZOFFSETTO:+0100
TZNAME:CET
DTSTART:20211031T010000
END:STANDARD
BEGIN:DAYLIGHT
TZOFFSETFROM:+0100
TZOFFSETTO:+0200
TZNAME:CEST
DTSTART:20220327T010000
END:DAYLIGHT
BEGIN:STANDARD
TZOFFSETFROM:+0200
TZOFFSETTO:+0100
TZNAME:CET
DTSTART:20221030T010000
END:STANDARD
BEGIN:DAYLIGHT
TZOFFSETFROM:+0100
TZOFFSETTO:+0200
TZNAME:CEST
DTSTART:20230326T010000
END:DAYLIGHT
BEGIN:STANDARD
TZOFFSETFROM:+0200
TZOFFSETTO:+0100
TZNAME:CET
DTSTART:20231029T010000
END:STANDARD
END:VTIMEZONE
BEGIN:VEVENT
DTSTART;TZID=Europe/Stockholm:20211031T110000
DTEND;TZID=Europe/Stockholm:20211031T123000
DTSTAMP:20260424T232613
CREATED:20210824T144108Z
LAST-MODIFIED:20211012T081352Z
UID:3293-1635678000-1635683400@www.centrumkyrkan.se
SUMMARY:Gudstjänst
DESCRIPTION:”Frälsningen”\nPredikan: Bertil Edin\nMusik: Maja Folkesson med team
URL:https://www.centrumkyrkan.se/kalender-namn/gudstjanst-10/
LOCATION:Centrumkyrkan i Sundbyberg\, Prästgårdsgatan 13\, Sundbyberg\, 17268
END:VEVENT
BEGIN:VEVENT
DTSTART;TZID=Europe/Stockholm:20211103T120000
DTEND;TZID=Europe/Stockholm:20211103T133000
DTSTAMP:20260424T232613
CREATED:20210921T081527Z
LAST-MODIFIED:20210921T081527Z
UID:3421-1635940800-1635946200@www.centrumkyrkan.se
SUMMARY:Bibelstudium
DESCRIPTION:Välkommen du som är dagledig. Vi fikar tillsammans och lyssnar till ett bibelstudium.
URL:https://www.centrumkyrkan.se/kalender-namn/bibelstudium-4/
LOCATION:Centrumkyrkan i Sundbyberg\, Prästgårdsgatan 13\, Sundbyberg\, 17268
ATTACH;FMTTYPE=image/jpeg:https://www.centrumkyrkan.se/wp-content/uploads/2020/12/bibel-host-scaled.jpg
END:VEVENT
BEGIN:VEVENT
DTSTART;TZID=Europe/Stockholm:20211106T100000
DTEND;TZID=Europe/Stockholm:20211106T120000
DTSTAMP:20260424T232613
CREATED:20210824T133909Z
LAST-MODIFIED:20210824T143053Z
UID:3235-1636192800-1636200000@www.centrumkyrkan.se
SUMMARY:Sopplunch
DESCRIPTION:Sopplunch varje lördag kl 10-12 \nEn värmande skål med soppa för den som behöver det. \nVälkommen!
URL:https://www.centrumkyrkan.se/kalender-namn/sopplunch-20/
LOCATION:Centrumkyrkan i Sundbyberg\, Prästgårdsgatan 13\, Sundbyberg\, 17268
END:VEVENT
BEGIN:VEVENT
DTSTART;TZID=Europe/Stockholm:20211107T110000
DTEND;TZID=Europe/Stockholm:20211107T123000
DTSTAMP:20260424T232613
CREATED:20210824T144248Z
LAST-MODIFIED:20211012T081449Z
UID:3295-1636282800-1636288200@www.centrumkyrkan.se
SUMMARY:Gudstjänst
DESCRIPTION:”Vårt evighetshopp”\nPredikan: Malin Aronsson\nMusik: Elise Nestor med team
URL:https://www.centrumkyrkan.se/kalender-namn/gudstjanst-11/
LOCATION:Centrumkyrkan i Sundbyberg\, Prästgårdsgatan 13\, Sundbyberg\, 17268
END:VEVENT
BEGIN:VEVENT
DTSTART;TZID=Europe/Stockholm:20211110T183000
DTEND;TZID=Europe/Stockholm:20211110T193000
DTSTAMP:20260424T232613
CREATED:20210824T141752Z
LAST-MODIFIED:20210824T145003Z
UID:3268-1636569000-1636572600@www.centrumkyrkan.se
SUMMARY:Inför Hans ansikte
DESCRIPTION:Bön- och nattvardsgudstjänst
URL:https://www.centrumkyrkan.se/kalender-namn/infor-hans-ansikte-6/
LOCATION:Centrumkyrkan i Sundbyberg\, Prästgårdsgatan 13\, Sundbyberg\, 17268
ATTACH;FMTTYPE=image/jpeg:https://www.centrumkyrkan.se/wp-content/uploads/2021/05/Infor-Hans-ansikte-text-20-002.jpg
END:VEVENT
BEGIN:VEVENT
DTSTART;TZID=Europe/Stockholm:20211113T100000
DTEND;TZID=Europe/Stockholm:20211113T120000
DTSTAMP:20260424T232613
CREATED:20210824T133938Z
LAST-MODIFIED:20210824T145003Z
UID:3237-1636797600-1636804800@www.centrumkyrkan.se
SUMMARY:Sopplunch
DESCRIPTION:Sopplunch varje lördag kl 10-12 \nEn värmande skål med soppa för den som behöver det. \nVälkommen!
URL:https://www.centrumkyrkan.se/kalender-namn/sopplunch-21/
LOCATION:Centrumkyrkan i Sundbyberg\, Prästgårdsgatan 13\, Sundbyberg\, 17268
END:VEVENT
BEGIN:VEVENT
DTSTART;TZID=Europe/Stockholm:20211114T110000
DTEND;TZID=Europe/Stockholm:20211114T123000
DTSTAMP:20260424T232613
CREATED:20210824T144322Z
LAST-MODIFIED:20210824T145003Z
UID:3297-1636887600-1636893000@www.centrumkyrkan.se
SUMMARY:Gudstjänst
DESCRIPTION:”Vaksamhet och väntan”
URL:https://www.centrumkyrkan.se/kalender-namn/gudstjanst-12/
LOCATION:Centrumkyrkan i Sundbyberg\, Prästgårdsgatan 13\, Sundbyberg\, 17268
END:VEVENT
BEGIN:VEVENT
DTSTART;TZID=Europe/Stockholm:20211117T120000
DTEND;TZID=Europe/Stockholm:20211117T133000
DTSTAMP:20260424T232613
CREATED:20210921T081623Z
LAST-MODIFIED:20210921T081623Z
UID:3423-1637150400-1637155800@www.centrumkyrkan.se
SUMMARY:Bibelstudium
DESCRIPTION:Välkommen du som är dagledig. Vi fikar tillsammans och lyssnar till ett bibelstudium.
URL:https://www.centrumkyrkan.se/kalender-namn/bibelstudium-5/
LOCATION:Centrumkyrkan i Sundbyberg\, Prästgårdsgatan 13\, Sundbyberg\, 17268
ATTACH;FMTTYPE=image/jpeg:https://www.centrumkyrkan.se/wp-content/uploads/2020/12/bibel-host-scaled.jpg
END:VEVENT
BEGIN:VEVENT
DTSTART;TZID=Europe/Stockholm:20211118T100000
DTEND;TZID=Europe/Stockholm:20211118T113000
DTSTAMP:20260424T232613
CREATED:20211118T102224Z
LAST-MODIFIED:20211118T102224Z
UID:3483-1637229600-1637235000@www.centrumkyrkan.se
SUMMARY:Gudstjänst
DESCRIPTION:1:a advent – Ett nådens år \nPredikan: Malin Aronsson och Erik Valier\nMusik: Adventskören
URL:https://www.centrumkyrkan.se/kalender-namn/gudstjanst-19/
LOCATION:Centrumkyrkan i Sundbyberg\, Prästgårdsgatan 13\, Sundbyberg\, 17268
CATEGORIES:Gudstjänst
ORGANIZER;CN="Centrumkyrkan i Sundbyberg":MAILTO:info@centrumkyrkan.se
END:VEVENT
BEGIN:VEVENT
DTSTART;TZID=Europe/Stockholm:20211120T100000
DTEND;TZID=Europe/Stockholm:20211120T120000
DTSTAMP:20260424T232613
CREATED:20210824T134008Z
LAST-MODIFIED:20210824T145003Z
UID:3239-1637402400-1637409600@www.centrumkyrkan.se
SUMMARY:Sopplunch
DESCRIPTION:Sopplunch varje lördag kl 10-12 \nEn värmande skål med soppa för den som behöver det. \nVälkommen!
URL:https://www.centrumkyrkan.se/kalender-namn/sopplunch-22/
LOCATION:Centrumkyrkan i Sundbyberg\, Prästgårdsgatan 13\, Sundbyberg\, 17268
END:VEVENT
BEGIN:VEVENT
DTSTART;TZID=Europe/Stockholm:20211121T110000
DTEND;TZID=Europe/Stockholm:20211121T123000
DTSTAMP:20260424T232613
CREATED:20211118T101707Z
LAST-MODIFIED:20211118T101707Z
UID:3478-1637492400-1637497800@www.centrumkyrkan.se
SUMMARY:Gudstjänst
DESCRIPTION:”Domsöndagen – Kristi återkomst” \nPredikan: Bertil Edin\nMusik: Titti och Jeanette med team
URL:https://www.centrumkyrkan.se/kalender-namn/gudstjanst-13/
LOCATION:Centrumkyrkan i Sundbyberg\, Prästgårdsgatan 13\, Sundbyberg\, 17268
END:VEVENT
BEGIN:VEVENT
DTSTART;TZID=Europe/Stockholm:20211124T183000
DTEND;TZID=Europe/Stockholm:20211124T193000
DTSTAMP:20260424T232613
CREATED:20210824T141832Z
LAST-MODIFIED:20210824T145003Z
UID:3270-1637778600-1637782200@www.centrumkyrkan.se
SUMMARY:Inför Hans ansikte
DESCRIPTION:Bön- och nattvardsgudstjänst
URL:https://www.centrumkyrkan.se/kalender-namn/infor-hans-ansikte-7/
LOCATION:Centrumkyrkan i Sundbyberg\, Prästgårdsgatan 13\, Sundbyberg\, 17268
ATTACH;FMTTYPE=image/jpeg:https://www.centrumkyrkan.se/wp-content/uploads/2021/05/Infor-Hans-ansikte-text-20-002.jpg
END:VEVENT
BEGIN:VEVENT
DTSTART;TZID=Europe/Stockholm:20211127T100000
DTEND;TZID=Europe/Stockholm:20211127T120000
DTSTAMP:20260424T232613
CREATED:20210824T134105Z
LAST-MODIFIED:20210824T145003Z
UID:3241-1638007200-1638014400@www.centrumkyrkan.se
SUMMARY:Sopplunch
DESCRIPTION:Sopplunch varje lördag kl 10-12 \nEn värmande skål med soppa för den som behöver det. \nVälkommen!
URL:https://www.centrumkyrkan.se/kalender-namn/sopplunch-23/
LOCATION:Centrumkyrkan i Sundbyberg\, Prästgårdsgatan 13\, Sundbyberg\, 17268
END:VEVENT
BEGIN:VEVENT
DTSTART;TZID=Europe/Stockholm:20211128T100000
DTEND;TZID=Europe/Stockholm:20211128T113000
DTSTAMP:20260424T232613
CREATED:20211118T102732Z
LAST-MODIFIED:20211118T103007Z
UID:3485-1638093600-1638099000@www.centrumkyrkan.se
SUMMARY:Gudstjänst
DESCRIPTION:1:a advent – ”Ett nådens år” \nPredikan: Malin Aronsson och Erik Valier\nMusik: Adventskören
URL:https://www.centrumkyrkan.se/kalender-namn/gudstjanst-20/
LOCATION:Centrumkyrkan i Sundbyberg\, Prästgårdsgatan 13\, Sundbyberg\, 17268
ORGANIZER;CN="Centrumkyrkan i Sundbyberg":MAILTO:info@centrumkyrkan.se
END:VEVENT
BEGIN:VEVENT
DTSTART;TZID=Europe/Stockholm:20211128T120000
DTEND;TZID=Europe/Stockholm:20211128T133000
DTSTAMP:20260424T232613
CREATED:20210824T144439Z
LAST-MODIFIED:20211118T102100Z
UID:3301-1638100800-1638106200@www.centrumkyrkan.se
SUMMARY:Gudstjänst
DESCRIPTION:1:a advent – ”Ett nådens år”\nPredikan: Bertil Edin\nMusik: Adventskören
URL:https://www.centrumkyrkan.se/kalender-namn/gudstjanst-14/
LOCATION:Centrumkyrkan i Sundbyberg\, Prästgårdsgatan 13\, Sundbyberg\, 17268
CATEGORIES:Gudstjänst
END:VEVENT
BEGIN:VEVENT
DTSTART;TZID=Europe/Stockholm:20211201T120000
DTEND;TZID=Europe/Stockholm:20211201T133000
DTSTAMP:20260424T232613
CREATED:20210921T081731Z
LAST-MODIFIED:20210921T081731Z
UID:3425-1638360000-1638365400@www.centrumkyrkan.se
SUMMARY:Bibelstudium
DESCRIPTION:Välkommen du som är dagledig. Vi fikar tillsammans och lyssnar till ett bibelstudium. 
URL:https://www.centrumkyrkan.se/kalender-namn/bibelstudium-6/
LOCATION:Centrumkyrkan i Sundbyberg\, Prästgårdsgatan 13\, Sundbyberg\, 17268
ATTACH;FMTTYPE=image/jpeg:https://www.centrumkyrkan.se/wp-content/uploads/2020/12/bibel-host-scaled.jpg
END:VEVENT
BEGIN:VEVENT
DTSTART;TZID=Europe/Stockholm:20211203T183000
DTEND;TZID=Europe/Stockholm:20211203T213000
DTSTAMP:20260424T232613
CREATED:20211202T170416Z
LAST-MODIFIED:20211202T170416Z
UID:3505-1638556200-1638567000@www.centrumkyrkan.se
SUMMARY:CK Tillsammans
DESCRIPTION:Välkomna på årets sista CK Tillsammans! \nDet blir julig kahoot med bandet Evergreen gospel\, Bertil Edin bonus-lirar sin nya låt och sedan blir det eget crazy Tomte-casino för tonåringar och barn \n18.30 slår vi upp portarna. Pizzan serveras till en självkostnadspris som man swishar på plats!
URL:https://www.centrumkyrkan.se/kalender-namn/ck-tillsammans-2/
LOCATION:Centrumkyrkan i Sundbyberg\, Prästgårdsgatan 13\, Sundbyberg\, 17268
ORGANIZER;CN="Centrumkyrkan i Sundbyberg":MAILTO:info@centrumkyrkan.se
END:VEVENT
BEGIN:VEVENT
DTSTART;TZID=Europe/Stockholm:20211204T100000
DTEND;TZID=Europe/Stockholm:20211204T120000
DTSTAMP:20260424T232613
CREATED:20210824T134140Z
LAST-MODIFIED:20210824T145003Z
UID:3243-1638612000-1638619200@www.centrumkyrkan.se
SUMMARY:Sopplunch
DESCRIPTION:Sopplunch varje lördag kl 10-12 \nEn värmande skål med soppa för den som behöver det. \nVälkommen!
URL:https://www.centrumkyrkan.se/kalender-namn/sopplunch-24/
LOCATION:Centrumkyrkan i Sundbyberg\, Prästgårdsgatan 13\, Sundbyberg\, 17268
END:VEVENT
BEGIN:VEVENT
DTSTART;TZID=Europe/Stockholm:20211205T110000
DTEND;TZID=Europe/Stockholm:20211205T123000
DTSTAMP:20260424T232613
CREATED:20211118T103312Z
LAST-MODIFIED:20211202T170654Z
UID:3487-1638702000-1638707400@www.centrumkyrkan.se
SUMMARY:Gudstjänst
DESCRIPTION:”Guds rike är nära” \nPredikan: Erik Valier\nMusik: Hasse Hallström
URL:https://www.centrumkyrkan.se/kalender-namn/gudstjanst-21/
LOCATION:Centrumkyrkan i Sundbyberg\, Prästgårdsgatan 13\, Sundbyberg\, 17268
ORGANIZER;CN="Centrumkyrkan i Sundbyberg":MAILTO:info@centrumkyrkan.se
END:VEVENT
BEGIN:VEVENT
DTSTART;TZID=Europe/Stockholm:20211208T183000
DTEND;TZID=Europe/Stockholm:20211208T193000
DTSTAMP:20260424T232613
CREATED:20210824T141922Z
LAST-MODIFIED:20210824T145003Z
UID:3272-1638988200-1638991800@www.centrumkyrkan.se
SUMMARY:Inför Hans ansikte
DESCRIPTION:Bön- och nattvardsgudstjänst
URL:https://www.centrumkyrkan.se/kalender-namn/infor-hans-ansikte-8/
LOCATION:Centrumkyrkan i Sundbyberg\, Prästgårdsgatan 13\, Sundbyberg\, 17268
ATTACH;FMTTYPE=image/jpeg:https://www.centrumkyrkan.se/wp-content/uploads/2021/05/Infor-Hans-ansikte-text-20-002.jpg
END:VEVENT
BEGIN:VEVENT
DTSTART;TZID=Europe/Stockholm:20211211T100000
DTEND;TZID=Europe/Stockholm:20211211T120000
DTSTAMP:20260424T232613
CREATED:20210824T134215Z
LAST-MODIFIED:20210824T145003Z
UID:3245-1639216800-1639224000@www.centrumkyrkan.se
SUMMARY:Sopplunch
DESCRIPTION:Sopplunch varje lördag kl 10-12 \nEn värmande skål med soppa för den som behöver det. \nVälkommen!
URL:https://www.centrumkyrkan.se/kalender-namn/sopplunch-25/
LOCATION:Centrumkyrkan i Sundbyberg\, Prästgårdsgatan 13\, Sundbyberg\, 17268
END:VEVENT
BEGIN:VEVENT
DTSTART;TZID=Europe/Stockholm:20211211T160000
DTEND;TZID=Europe/Stockholm:20211211T180000
DTSTAMP:20260424T232613
CREATED:20210824T142507Z
LAST-MODIFIED:20210824T145003Z
UID:3276-1639238400-1639245600@www.centrumkyrkan.se
SUMMARY:Julkonsert
DESCRIPTION:Heidi Rohlin Westin mfl
URL:https://www.centrumkyrkan.se/kalender-namn/julkonsert/
LOCATION:Centrumkyrkan i Sundbyberg\, Prästgårdsgatan 13\, Sundbyberg\, 17268
END:VEVENT
BEGIN:VEVENT
DTSTART;TZID=Europe/Stockholm:20211212T110000
DTEND;TZID=Europe/Stockholm:20211212T123000
DTSTAMP:20260424T232613
CREATED:20210824T144614Z
LAST-MODIFIED:20211202T170733Z
UID:3305-1639306800-1639312200@www.centrumkyrkan.se
SUMMARY:Gudstjänst
DESCRIPTION:”Bana väg för Herren” \nPredikan: Liselotte J Andersson\nMusik: Erik Valier m team
URL:https://www.centrumkyrkan.se/kalender-namn/gudstjanst-16/
LOCATION:Centrumkyrkan i Sundbyberg\, Prästgårdsgatan 13\, Sundbyberg\, 17268
END:VEVENT
BEGIN:VEVENT
DTSTART;TZID=Europe/Stockholm:20211218T100000
DTEND;TZID=Europe/Stockholm:20211218T120000
DTSTAMP:20260424T232613
CREATED:20210824T134245Z
LAST-MODIFIED:20210824T145003Z
UID:3247-1639821600-1639828800@www.centrumkyrkan.se
SUMMARY:Sopplunch
DESCRIPTION:Sopplunch varje lördag kl 10-12 \nEn värmande skål med soppa för den som behöver det. \nVälkommen!
URL:https://www.centrumkyrkan.se/kalender-namn/sopplunch-26/
LOCATION:Centrumkyrkan i Sundbyberg\, Prästgårdsgatan 13\, Sundbyberg\, 17268
END:VEVENT
BEGIN:VEVENT
DTSTART;TZID=Europe/Stockholm:20211219T110000
DTEND;TZID=Europe/Stockholm:20211219T123000
DTSTAMP:20260424T232613
CREATED:20210824T144653Z
LAST-MODIFIED:20211202T170623Z
UID:3307-1639911600-1639917000@www.centrumkyrkan.se
SUMMARY:Gudstjänst
DESCRIPTION:”Herrens moder” \nPredikan: Liselotte J Andersson\nMusik: Erik Valier m team
URL:https://www.centrumkyrkan.se/kalender-namn/gudstjanst-17/
LOCATION:Centrumkyrkan i Sundbyberg\, Prästgårdsgatan 13\, Sundbyberg\, 17268
END:VEVENT
BEGIN:VEVENT
DTSTART;TZID=Europe/Stockholm:20211225T070000
DTEND;TZID=Europe/Stockholm:20211225T083000
DTSTAMP:20260424T232613
CREATED:20210824T144755Z
LAST-MODIFIED:20211221T161537Z
UID:3309-1640415600-1640421000@www.centrumkyrkan.se
SUMMARY:Julotta
DESCRIPTION:”Jesu födelse” \nPredikan: Malin Aronsson
URL:https://www.centrumkyrkan.se/kalender-namn/julotta/
LOCATION:Centrumkyrkan i Sundbyberg\, Prästgårdsgatan 13\, Sundbyberg\, 17268
END:VEVENT
BEGIN:VEVENT
DTSTART;TZID=Europe/Stockholm:20211225T100000
DTEND;TZID=Europe/Stockholm:20211225T120000
DTSTAMP:20260424T232613
CREATED:20210824T134618Z
LAST-MODIFIED:20210824T145003Z
UID:3249-1640426400-1640433600@www.centrumkyrkan.se
SUMMARY:Sopplunch
DESCRIPTION:Sopplunch varje lördag kl 10-12 \nEn värmande skål med soppa för den som behöver det. \nVälkommen!
URL:https://www.centrumkyrkan.se/kalender-namn/sopplunch-27/
LOCATION:Centrumkyrkan i Sundbyberg\, Prästgårdsgatan 13\, Sundbyberg\, 17268
END:VEVENT
BEGIN:VEVENT
DTSTART;TZID=Europe/Stockholm:20211226T110000
DTEND;TZID=Europe/Stockholm:20211226T123000
DTSTAMP:20260424T232613
CREATED:20210824T144930Z
LAST-MODIFIED:20210910T134254Z
UID:3311-1640516400-1640521800@www.centrumkyrkan.se
SUMMARY:Gudstjänst
DESCRIPTION:”Martyrerna” \nPredikan: Anders Arborelius\, biskop och kardinal \n 
URL:https://www.centrumkyrkan.se/kalender-namn/gudstjanst-18/
LOCATION:Centrumkyrkan i Sundbyberg\, Prästgårdsgatan 13\, Sundbyberg\, 17268
END:VEVENT
BEGIN:VEVENT
DTSTART;TZID=Europe/Stockholm:20220101T100000
DTEND;TZID=Europe/Stockholm:20220101T120000
DTSTAMP:20260424T232613
CREATED:20210824T134649Z
LAST-MODIFIED:20210824T145003Z
UID:3251-1641031200-1641038400@www.centrumkyrkan.se
SUMMARY:Sopplunch
DESCRIPTION:Sopplunch varje lördag kl 10-12 \nEn värmande skål med soppa för den som behöver det. \nVälkommen!
URL:https://www.centrumkyrkan.se/kalender-namn/sopplunch-28/
LOCATION:Centrumkyrkan i Sundbyberg\, Prästgårdsgatan 13\, Sundbyberg\, 17268
END:VEVENT
BEGIN:VEVENT
DTSTART;TZID=Europe/Stockholm:20220129T100000
DTEND;TZID=Europe/Stockholm:20220129T120000
DTSTAMP:20260424T232613
CREATED:20220128T082610Z
LAST-MODIFIED:20220128T082610Z
UID:3539-1643450400-1643457600@www.centrumkyrkan.se
SUMMARY:Sopplunch
DESCRIPTION:
URL:https://www.centrumkyrkan.se/kalender-namn/sopplunch-29/
LOCATION:Centrumkyrkan i Sundbyberg\, Prästgårdsgatan 13\, Sundbyberg\, 17268
ORGANIZER;CN="Centrumkyrkan i Sundbyberg":MAILTO:info@centrumkyrkan.se
END:VEVENT
END:VCALENDAR