BEGIN:VCALENDAR
VERSION:2.0
PRODID:-//Centrumkyrkan i Sundbyberg - ECPv6.15.20//NONSGML v1.0//EN
CALSCALE:GREGORIAN
METHOD:PUBLISH
X-ORIGINAL-URL:https://www.centrumkyrkan.se
X-WR-CALDESC:Händelser för Centrumkyrkan i Sundbyberg
REFRESH-INTERVAL;VALUE=DURATION:PT1H
X-Robots-Tag:noindex
X-PUBLISHED-TTL:PT1H
BEGIN:VTIMEZONE
TZID:Europe/Stockholm
BEGIN:DAYLIGHT
TZOFFSETFROM:+0100
TZOFFSETTO:+0200
TZNAME:CEST
DTSTART:20240331T010000
END:DAYLIGHT
BEGIN:STANDARD
TZOFFSETFROM:+0200
TZOFFSETTO:+0100
TZNAME:CET
DTSTART:20241027T010000
END:STANDARD
BEGIN:DAYLIGHT
TZOFFSETFROM:+0100
TZOFFSETTO:+0200
TZNAME:CEST
DTSTART:20250330T010000
END:DAYLIGHT
BEGIN:STANDARD
TZOFFSETFROM:+0200
TZOFFSETTO:+0100
TZNAME:CET
DTSTART:20251026T010000
END:STANDARD
BEGIN:DAYLIGHT
TZOFFSETFROM:+0100
TZOFFSETTO:+0200
TZNAME:CEST
DTSTART:20260329T010000
END:DAYLIGHT
BEGIN:STANDARD
TZOFFSETFROM:+0200
TZOFFSETTO:+0100
TZNAME:CET
DTSTART:20261025T010000
END:STANDARD
END:VTIMEZONE
BEGIN:VEVENT
DTSTART;TZID=Europe/Stockholm:20251206T100000
DTEND;TZID=Europe/Stockholm:20251206T120000
DTSTAMP:20260422T030620
CREATED:20251113T162716Z
LAST-MODIFIED:20251113T162716Z
UID:7632-1765015200-1765022400@www.centrumkyrkan.se
SUMMARY:Sopplunch
DESCRIPTION:
URL:https://www.centrumkyrkan.se/kalender-namn/sopplunch-187/
CATEGORIES:Sopplunch
END:VEVENT
BEGIN:VEVENT
DTSTART;TZID=Europe/Stockholm:20251213T100000
DTEND;TZID=Europe/Stockholm:20251213T120000
DTSTAMP:20260422T030620
CREATED:20251113T163427Z
LAST-MODIFIED:20251113T163427Z
UID:7642-1765620000-1765627200@www.centrumkyrkan.se
SUMMARY:Sopplunch
DESCRIPTION:
URL:https://www.centrumkyrkan.se/kalender-namn/sopplunch-188/
CATEGORIES:Sopplunch
END:VEVENT
BEGIN:VEVENT
DTSTART;TZID=Europe/Stockholm:20251220T100000
DTEND;TZID=Europe/Stockholm:20251220T120000
DTSTAMP:20260422T030620
CREATED:20251113T163727Z
LAST-MODIFIED:20251113T163727Z
UID:7648-1766224800-1766232000@www.centrumkyrkan.se
SUMMARY:Sopplunch
DESCRIPTION:
URL:https://www.centrumkyrkan.se/kalender-namn/sopplunch-189/
CATEGORIES:Sopplunch
END:VEVENT
BEGIN:VEVENT
DTSTART;TZID=Europe/Stockholm:20251227T100000
DTEND;TZID=Europe/Stockholm:20251227T120000
DTSTAMP:20260422T030620
CREATED:20251113T165413Z
LAST-MODIFIED:20251113T165414Z
UID:7668-1766829600-1766836800@www.centrumkyrkan.se
SUMMARY:Sopplunch
DESCRIPTION:
URL:https://www.centrumkyrkan.se/kalender-namn/sopplunch-191/
CATEGORIES:Sopplunch
END:VEVENT
END:VCALENDAR