BEGIN:VCALENDAR
VERSION:2.0
PRODID:-//Centrumkyrkan i Sundbyberg - ECPv6.15.20//NONSGML v1.0//EN
CALSCALE:GREGORIAN
METHOD:PUBLISH
X-ORIGINAL-URL:https://www.centrumkyrkan.se
X-WR-CALDESC:Händelser för Centrumkyrkan i Sundbyberg
REFRESH-INTERVAL;VALUE=DURATION:PT1H
X-Robots-Tag:noindex
X-PUBLISHED-TTL:PT1H
BEGIN:VTIMEZONE
TZID:Europe/Stockholm
BEGIN:DAYLIGHT
TZOFFSETFROM:+0100
TZOFFSETTO:+0200
TZNAME:CEST
DTSTART:20250330T010000
END:DAYLIGHT
BEGIN:STANDARD
TZOFFSETFROM:+0200
TZOFFSETTO:+0100
TZNAME:CET
DTSTART:20251026T010000
END:STANDARD
BEGIN:DAYLIGHT
TZOFFSETFROM:+0100
TZOFFSETTO:+0200
TZNAME:CEST
DTSTART:20260329T010000
END:DAYLIGHT
BEGIN:STANDARD
TZOFFSETFROM:+0200
TZOFFSETTO:+0100
TZNAME:CET
DTSTART:20261025T010000
END:STANDARD
BEGIN:DAYLIGHT
TZOFFSETFROM:+0100
TZOFFSETTO:+0200
TZNAME:CEST
DTSTART:20270328T010000
END:DAYLIGHT
BEGIN:STANDARD
TZOFFSETFROM:+0200
TZOFFSETTO:+0100
TZNAME:CET
DTSTART:20271031T010000
END:STANDARD
END:VTIMEZONE
BEGIN:VEVENT
DTSTART;TZID=Europe/Stockholm:20260201T110000
DTEND;TZID=Europe/Stockholm:20260201T123000
DTSTAMP:20260422T023736
CREATED:20251230T115256Z
LAST-MODIFIED:20251230T115256Z
UID:7809-1769943600-1769949000@www.centrumkyrkan.se
SUMMARY:Gudstjänst
DESCRIPTION:Predikan: Malin Aronsson. Vi firar nattvard.
URL:https://www.centrumkyrkan.se/kalender-namn/gudstjanst-205/
CATEGORIES:Gudstjänst
END:VEVENT
BEGIN:VEVENT
DTSTART;TZID=Europe/Stockholm:20260208T110000
DTEND;TZID=Europe/Stockholm:20260208T123000
DTSTAMP:20260422T023736
CREATED:20260130T082635Z
LAST-MODIFIED:20260130T082635Z
UID:7840-1770548400-1770553800@www.centrumkyrkan.se
SUMMARY:Gudstjänst
DESCRIPTION:Anton Ahlmark predikar om uppenbarelsens ljus.
URL:https://www.centrumkyrkan.se/kalender-namn/gudstjanst-206/
CATEGORIES:Gudstjänst
END:VEVENT
BEGIN:VEVENT
DTSTART;TZID=Europe/Stockholm:20260215T110000
DTEND;TZID=Europe/Stockholm:20260215T123000
DTSTAMP:20260422T023736
CREATED:20260130T083304Z
LAST-MODIFIED:20260130T083304Z
UID:7852-1771153200-1771158600@www.centrumkyrkan.se
SUMMARY:Gudstjänst
DESCRIPTION:Bertil Edin predikar om kärlekens väg. \nVåffelsöndag! Vi firar nattvard tillsammans. Församlingsmöte efter gudstjänsten.
URL:https://www.centrumkyrkan.se/kalender-namn/gudstjanst-207/
CATEGORIES:Gudstjänst
END:VEVENT
BEGIN:VEVENT
DTSTART;TZID=Europe/Stockholm:20260222T110000
DTEND;TZID=Europe/Stockholm:20260222T123000
DTSTAMP:20260422T023736
CREATED:20260130T083935Z
LAST-MODIFIED:20260130T083935Z
UID:7864-1771758000-1771763400@www.centrumkyrkan.se
SUMMARY:Gudstjänst
DESCRIPTION:Malin Aronsson predikar om prövningens stund.
URL:https://www.centrumkyrkan.se/kalender-namn/gudstjanst-208/
CATEGORIES:Gudstjänst
END:VEVENT
END:VCALENDAR