BEGIN:VCALENDAR
VERSION:2.0
PRODID:-//Centrumkyrkan i Sundbyberg - ECPv6.15.20//NONSGML v1.0//EN
CALSCALE:GREGORIAN
METHOD:PUBLISH
X-ORIGINAL-URL:https://www.centrumkyrkan.se
X-WR-CALDESC:Händelser för Centrumkyrkan i Sundbyberg
REFRESH-INTERVAL;VALUE=DURATION:PT1H
X-Robots-Tag:noindex
X-PUBLISHED-TTL:PT1H
BEGIN:VTIMEZONE
TZID:Europe/Stockholm
BEGIN:DAYLIGHT
TZOFFSETFROM:+0100
TZOFFSETTO:+0200
TZNAME:CEST
DTSTART:20240331T010000
END:DAYLIGHT
BEGIN:STANDARD
TZOFFSETFROM:+0200
TZOFFSETTO:+0100
TZNAME:CET
DTSTART:20241027T010000
END:STANDARD
BEGIN:DAYLIGHT
TZOFFSETFROM:+0100
TZOFFSETTO:+0200
TZNAME:CEST
DTSTART:20250330T010000
END:DAYLIGHT
BEGIN:STANDARD
TZOFFSETFROM:+0200
TZOFFSETTO:+0100
TZNAME:CET
DTSTART:20251026T010000
END:STANDARD
BEGIN:DAYLIGHT
TZOFFSETFROM:+0100
TZOFFSETTO:+0200
TZNAME:CEST
DTSTART:20260329T010000
END:DAYLIGHT
BEGIN:STANDARD
TZOFFSETFROM:+0200
TZOFFSETTO:+0100
TZNAME:CET
DTSTART:20261025T010000
END:STANDARD
END:VTIMEZONE
BEGIN:VEVENT
DTSTART;TZID=Europe/Stockholm:20250914T110000
DTEND;TZID=Europe/Stockholm:20250914T123000
DTSTAMP:20260422T114056
CREATED:20250828T134007Z
LAST-MODIFIED:20250829T125303Z
UID:7338-1757847600-1757853000@www.centrumkyrkan.se
SUMMARY:Gudstjänst
DESCRIPTION:Predikan: Anton Ahlmark
URL:https://www.centrumkyrkan.se/kalender-namn/gudstjanst-186/
CATEGORIES:Gudstjänst
END:VEVENT
BEGIN:VEVENT
DTSTART;TZID=Europe/Stockholm:20250921T110000
DTEND;TZID=Europe/Stockholm:20250921T123000
DTSTAMP:20260422T114056
CREATED:20250610T084653Z
LAST-MODIFIED:20250829T125852Z
UID:7255-1758452400-1758457800@www.centrumkyrkan.se
SUMMARY:Gudstjänst
DESCRIPTION:11.00.\nPredikan: Niklas Piensoho. Nattvard.
URL:https://www.centrumkyrkan.se/kalender-namn/gudstjanst-185/
CATEGORIES:Gudstjänst,Nattvard
END:VEVENT
BEGIN:VEVENT
DTSTART;TZID=Europe/Stockholm:20250928T110000
DTEND;TZID=Europe/Stockholm:20250928T123000
DTSTAMP:20260422T114056
CREATED:20250828T134152Z
LAST-MODIFIED:20250829T125209Z
UID:7340-1759057200-1759062600@www.centrumkyrkan.se
SUMMARY:Gudstjänst
DESCRIPTION:Predikan: Anton Ahlmark
URL:https://www.centrumkyrkan.se/kalender-namn/gudstjanst-187/
CATEGORIES:Gudstjänst
END:VEVENT
END:VCALENDAR