BEGIN:VCALENDAR
VERSION:2.0
PRODID:-//Centrumkyrkan i Sundbyberg - ECPv6.15.20//NONSGML v1.0//EN
CALSCALE:GREGORIAN
METHOD:PUBLISH
X-WR-CALNAME:Centrumkyrkan i Sundbyberg
X-ORIGINAL-URL:https://www.centrumkyrkan.se
X-WR-CALDESC:Händelser för Centrumkyrkan i Sundbyberg
REFRESH-INTERVAL;VALUE=DURATION:PT1H
X-Robots-Tag:noindex
X-PUBLISHED-TTL:PT1H
BEGIN:VTIMEZONE
TZID:Europe/Stockholm
BEGIN:DAYLIGHT
TZOFFSETFROM:+0100
TZOFFSETTO:+0200
TZNAME:CEST
DTSTART:20250330T010000
END:DAYLIGHT
BEGIN:STANDARD
TZOFFSETFROM:+0200
TZOFFSETTO:+0100
TZNAME:CET
DTSTART:20251026T010000
END:STANDARD
BEGIN:DAYLIGHT
TZOFFSETFROM:+0100
TZOFFSETTO:+0200
TZNAME:CEST
DTSTART:20260329T010000
END:DAYLIGHT
BEGIN:STANDARD
TZOFFSETFROM:+0200
TZOFFSETTO:+0100
TZNAME:CET
DTSTART:20261025T010000
END:STANDARD
BEGIN:DAYLIGHT
TZOFFSETFROM:+0100
TZOFFSETTO:+0200
TZNAME:CEST
DTSTART:20270328T010000
END:DAYLIGHT
BEGIN:STANDARD
TZOFFSETFROM:+0200
TZOFFSETTO:+0100
TZNAME:CET
DTSTART:20271031T010000
END:STANDARD
END:VTIMEZONE
BEGIN:VEVENT
DTSTART;TZID=Europe/Stockholm:20260204T170000
DTEND;TZID=Europe/Stockholm:20260204T180000
DTSTAMP:20260426T001852
CREATED:20260130T082842Z
LAST-MODIFIED:20260130T082842Z
UID:7844-1770224400-1770228000@www.centrumkyrkan.se
SUMMARY:Bibestudie ungdom
DESCRIPTION:Bibelstudie för ungdomar start kl. 17:00. Se @ung.i.ck på instagram för mer info!
URL:https://www.centrumkyrkan.se/kalender-namn/bibestudie-ungdom/
CATEGORIES:Bibelstudie ungdom
END:VEVENT
BEGIN:VEVENT
DTSTART;TZID=Europe/Stockholm:20260211T170000
DTEND;TZID=Europe/Stockholm:20260211T180000
DTSTAMP:20260426T001852
CREATED:20260130T082943Z
LAST-MODIFIED:20260130T082943Z
UID:7846-1770829200-1770832800@www.centrumkyrkan.se
SUMMARY:Bibelstudie ungdom
DESCRIPTION:Bibelstudie för ungdomar. Start kl. 17:00. Se @ung.i.ck på instagram för mer info!
URL:https://www.centrumkyrkan.se/kalender-namn/bibelstudie-ungdom-16/
CATEGORIES:Bibelstudie ungdom
END:VEVENT
BEGIN:VEVENT
DTSTART;TZID=Europe/Stockholm:20260218T170000
DTEND;TZID=Europe/Stockholm:20260218T180000
DTSTAMP:20260426T001852
CREATED:20260130T083439Z
LAST-MODIFIED:20260130T083439Z
UID:7854-1771434000-1771437600@www.centrumkyrkan.se
SUMMARY:Bibelstudie ungdom
DESCRIPTION:Bibelstudie för ungdomar. Start kl. 17:00. Se @ung.i.ck på instagram för mer information!
URL:https://www.centrumkyrkan.se/kalender-namn/bibelstudie-ungdom-17/
CATEGORIES:Bibelstudie ungdom
END:VEVENT
END:VCALENDAR