BEGIN:VCALENDAR
VERSION:2.0
PRODID:-//Centrumkyrkan i Sundbyberg - ECPv6.15.20//NONSGML v1.0//EN
CALSCALE:GREGORIAN
METHOD:PUBLISH
X-ORIGINAL-URL:https://www.centrumkyrkan.se
X-WR-CALDESC:Händelser för Centrumkyrkan i Sundbyberg
REFRESH-INTERVAL;VALUE=DURATION:PT1H
X-Robots-Tag:noindex
X-PUBLISHED-TTL:PT1H
BEGIN:VTIMEZONE
TZID:Europe/Stockholm
BEGIN:DAYLIGHT
TZOFFSETFROM:+0100
TZOFFSETTO:+0200
TZNAME:CEST
DTSTART:20250330T010000
END:DAYLIGHT
BEGIN:STANDARD
TZOFFSETFROM:+0200
TZOFFSETTO:+0100
TZNAME:CET
DTSTART:20251026T010000
END:STANDARD
BEGIN:DAYLIGHT
TZOFFSETFROM:+0100
TZOFFSETTO:+0200
TZNAME:CEST
DTSTART:20260329T010000
END:DAYLIGHT
BEGIN:STANDARD
TZOFFSETFROM:+0200
TZOFFSETTO:+0100
TZNAME:CET
DTSTART:20261025T010000
END:STANDARD
BEGIN:DAYLIGHT
TZOFFSETFROM:+0100
TZOFFSETTO:+0200
TZNAME:CEST
DTSTART:20270328T010000
END:DAYLIGHT
BEGIN:STANDARD
TZOFFSETFROM:+0200
TZOFFSETTO:+0100
TZNAME:CET
DTSTART:20271031T010000
END:STANDARD
END:VTIMEZONE
BEGIN:VEVENT
DTSTART;TZID=Europe/Stockholm:20260208T110000
DTEND;TZID=Europe/Stockholm:20260208T123000
DTSTAMP:20260421T224528
CREATED:20260130T082635Z
LAST-MODIFIED:20260130T082635Z
UID:7840-1770548400-1770553800@www.centrumkyrkan.se
SUMMARY:Gudstjänst
DESCRIPTION:Anton Ahlmark predikar om uppenbarelsens ljus.
URL:https://www.centrumkyrkan.se/kalender-namn/gudstjanst-206/
CATEGORIES:Gudstjänst
END:VEVENT
BEGIN:VEVENT
DTSTART;TZID=Europe/Stockholm:20260208T180000
DTEND;TZID=Europe/Stockholm:20260208T193000
DTSTAMP:20260421T224528
CREATED:20260203T131344Z
LAST-MODIFIED:20260203T131344Z
UID:7872-1770573600-1770579000@www.centrumkyrkan.se
SUMMARY:Release av mässan "Större"
DESCRIPTION:Martina Möllås och Ola Hedéns release av mässan ”Större”. Varmt välkomna kl. 18:00 till Centrumkyrkan! Det är fri entré!
URL:https://www.centrumkyrkan.se/kalender-namn/release-av-massan-storre/
END:VEVENT
END:VCALENDAR