BEGIN:VCALENDAR
VERSION:2.0
PRODID:-//Centrumkyrkan i Sundbyberg - ECPv6.15.20//NONSGML v1.0//EN
CALSCALE:GREGORIAN
METHOD:PUBLISH
X-WR-CALNAME:Centrumkyrkan i Sundbyberg
X-ORIGINAL-URL:https://www.centrumkyrkan.se
X-WR-CALDESC:Händelser för Centrumkyrkan i Sundbyberg
REFRESH-INTERVAL;VALUE=DURATION:PT1H
X-Robots-Tag:noindex
X-PUBLISHED-TTL:PT1H
BEGIN:VTIMEZONE
TZID:Europe/Stockholm
BEGIN:DAYLIGHT
TZOFFSETFROM:+0100
TZOFFSETTO:+0200
TZNAME:CEST
DTSTART:20250330T010000
END:DAYLIGHT
BEGIN:STANDARD
TZOFFSETFROM:+0200
TZOFFSETTO:+0100
TZNAME:CET
DTSTART:20251026T010000
END:STANDARD
BEGIN:DAYLIGHT
TZOFFSETFROM:+0100
TZOFFSETTO:+0200
TZNAME:CEST
DTSTART:20260329T010000
END:DAYLIGHT
BEGIN:STANDARD
TZOFFSETFROM:+0200
TZOFFSETTO:+0100
TZNAME:CET
DTSTART:20261025T010000
END:STANDARD
BEGIN:DAYLIGHT
TZOFFSETFROM:+0100
TZOFFSETTO:+0200
TZNAME:CEST
DTSTART:20270328T010000
END:DAYLIGHT
BEGIN:STANDARD
TZOFFSETFROM:+0200
TZOFFSETTO:+0100
TZNAME:CET
DTSTART:20271031T010000
END:STANDARD
END:VTIMEZONE
BEGIN:VEVENT
DTSTART;TZID=Europe/Stockholm:20260204T140000
DTEND;TZID=Europe/Stockholm:20260204T160000
DTSTAMP:20260421T224337
CREATED:20260130T082521Z
LAST-MODIFIED:20260130T082521Z
UID:7838-1770213600-1770220800@www.centrumkyrkan.se
SUMMARY:Dagledigträff och dag-konsert
DESCRIPTION:Dagledigträff och dag-konsert med Kaggeholms musiklinje. Vi fikar tillsammans efter konserten.
URL:https://www.centrumkyrkan.se/kalender-namn/dagledigtraff-och-dag-konsert/
END:VEVENT
BEGIN:VEVENT
DTSTART;TZID=Europe/Stockholm:20260204T170000
DTEND;TZID=Europe/Stockholm:20260204T180000
DTSTAMP:20260421T224337
CREATED:20260130T082842Z
LAST-MODIFIED:20260130T082842Z
UID:7844-1770224400-1770228000@www.centrumkyrkan.se
SUMMARY:Bibestudie ungdom
DESCRIPTION:Bibelstudie för ungdomar start kl. 17:00. Se @ung.i.ck på instagram för mer info!
URL:https://www.centrumkyrkan.se/kalender-namn/bibestudie-ungdom/
CATEGORIES:Bibelstudie ungdom
END:VEVENT
BEGIN:VEVENT
DTSTART;TZID=Europe/Stockholm:20260204T173000
DTEND;TZID=Europe/Stockholm:20260204T200000
DTSTAMP:20260421T224337
CREATED:20260130T082245Z
LAST-MODIFIED:20260130T082245Z
UID:7832-1770226200-1770235200@www.centrumkyrkan.se
SUMMARY:CK-onsdag
DESCRIPTION:Onsdags-middag kl. 17:30. Mässan Inför Hans ansikte kl. 18:30. \nIngång cafévåningen i mitten av trappen utanför kyrkan för middag!
URL:https://www.centrumkyrkan.se/kalender-namn/ck-onsdag-2/
CATEGORIES:CK-onsdag
END:VEVENT
END:VCALENDAR