BEGIN:VCALENDAR
VERSION:2.0
PRODID:-//Centrumkyrkan i Sundbyberg - ECPv6.15.20//NONSGML v1.0//EN
CALSCALE:GREGORIAN
METHOD:PUBLISH
X-WR-CALNAME:Centrumkyrkan i Sundbyberg
X-ORIGINAL-URL:https://www.centrumkyrkan.se
X-WR-CALDESC:Händelser för Centrumkyrkan i Sundbyberg
REFRESH-INTERVAL;VALUE=DURATION:PT1H
X-Robots-Tag:noindex
X-PUBLISHED-TTL:PT1H
BEGIN:VTIMEZONE
TZID:Europe/Stockholm
BEGIN:DAYLIGHT
TZOFFSETFROM:+0100
TZOFFSETTO:+0200
TZNAME:CEST
DTSTART:20230326T010000
END:DAYLIGHT
BEGIN:STANDARD
TZOFFSETFROM:+0200
TZOFFSETTO:+0100
TZNAME:CET
DTSTART:20231029T010000
END:STANDARD
BEGIN:DAYLIGHT
TZOFFSETFROM:+0100
TZOFFSETTO:+0200
TZNAME:CEST
DTSTART:20240331T010000
END:DAYLIGHT
BEGIN:STANDARD
TZOFFSETFROM:+0200
TZOFFSETTO:+0100
TZNAME:CET
DTSTART:20241027T010000
END:STANDARD
BEGIN:DAYLIGHT
TZOFFSETFROM:+0100
TZOFFSETTO:+0200
TZNAME:CEST
DTSTART:20250330T010000
END:DAYLIGHT
BEGIN:STANDARD
TZOFFSETFROM:+0200
TZOFFSETTO:+0100
TZNAME:CET
DTSTART:20251026T010000
END:STANDARD
END:VTIMEZONE
BEGIN:VEVENT
DTSTART;TZID=Europe/Stockholm:20240410T140000
DTEND;TZID=Europe/Stockholm:20240410T160000
DTSTAMP:20260422T173520
CREATED:20240222T112245Z
LAST-MODIFIED:20240222T112245Z
UID:5944-1712757600-1712764800@www.centrumkyrkan.se
SUMMARY:Dagledigträff
DESCRIPTION:14.00 Inga-May Hörnberg och Lennart Sjöholm\nsjunger och spelar.\n15.00 Kaffe i cafévåningen.
URL:https://www.centrumkyrkan.se/kalender-namn/dagledigtraff-3/
END:VEVENT
BEGIN:VEVENT
DTSTART;TZID=Europe/Stockholm:20240410T183000
DTEND;TZID=Europe/Stockholm:20240410T193000
DTSTAMP:20260422T173520
CREATED:20240111T090540Z
LAST-MODIFIED:20240111T090540Z
UID:5754-1712773800-1712777400@www.centrumkyrkan.se
SUMMARY:Inför Hans ansikte
DESCRIPTION:18.30-19.30.\nBönegudstjänst med nattvard.
URL:https://www.centrumkyrkan.se/kalender-namn/infor-hans-ansikte-48/
END:VEVENT
END:VCALENDAR