BEGIN:VCALENDAR
VERSION:2.0
PRODID:-//Centrumkyrkan i Sundbyberg - ECPv6.15.20//NONSGML v1.0//EN
CALSCALE:GREGORIAN
METHOD:PUBLISH
X-WR-CALNAME:Centrumkyrkan i Sundbyberg
X-ORIGINAL-URL:https://www.centrumkyrkan.se
X-WR-CALDESC:Händelser för Centrumkyrkan i Sundbyberg
REFRESH-INTERVAL;VALUE=DURATION:PT1H
X-Robots-Tag:noindex
X-PUBLISHED-TTL:PT1H
BEGIN:VTIMEZONE
TZID:Europe/Stockholm
BEGIN:DAYLIGHT
TZOFFSETFROM:+0100
TZOFFSETTO:+0200
TZNAME:CEST
DTSTART:20230326T010000
END:DAYLIGHT
BEGIN:STANDARD
TZOFFSETFROM:+0200
TZOFFSETTO:+0100
TZNAME:CET
DTSTART:20231029T010000
END:STANDARD
BEGIN:DAYLIGHT
TZOFFSETFROM:+0100
TZOFFSETTO:+0200
TZNAME:CEST
DTSTART:20240331T010000
END:DAYLIGHT
BEGIN:STANDARD
TZOFFSETFROM:+0200
TZOFFSETTO:+0100
TZNAME:CET
DTSTART:20241027T010000
END:STANDARD
BEGIN:DAYLIGHT
TZOFFSETFROM:+0100
TZOFFSETTO:+0200
TZNAME:CEST
DTSTART:20250330T010000
END:DAYLIGHT
BEGIN:STANDARD
TZOFFSETFROM:+0200
TZOFFSETTO:+0100
TZNAME:CET
DTSTART:20251026T010000
END:STANDARD
END:VTIMEZONE
BEGIN:VEVENT
DTSTART;TZID=Europe/Stockholm:20240324T110000
DTEND;TZID=Europe/Stockholm:20240324T123000
DTSTAMP:20260422T204321
CREATED:20231107T125048Z
LAST-MODIFIED:20231218T092346Z
UID:5484-1711278000-1711283400@www.centrumkyrkan.se
SUMMARY:Gudstjänst
DESCRIPTION:11.00. ”Vägen till korset”.\nPredikan: Adina Wenell.
URL:https://www.centrumkyrkan.se/kalender-namn/gudstjans/
END:VEVENT
BEGIN:VEVENT
DTSTART;TZID=Europe/Stockholm:20240324T130000
DTEND;TZID=Europe/Stockholm:20240324T150000
DTSTAMP:20260422T204321
CREATED:20240322T141927Z
LAST-MODIFIED:20240322T141927Z
UID:6012-1711285200-1711292400@www.centrumkyrkan.se
SUMMARY:Promenad
DESCRIPTION:Efter gudstjänsten är den som vill välkommen på promenad till Gröna stugan\nvid Lötsjön. Vi tar en kort fika i cafévåningen sen gör vi sällskap för vidare gemenskap och\nlunch.
URL:https://www.centrumkyrkan.se/kalender-namn/promenad/
END:VEVENT
END:VCALENDAR