BEGIN:VCALENDAR
VERSION:2.0
PRODID:-//Centrumkyrkan i Sundbyberg - ECPv6.15.20//NONSGML v1.0//EN
CALSCALE:GREGORIAN
METHOD:PUBLISH
X-WR-CALNAME:Centrumkyrkan i Sundbyberg
X-ORIGINAL-URL:https://www.centrumkyrkan.se
X-WR-CALDESC:Händelser för Centrumkyrkan i Sundbyberg
REFRESH-INTERVAL;VALUE=DURATION:PT1H
X-Robots-Tag:noindex
X-PUBLISHED-TTL:PT1H
BEGIN:VTIMEZONE
TZID:Europe/Stockholm
BEGIN:DAYLIGHT
TZOFFSETFROM:+0100
TZOFFSETTO:+0200
TZNAME:CEST
DTSTART:20230326T010000
END:DAYLIGHT
BEGIN:STANDARD
TZOFFSETFROM:+0200
TZOFFSETTO:+0100
TZNAME:CET
DTSTART:20231029T010000
END:STANDARD
BEGIN:DAYLIGHT
TZOFFSETFROM:+0100
TZOFFSETTO:+0200
TZNAME:CEST
DTSTART:20240331T010000
END:DAYLIGHT
BEGIN:STANDARD
TZOFFSETFROM:+0200
TZOFFSETTO:+0100
TZNAME:CET
DTSTART:20241027T010000
END:STANDARD
BEGIN:DAYLIGHT
TZOFFSETFROM:+0100
TZOFFSETTO:+0200
TZNAME:CEST
DTSTART:20250330T010000
END:DAYLIGHT
BEGIN:STANDARD
TZOFFSETFROM:+0200
TZOFFSETTO:+0100
TZNAME:CET
DTSTART:20251026T010000
END:STANDARD
END:VTIMEZONE
BEGIN:VEVENT
DTSTART;TZID=Europe/Stockholm:20240204T110000
DTEND;TZID=Europe/Stockholm:20240204T123000
DTSTAMP:20260423T001206
CREATED:20231031T131033Z
LAST-MODIFIED:20231031T131033Z
UID:5386-1707044400-1707049800@www.centrumkyrkan.se
SUMMARY:Gudstjänst
DESCRIPTION:11.00. ”Uppenbarelsens ljus”.\nPredikan: Sune Nordin.\nVi firar nattvard.
URL:https://www.centrumkyrkan.se/kalender-namn/gudstjanst-114/
END:VEVENT
BEGIN:VEVENT
DTSTART;TZID=Europe/Stockholm:20240204T130000
DTEND;TZID=Europe/Stockholm:20240204T153000
DTSTAMP:20260423T001206
CREATED:20240125T145729Z
LAST-MODIFIED:20240125T145729Z
UID:5871-1707051600-1707060600@www.centrumkyrkan.se
SUMMARY:Promenad efter gudstjänst
DESCRIPTION:En kopp kaffe efter gudstjänst\, sen promenad till Gröna stugan vid Lötsjön\ndär vi äter lunch och delar gemenskap med varandra.
URL:https://www.centrumkyrkan.se/kalender-namn/promenad-efter-gudstjanst/
END:VEVENT
END:VCALENDAR