BEGIN:VCALENDAR
VERSION:2.0
PRODID:-//Centrumkyrkan i Sundbyberg - ECPv6.15.20//NONSGML v1.0//EN
CALSCALE:GREGORIAN
METHOD:PUBLISH
X-ORIGINAL-URL:https://www.centrumkyrkan.se
X-WR-CALDESC:Händelser för Centrumkyrkan i Sundbyberg
REFRESH-INTERVAL;VALUE=DURATION:PT1H
X-Robots-Tag:noindex
X-PUBLISHED-TTL:PT1H
BEGIN:VTIMEZONE
TZID:Europe/Stockholm
BEGIN:DAYLIGHT
TZOFFSETFROM:+0100
TZOFFSETTO:+0200
TZNAME:CEST
DTSTART:20230326T010000
END:DAYLIGHT
BEGIN:STANDARD
TZOFFSETFROM:+0200
TZOFFSETTO:+0100
TZNAME:CET
DTSTART:20231029T010000
END:STANDARD
BEGIN:DAYLIGHT
TZOFFSETFROM:+0100
TZOFFSETTO:+0200
TZNAME:CEST
DTSTART:20240331T010000
END:DAYLIGHT
BEGIN:STANDARD
TZOFFSETFROM:+0200
TZOFFSETTO:+0100
TZNAME:CET
DTSTART:20241027T010000
END:STANDARD
BEGIN:DAYLIGHT
TZOFFSETFROM:+0100
TZOFFSETTO:+0200
TZNAME:CEST
DTSTART:20250330T010000
END:DAYLIGHT
BEGIN:STANDARD
TZOFFSETFROM:+0200
TZOFFSETTO:+0100
TZNAME:CET
DTSTART:20251026T010000
END:STANDARD
END:VTIMEZONE
BEGIN:VEVENT
DTSTART;TZID=Europe/Stockholm:20240203T100000
DTEND;TZID=Europe/Stockholm:20240203T120000
DTSTAMP:20260422T205400
CREATED:20231102T105643Z
LAST-MODIFIED:20231102T111527Z
UID:5420-1706954400-1706961600@www.centrumkyrkan.se
SUMMARY:Sopplunch
DESCRIPTION:
URL:https://www.centrumkyrkan.se/kalender-namn/sopplunch-106/
END:VEVENT
BEGIN:VEVENT
DTSTART;TZID=Europe/Stockholm:20240203T130000
DTEND;TZID=Europe/Stockholm:20240203T150000
DTSTAMP:20260422T205400
CREATED:20240118T134933Z
LAST-MODIFIED:20240118T135159Z
UID:5856-1706965200-1706972400@www.centrumkyrkan.se
SUMMARY:Städdag!
DESCRIPTION:Välkommen mellan kl. 13-15 så städar vi vår fina kyrka!\nSe affisch på hemsidan med mer information. \n 
URL:https://www.centrumkyrkan.se/kalender-namn/staddag/
END:VEVENT
END:VCALENDAR