BEGIN:VCALENDAR
VERSION:2.0
PRODID:-//Centrumkyrkan i Sundbyberg - ECPv6.15.20//NONSGML v1.0//EN
CALSCALE:GREGORIAN
METHOD:PUBLISH
X-ORIGINAL-URL:https://www.centrumkyrkan.se
X-WR-CALDESC:Händelser för Centrumkyrkan i Sundbyberg
REFRESH-INTERVAL;VALUE=DURATION:PT1H
X-Robots-Tag:noindex
X-PUBLISHED-TTL:PT1H
BEGIN:VTIMEZONE
TZID:Europe/Stockholm
BEGIN:DAYLIGHT
TZOFFSETFROM:+0100
TZOFFSETTO:+0200
TZNAME:CEST
DTSTART:20230326T010000
END:DAYLIGHT
BEGIN:STANDARD
TZOFFSETFROM:+0200
TZOFFSETTO:+0100
TZNAME:CET
DTSTART:20231029T010000
END:STANDARD
BEGIN:DAYLIGHT
TZOFFSETFROM:+0100
TZOFFSETTO:+0200
TZNAME:CEST
DTSTART:20240331T010000
END:DAYLIGHT
BEGIN:STANDARD
TZOFFSETFROM:+0200
TZOFFSETTO:+0100
TZNAME:CET
DTSTART:20241027T010000
END:STANDARD
BEGIN:DAYLIGHT
TZOFFSETFROM:+0100
TZOFFSETTO:+0200
TZNAME:CEST
DTSTART:20250330T010000
END:DAYLIGHT
BEGIN:STANDARD
TZOFFSETFROM:+0200
TZOFFSETTO:+0100
TZNAME:CET
DTSTART:20251026T010000
END:STANDARD
END:VTIMEZONE
BEGIN:VEVENT
DTSTART;TZID=Europe/Stockholm:20240119T100000
DTEND;TZID=Europe/Stockholm:20240119T110000
DTSTAMP:20260423T001345
CREATED:20240117T154431Z
LAST-MODIFIED:20240117T154431Z
UID:5818-1705658400-1705662000@www.centrumkyrkan.se
SUMMARY:Ekumenisk Bönevecka
DESCRIPTION:Fredag 19 januari kl. 10.00.\nRissnekyrkan.
URL:https://www.centrumkyrkan.se/kalender-namn/ekumenisk-bonevecka-2/
END:VEVENT
BEGIN:VEVENT
DTSTART;TZID=Europe/Stockholm:20240119T183000
DTEND;TZID=Europe/Stockholm:20240119T210000
DTSTAMP:20260423T001345
CREATED:20240102T113541Z
LAST-MODIFIED:20240102T113541Z
UID:5731-1705689000-1705698000@www.centrumkyrkan.se
SUMMARY:Musikfest - CK-Ukraina
DESCRIPTION:18.30-21.00
URL:https://www.centrumkyrkan.se/kalender-namn/musikfest-ck-ukraina/
END:VEVENT
END:VCALENDAR