BEGIN:VCALENDAR
VERSION:2.0
PRODID:-//Centrumkyrkan i Sundbyberg - ECPv6.15.20//NONSGML v1.0//EN
CALSCALE:GREGORIAN
METHOD:PUBLISH
X-ORIGINAL-URL:https://www.centrumkyrkan.se
X-WR-CALDESC:Händelser för Centrumkyrkan i Sundbyberg
REFRESH-INTERVAL;VALUE=DURATION:PT1H
X-Robots-Tag:noindex
X-PUBLISHED-TTL:PT1H
BEGIN:VTIMEZONE
TZID:Europe/Stockholm
BEGIN:DAYLIGHT
TZOFFSETFROM:+0100
TZOFFSETTO:+0200
TZNAME:CEST
DTSTART:20220327T010000
END:DAYLIGHT
BEGIN:STANDARD
TZOFFSETFROM:+0200
TZOFFSETTO:+0100
TZNAME:CET
DTSTART:20221030T010000
END:STANDARD
BEGIN:DAYLIGHT
TZOFFSETFROM:+0100
TZOFFSETTO:+0200
TZNAME:CEST
DTSTART:20230326T010000
END:DAYLIGHT
BEGIN:STANDARD
TZOFFSETFROM:+0200
TZOFFSETTO:+0100
TZNAME:CET
DTSTART:20231029T010000
END:STANDARD
BEGIN:DAYLIGHT
TZOFFSETFROM:+0100
TZOFFSETTO:+0200
TZNAME:CEST
DTSTART:20240331T010000
END:DAYLIGHT
BEGIN:STANDARD
TZOFFSETFROM:+0200
TZOFFSETTO:+0100
TZNAME:CET
DTSTART:20241027T010000
END:STANDARD
END:VTIMEZONE
BEGIN:VEVENT
DTSTART;TZID=Europe/Stockholm:20231216T100000
DTEND;TZID=Europe/Stockholm:20231216T120000
DTSTAMP:20260423T001219
CREATED:20231013T094208Z
LAST-MODIFIED:20231013T094208Z
UID:5291-1702720800-1702728000@www.centrumkyrkan.se
SUMMARY:Sopplunch
DESCRIPTION:10.00-12.00.\nSopplunch.
URL:https://www.centrumkyrkan.se/kalender-namn/sopplunch-101/
END:VEVENT
BEGIN:VEVENT
DTSTART;TZID=Europe/Stockholm:20231216T160000
DTEND;TZID=Europe/Stockholm:20231216T173000
DTSTAMP:20260423T001219
CREATED:20231013T094451Z
LAST-MODIFIED:20231205T125853Z
UID:5293-1702742400-1702747800@www.centrumkyrkan.se
SUMMARY:Stilla Jul - konsert
DESCRIPTION:Solister\, ensembler\, orkester\nunder ledning av Heidi Rohlin Westin. \nFri entré!
URL:https://www.centrumkyrkan.se/kalender-namn/julvandring/
END:VEVENT
END:VCALENDAR