BEGIN:VCALENDAR
VERSION:2.0
PRODID:-//Centrumkyrkan i Sundbyberg - ECPv6.15.20//NONSGML v1.0//EN
CALSCALE:GREGORIAN
METHOD:PUBLISH
X-ORIGINAL-URL:https://www.centrumkyrkan.se
X-WR-CALDESC:Händelser för Centrumkyrkan i Sundbyberg
REFRESH-INTERVAL;VALUE=DURATION:PT1H
X-Robots-Tag:noindex
X-PUBLISHED-TTL:PT1H
BEGIN:VTIMEZONE
TZID:Europe/Stockholm
BEGIN:DAYLIGHT
TZOFFSETFROM:+0100
TZOFFSETTO:+0200
TZNAME:CEST
DTSTART:20220327T010000
END:DAYLIGHT
BEGIN:STANDARD
TZOFFSETFROM:+0200
TZOFFSETTO:+0100
TZNAME:CET
DTSTART:20221030T010000
END:STANDARD
BEGIN:DAYLIGHT
TZOFFSETFROM:+0100
TZOFFSETTO:+0200
TZNAME:CEST
DTSTART:20230326T010000
END:DAYLIGHT
BEGIN:STANDARD
TZOFFSETFROM:+0200
TZOFFSETTO:+0100
TZNAME:CET
DTSTART:20231029T010000
END:STANDARD
BEGIN:DAYLIGHT
TZOFFSETFROM:+0100
TZOFFSETTO:+0200
TZNAME:CEST
DTSTART:20240331T010000
END:DAYLIGHT
BEGIN:STANDARD
TZOFFSETFROM:+0200
TZOFFSETTO:+0100
TZNAME:CET
DTSTART:20241027T010000
END:STANDARD
END:VTIMEZONE
BEGIN:VEVENT
DTSTART;TZID=Europe/Stockholm:20230902T100000
DTEND;TZID=Europe/Stockholm:20230902T180000
DTSTAMP:20260423T061746
CREATED:20230522T091603Z
LAST-MODIFIED:20230811T092434Z
UID:4913-1693648800-1693677600@www.centrumkyrkan.se
SUMMARY:Församlings- dag
DESCRIPTION:Följ med på Centrumkyrkans församlingsdag\, en dag med härlig gemenskap och spännande seminarier om vår tro. \n\nNär: Lördag 2/9 Tid: 10.00- 18.30\nPlats: Strängnäs Pingstkyrka\, Regementsgatan 75 i Strängnäs \nTema: En tro värd att dela\n\nHur kan vi dela vår tro mer med varandra?\nHur pratar vi tro med våra vänner?\nHur blir vår tro mer än ord? \nDagen kommer att innehålla samtal\, mat\, fika och lite lek.\nDet blir särskilda aktiviteter för barnen.\nVår nya ungdomsledare Molly Stenmark hänger med tonåringarna. Vad sägs till exempel om att testa ”Burträskbingo”? \nAnmäl dig till info@centrumkyrkan.se
URL:https://www.centrumkyrkan.se/kalender-namn/forsamlingsdag/
LOCATION:Strängnäs Pingskyrka\, Regementsgatan 75\, Strängnäs\, Sverige
ORGANIZER;CN="Centrumkyrkan i Sundbyberg":MAILTO:info@centrumkyrkan.se
END:VEVENT
END:VCALENDAR