BEGIN:VCALENDAR
VERSION:2.0
PRODID:-//Centrumkyrkan i Sundbyberg - ECPv6.15.20//NONSGML v1.0//EN
CALSCALE:GREGORIAN
METHOD:PUBLISH
X-ORIGINAL-URL:https://www.centrumkyrkan.se
X-WR-CALDESC:Händelser för Centrumkyrkan i Sundbyberg
REFRESH-INTERVAL;VALUE=DURATION:PT1H
X-Robots-Tag:noindex
X-PUBLISHED-TTL:PT1H
BEGIN:VTIMEZONE
TZID:Europe/Stockholm
BEGIN:DAYLIGHT
TZOFFSETFROM:+0100
TZOFFSETTO:+0200
TZNAME:CEST
DTSTART:20220327T010000
END:DAYLIGHT
BEGIN:STANDARD
TZOFFSETFROM:+0200
TZOFFSETTO:+0100
TZNAME:CET
DTSTART:20221030T010000
END:STANDARD
BEGIN:DAYLIGHT
TZOFFSETFROM:+0100
TZOFFSETTO:+0200
TZNAME:CEST
DTSTART:20230326T010000
END:DAYLIGHT
BEGIN:STANDARD
TZOFFSETFROM:+0200
TZOFFSETTO:+0100
TZNAME:CET
DTSTART:20231029T010000
END:STANDARD
BEGIN:DAYLIGHT
TZOFFSETFROM:+0100
TZOFFSETTO:+0200
TZNAME:CEST
DTSTART:20240331T010000
END:DAYLIGHT
BEGIN:STANDARD
TZOFFSETFROM:+0200
TZOFFSETTO:+0100
TZNAME:CET
DTSTART:20241027T010000
END:STANDARD
END:VTIMEZONE
BEGIN:VEVENT
DTSTART;TZID=Europe/Stockholm:20230402T110000
DTEND;TZID=Europe/Stockholm:20230402T123000
DTSTAMP:20260423T135842
CREATED:20230112T150259Z
LAST-MODIFIED:20230331T113554Z
UID:4525-1680433200-1680438600@www.centrumkyrkan.se
SUMMARY:Gudstjänst
DESCRIPTION:11.00 ”Vägen till korset”.\nPredikan: David Norberg.\nNattvard.\nFörsamlingsmöte efter gudstjänsten.
URL:https://www.centrumkyrkan.se/kalender-namn/gudstjanst-73/
LOCATION:Centrumkyrkan i Sundbyberg\, Prästgårdsgatan 13\, Sundbyberg\, 17268
ORGANIZER;CN="Centrumkyrkan i Sundbyberg":MAILTO:info@centrumkyrkan.se
END:VEVENT
BEGIN:VEVENT
DTSTART;TZID=Europe/Stockholm:20230402T180000
DTEND;TZID=Europe/Stockholm:20230402T193000
DTSTAMP:20260423T135842
CREATED:20230314T122106Z
LAST-MODIFIED:20230314T122106Z
UID:4764-1680458400-1680463800@www.centrumkyrkan.se
SUMMARY:Församlingsbön
DESCRIPTION:Kl. 18.00. Vi möts för bön och lovsång.\nErik Valier leder.
URL:https://www.centrumkyrkan.se/kalender-namn/forsamlingsbon-4/
LOCATION:Centrumkyrkan i Sundbyberg\, Prästgårdsgatan 13\, Sundbyberg\, 17268
ORGANIZER;CN="Centrumkyrkan i Sundbyberg":MAILTO:info@centrumkyrkan.se
END:VEVENT
END:VCALENDAR