BEGIN:VCALENDAR
VERSION:2.0
PRODID:-//Centrumkyrkan i Sundbyberg - ECPv6.15.20//NONSGML v1.0//EN
CALSCALE:GREGORIAN
METHOD:PUBLISH
X-WR-CALNAME:Centrumkyrkan i Sundbyberg
X-ORIGINAL-URL:https://www.centrumkyrkan.se
X-WR-CALDESC:Händelser för Centrumkyrkan i Sundbyberg
REFRESH-INTERVAL;VALUE=DURATION:PT1H
X-Robots-Tag:noindex
X-PUBLISHED-TTL:PT1H
BEGIN:VTIMEZONE
TZID:Europe/Stockholm
BEGIN:DAYLIGHT
TZOFFSETFROM:+0100
TZOFFSETTO:+0200
TZNAME:CEST
DTSTART:20210328T010000
END:DAYLIGHT
BEGIN:STANDARD
TZOFFSETFROM:+0200
TZOFFSETTO:+0100
TZNAME:CET
DTSTART:20211031T010000
END:STANDARD
BEGIN:DAYLIGHT
TZOFFSETFROM:+0100
TZOFFSETTO:+0200
TZNAME:CEST
DTSTART:20220327T010000
END:DAYLIGHT
BEGIN:STANDARD
TZOFFSETFROM:+0200
TZOFFSETTO:+0100
TZNAME:CET
DTSTART:20221030T010000
END:STANDARD
BEGIN:DAYLIGHT
TZOFFSETFROM:+0100
TZOFFSETTO:+0200
TZNAME:CEST
DTSTART:20230326T010000
END:DAYLIGHT
BEGIN:STANDARD
TZOFFSETFROM:+0200
TZOFFSETTO:+0100
TZNAME:CET
DTSTART:20231029T010000
END:STANDARD
END:VTIMEZONE
BEGIN:VEVENT
DTSTART;TZID=Europe/Stockholm:20221225T070000
DTEND;TZID=Europe/Stockholm:20221225T090000
DTSTAMP:20260423T225845
CREATED:20221012T111733Z
LAST-MODIFIED:20221207T135002Z
UID:4114-1671951600-1671958800@www.centrumkyrkan.se
SUMMARY:Julotta
DESCRIPTION:Kl. 07.00-09.00\n”Jesu födelse”\nPredikan: Bertil Edin\nMusik: Hasse Hallström\, Rodney Alvén\,\nPer-Henrik Holgersson\, Heidi Rohlin Westin.
URL:https://www.centrumkyrkan.se/kalender-namn/julotta-2/
LOCATION:Centrumkyrkan i Sundbyberg\, Prästgårdsgatan 13\, Sundbyberg\, 17268
ORGANIZER;CN="Centrumkyrkan i Sundbyberg":MAILTO:info@centrumkyrkan.se
END:VEVENT
BEGIN:VEVENT
DTSTART;TZID=Europe/Stockholm:20221225T100000
DTEND;TZID=Europe/Stockholm:20221225T130000
DTSTAMP:20260423T225845
CREATED:20221124T131731Z
LAST-MODIFIED:20221202T084124Z
UID:4321-1671962400-1671973200@www.centrumkyrkan.se
SUMMARY:Gemenskapsjul
DESCRIPTION:Traditionsenligt bjuder vi in alla som behöver och vill på mat och en stunds gemenskap.\nVår gemenskapsjul med festligt julbord\, julfika\, sång och värme håller öppet: \njuldagen den 25/12 kl 10.00-13.00 \nVälkommen att vara med som gäst eller genom att hjälpa till tillsammans med våra volontärer.
URL:https://www.centrumkyrkan.se/kalender-namn/gemenskapsjul-2/
LOCATION:Centrumkyrkan i Sundbyberg\, Prästgårdsgatan 13\, Sundbyberg\, 17268
ORGANIZER;CN="Centrumkyrkan i Sundbyberg":MAILTO:info@centrumkyrkan.se
END:VEVENT
END:VCALENDAR