BEGIN:VCALENDAR
VERSION:2.0
PRODID:-//Centrumkyrkan i Sundbyberg - ECPv6.15.20//NONSGML v1.0//EN
CALSCALE:GREGORIAN
METHOD:PUBLISH
X-WR-CALNAME:Centrumkyrkan i Sundbyberg
X-ORIGINAL-URL:https://www.centrumkyrkan.se
X-WR-CALDESC:Händelser för Centrumkyrkan i Sundbyberg
REFRESH-INTERVAL;VALUE=DURATION:PT1H
X-Robots-Tag:noindex
X-PUBLISHED-TTL:PT1H
BEGIN:VTIMEZONE
TZID:Europe/Stockholm
BEGIN:DAYLIGHT
TZOFFSETFROM:+0100
TZOFFSETTO:+0200
TZNAME:CEST
DTSTART:20200329T010000
END:DAYLIGHT
BEGIN:STANDARD
TZOFFSETFROM:+0200
TZOFFSETTO:+0100
TZNAME:CET
DTSTART:20201025T010000
END:STANDARD
BEGIN:DAYLIGHT
TZOFFSETFROM:+0100
TZOFFSETTO:+0200
TZNAME:CEST
DTSTART:20210328T010000
END:DAYLIGHT
BEGIN:STANDARD
TZOFFSETFROM:+0200
TZOFFSETTO:+0100
TZNAME:CET
DTSTART:20211031T010000
END:STANDARD
BEGIN:DAYLIGHT
TZOFFSETFROM:+0100
TZOFFSETTO:+0200
TZNAME:CEST
DTSTART:20220327T010000
END:DAYLIGHT
BEGIN:STANDARD
TZOFFSETFROM:+0200
TZOFFSETTO:+0100
TZNAME:CET
DTSTART:20221030T010000
END:STANDARD
END:VTIMEZONE
BEGIN:VEVENT
DTSTART;TZID=Europe/Stockholm:20210926T110000
DTEND;TZID=Europe/Stockholm:20210926T123000
DTSTAMP:20260424T231849
CREATED:20210809T144337Z
LAST-MODIFIED:20210921T103844Z
UID:3212-1632654000-1632659400@www.centrumkyrkan.se
SUMMARY:Gudstjänst
DESCRIPTION:”Rik inför Gud”\nPredikan: Malin Aronsson\nMusik: Siri Klinth m team
URL:https://www.centrumkyrkan.se/kalender-namn/gudstjanst-5/
LOCATION:Centrumkyrkan i Sundbyberg\, Prästgårdsgatan 13\, Sundbyberg\, 17268
END:VEVENT
BEGIN:VEVENT
DTSTART;TZID=Europe/Stockholm:20210926T123000
DTEND;TZID=Europe/Stockholm:20210926T133000
DTSTAMP:20260424T231849
CREATED:20210924T114106Z
LAST-MODIFIED:20210924T114106Z
UID:3430-1632659400-1632663000@www.centrumkyrkan.se
SUMMARY:Församlingsmöte
DESCRIPTION:Välkommen att delta på ett viktigt församlingsmöte: \nFörslaget är: Att kalla Erik Valier till Pastor i Centrumkyrkan (omfattning 100%) från och med 3/10 2021 \nFör dig som inte kan komma till kyrkan finns möjlighet att delta digitalt\, via Teams (klicka här för att ansluta) \n 
URL:https://www.centrumkyrkan.se/kalender-namn/forsamlingsmote/
LOCATION:Centrumkyrkan i Sundbyberg\, Prästgårdsgatan 13\, Sundbyberg\, 17268
ORGANIZER;CN="Centrumkyrkan i Sundbyberg":MAILTO:info@centrumkyrkan.se
END:VEVENT
END:VCALENDAR