BEGIN:VCALENDAR
VERSION:2.0
PRODID:-//Centrumkyrkan i Sundbyberg - ECPv6.15.20//NONSGML v1.0//EN
CALSCALE:GREGORIAN
METHOD:PUBLISH
X-WR-CALNAME:Centrumkyrkan i Sundbyberg
X-ORIGINAL-URL:https://www.centrumkyrkan.se
X-WR-CALDESC:Händelser för Centrumkyrkan i Sundbyberg
REFRESH-INTERVAL;VALUE=DURATION:PT1H
X-Robots-Tag:noindex
X-PUBLISHED-TTL:PT1H
BEGIN:VTIMEZONE
TZID:Europe/Stockholm
BEGIN:DAYLIGHT
TZOFFSETFROM:+0100
TZOFFSETTO:+0200
TZNAME:CEST
DTSTART:20200329T010000
END:DAYLIGHT
BEGIN:STANDARD
TZOFFSETFROM:+0200
TZOFFSETTO:+0100
TZNAME:CET
DTSTART:20201025T010000
END:STANDARD
BEGIN:DAYLIGHT
TZOFFSETFROM:+0100
TZOFFSETTO:+0200
TZNAME:CEST
DTSTART:20210328T010000
END:DAYLIGHT
BEGIN:STANDARD
TZOFFSETFROM:+0200
TZOFFSETTO:+0100
TZNAME:CET
DTSTART:20211031T010000
END:STANDARD
BEGIN:DAYLIGHT
TZOFFSETFROM:+0100
TZOFFSETTO:+0200
TZNAME:CEST
DTSTART:20220327T010000
END:DAYLIGHT
BEGIN:STANDARD
TZOFFSETFROM:+0200
TZOFFSETTO:+0100
TZNAME:CET
DTSTART:20221030T010000
END:STANDARD
END:VTIMEZONE
BEGIN:VEVENT
DTSTART;TZID=Europe/Stockholm:20210627T110000
DTEND;TZID=Europe/Stockholm:20210627T123000
DTSTAMP:20260425T031741
CREATED:20210524T090529Z
LAST-MODIFIED:20210624T070213Z
UID:2731-1624791600-1624797000@www.centrumkyrkan.se
SUMMARY:Ekumenisk gudstjänst i kyrkan
DESCRIPTION:Vi firar gudstjänst tillsammans med Svenska kyrkan i Sundbyberg och Rissnekyrkan. \n”Den Högstes profet” \nPredikan: Oya Berlin\nMusik: Niklas Aronsson med vänner \nOBS – ingen anmälan krävs! \nÄntligen får vi fira gudstjänst tillsammans igen! Vi öppnar upp kyrkan för 50 personer. OBS – att vi alla måste hjälpas åt så att vi gör detta på ett så säkert sätt som möjligt. Vänligen respektera de markerade platserna\, sprita händerna när du kommer\, stanna hemma vid minsta symtom\, håll avstånd etc etc. \nTack!
URL:https://www.centrumkyrkan.se/kalender-namn/gudstjanst-i-kyrkan-3/
LOCATION:Centrumkyrkan i Sundbyberg\, Prästgårdsgatan 13\, Sundbyberg\, 17268
CATEGORIES:Gudstjänst
END:VEVENT
END:VCALENDAR