BEGIN:VCALENDAR
VERSION:2.0
PRODID:-//Centrumkyrkan i Sundbyberg - ECPv6.15.20//NONSGML v1.0//EN
CALSCALE:GREGORIAN
METHOD:PUBLISH
X-ORIGINAL-URL:https://www.centrumkyrkan.se
X-WR-CALDESC:Händelser för Centrumkyrkan i Sundbyberg
REFRESH-INTERVAL;VALUE=DURATION:PT1H
X-Robots-Tag:noindex
X-PUBLISHED-TTL:PT1H
BEGIN:VTIMEZONE
TZID:Europe/Stockholm
BEGIN:DAYLIGHT
TZOFFSETFROM:+0100
TZOFFSETTO:+0200
TZNAME:CEST
DTSTART:20200329T010000
END:DAYLIGHT
BEGIN:STANDARD
TZOFFSETFROM:+0200
TZOFFSETTO:+0100
TZNAME:CET
DTSTART:20201025T010000
END:STANDARD
BEGIN:DAYLIGHT
TZOFFSETFROM:+0100
TZOFFSETTO:+0200
TZNAME:CEST
DTSTART:20210328T010000
END:DAYLIGHT
BEGIN:STANDARD
TZOFFSETFROM:+0200
TZOFFSETTO:+0100
TZNAME:CET
DTSTART:20211031T010000
END:STANDARD
BEGIN:DAYLIGHT
TZOFFSETFROM:+0100
TZOFFSETTO:+0200
TZNAME:CEST
DTSTART:20220327T010000
END:DAYLIGHT
BEGIN:STANDARD
TZOFFSETFROM:+0200
TZOFFSETTO:+0100
TZNAME:CET
DTSTART:20221030T010000
END:STANDARD
END:VTIMEZONE
BEGIN:VEVENT
DTSTART;TZID=Europe/Stockholm:20210618T190000
DTEND;TZID=Europe/Stockholm:20210618T210000
DTSTAMP:20260425T032026
CREATED:20210603T092158Z
LAST-MODIFIED:20210611T112759Z
UID:2982-1624042800-1624050000@www.centrumkyrkan.se
SUMMARY:CK Tillsammans på Baset
DESCRIPTION:CK TILLSAMMANS – UTOMHUS! \nVälkomna på en härlig kväll tillsammans med alla åldrar vid Basets församlingsgård i Järfälla.\nNär? Fredag 18 juni kl 19.00-21.30\nHur: Med härlig livemusik med nya och gamla Smajl-iga låtar\, Kahoot och andra tävlingar\nMat: Vi grillar korv till självkostnadspris \nAdress. Basetvägen 4\, Järfälla\nTa med vuxna\, tonåringar och barn och kom. Ett utmärkt tillfälle att ses och ladda upp inför sommarens barn- och tonårsläger. Glöm inte något att sitta på och kanske en picknic-korg. \nPS. Kanske toppa kvällen med ett dopp? Gården ligger vid en strand!
URL:https://www.centrumkyrkan.se/kalender-namn/ck-tillsammans-pa-baset/
LOCATION:Basets lägergård\, Basetvägen 4\, Järfälla\, 17546\, Sverige
CATEGORIES:CK Tillsammans
END:VEVENT
END:VCALENDAR