BEGIN:VCALENDAR
VERSION:2.0
PRODID:-//Centrumkyrkan i Sundbyberg - ECPv6.15.20//NONSGML v1.0//EN
CALSCALE:GREGORIAN
METHOD:PUBLISH
X-ORIGINAL-URL:https://www.centrumkyrkan.se
X-WR-CALDESC:Händelser för Centrumkyrkan i Sundbyberg
REFRESH-INTERVAL;VALUE=DURATION:PT1H
X-Robots-Tag:noindex
X-PUBLISHED-TTL:PT1H
BEGIN:VTIMEZONE
TZID:Europe/Stockholm
BEGIN:DAYLIGHT
TZOFFSETFROM:+0100
TZOFFSETTO:+0200
TZNAME:CEST
DTSTART:20200329T010000
END:DAYLIGHT
BEGIN:STANDARD
TZOFFSETFROM:+0200
TZOFFSETTO:+0100
TZNAME:CET
DTSTART:20201025T010000
END:STANDARD
BEGIN:DAYLIGHT
TZOFFSETFROM:+0100
TZOFFSETTO:+0200
TZNAME:CEST
DTSTART:20210328T010000
END:DAYLIGHT
BEGIN:STANDARD
TZOFFSETFROM:+0200
TZOFFSETTO:+0100
TZNAME:CET
DTSTART:20211031T010000
END:STANDARD
BEGIN:DAYLIGHT
TZOFFSETFROM:+0100
TZOFFSETTO:+0200
TZNAME:CEST
DTSTART:20220327T010000
END:DAYLIGHT
BEGIN:STANDARD
TZOFFSETFROM:+0200
TZOFFSETTO:+0100
TZNAME:CET
DTSTART:20221030T010000
END:STANDARD
END:VTIMEZONE
BEGIN:VEVENT
DTSTART;TZID=Europe/Stockholm:20210606T110000
DTEND;TZID=Europe/Stockholm:20210606T123000
DTSTAMP:20260425T031916
CREATED:20210524T081010Z
LAST-MODIFIED:20210601T064221Z
UID:2711-1622977200-1622982600@www.centrumkyrkan.se
SUMMARY:Gudstjänst i kyrkan!
DESCRIPTION:Äntligen får vi fira gudstjänst tillsammans igen! Vi öppnar upp kyrkan för 50 personer. OBS – att vi alla måste hjälpas åt så att vi gör detta på ett så säkert sätt som möjligt. Vänligen respektera de markerade platserna\, sprita händerna när du kommer\, stanna hemma vid minsta symtom\, håll avstånd etc etc. \nTack!
URL:https://www.centrumkyrkan.se/kalender-namn/gudstjanst-i-kyrkan/
LOCATION:Centrumkyrkan i Sundbyberg\, Prästgårdsgatan 13\, Sundbyberg\, 17268
CATEGORIES:Gudstjänst
ATTACH;FMTTYPE=image/jpeg:https://www.centrumkyrkan.se/wp-content/uploads/2021/03/Kyrka-laktare-Hela-kyrksalen-1-scaled.jpg
END:VEVENT
END:VCALENDAR