BEGIN:VCALENDAR
VERSION:2.0
PRODID:-//Centrumkyrkan i Sundbyberg - ECPv6.15.20//NONSGML v1.0//EN
CALSCALE:GREGORIAN
METHOD:PUBLISH
X-ORIGINAL-URL:https://www.centrumkyrkan.se
X-WR-CALDESC:Händelser för Centrumkyrkan i Sundbyberg
REFRESH-INTERVAL;VALUE=DURATION:PT1H
X-Robots-Tag:noindex
X-PUBLISHED-TTL:PT1H
BEGIN:VTIMEZONE
TZID:Europe/Stockholm
BEGIN:DAYLIGHT
TZOFFSETFROM:+0100
TZOFFSETTO:+0200
TZNAME:CEST
DTSTART:20200329T010000
END:DAYLIGHT
BEGIN:STANDARD
TZOFFSETFROM:+0200
TZOFFSETTO:+0100
TZNAME:CET
DTSTART:20201025T010000
END:STANDARD
BEGIN:DAYLIGHT
TZOFFSETFROM:+0100
TZOFFSETTO:+0200
TZNAME:CEST
DTSTART:20210328T010000
END:DAYLIGHT
BEGIN:STANDARD
TZOFFSETFROM:+0200
TZOFFSETTO:+0100
TZNAME:CET
DTSTART:20211031T010000
END:STANDARD
BEGIN:DAYLIGHT
TZOFFSETFROM:+0100
TZOFFSETTO:+0200
TZNAME:CEST
DTSTART:20220327T010000
END:DAYLIGHT
BEGIN:STANDARD
TZOFFSETFROM:+0200
TZOFFSETTO:+0100
TZNAME:CET
DTSTART:20221030T010000
END:STANDARD
END:VTIMEZONE
BEGIN:VEVENT
DTSTART;TZID=Europe/Stockholm:20210523T110000
DTEND;TZID=Europe/Stockholm:20210523T111500
DTSTAMP:20260425T044955
CREATED:20210507T115604Z
LAST-MODIFIED:20210507T120851Z
UID:2683-1621767600-1621768500@www.centrumkyrkan.se
SUMMARY:Nattvard
DESCRIPTION:
URL:https://www.centrumkyrkan.se/kalender-namn/nattvard-4/
LOCATION:Centrumkyrkan i Sundbyberg\, Prästgårdsgatan 13\, Sundbyberg\, 17268
CATEGORIES:Nattvard
ATTACH;FMTTYPE=image/jpeg:https://www.centrumkyrkan.se/wp-content/uploads/2021/03/nattvard.jpg
END:VEVENT
BEGIN:VEVENT
DTSTART;TZID=Europe/Stockholm:20210523T112000
DTEND;TZID=Europe/Stockholm:20210523T113500
DTSTAMP:20260425T044955
CREATED:20210507T115920Z
LAST-MODIFIED:20210507T120858Z
UID:2689-1621768800-1621769700@www.centrumkyrkan.se
SUMMARY:Nattvard
DESCRIPTION:
URL:https://www.centrumkyrkan.se/kalender-namn/nattvard-6/
LOCATION:Centrumkyrkan i Sundbyberg\, Prästgårdsgatan 13\, Sundbyberg\, 17268
CATEGORIES:Nattvard
ATTACH;FMTTYPE=image/jpeg:https://www.centrumkyrkan.se/wp-content/uploads/2021/03/nattvard.jpg
END:VEVENT
BEGIN:VEVENT
DTSTART;TZID=Europe/Stockholm:20210523T114500
DTEND;TZID=Europe/Stockholm:20210523T120000
DTSTAMP:20260425T044955
CREATED:20210507T115721Z
LAST-MODIFIED:20210507T120625Z
UID:2686-1621770300-1621771200@www.centrumkyrkan.se
SUMMARY:Nattvard
DESCRIPTION:
URL:https://www.centrumkyrkan.se/kalender-namn/nattvard-5/
LOCATION:Centrumkyrkan i Sundbyberg\, Prästgårdsgatan 13\, Sundbyberg\, 17268
CATEGORIES:Nattvard
ATTACH;FMTTYPE=image/jpeg:https://www.centrumkyrkan.se/wp-content/uploads/2021/03/nattvard.jpg
END:VEVENT
END:VCALENDAR