BEGIN:VCALENDAR
VERSION:2.0
PRODID:-//Centrumkyrkan i Sundbyberg - ECPv6.15.20//NONSGML v1.0//EN
CALSCALE:GREGORIAN
METHOD:PUBLISH
X-WR-CALNAME:Centrumkyrkan i Sundbyberg
X-ORIGINAL-URL:https://www.centrumkyrkan.se
X-WR-CALDESC:Händelser för Centrumkyrkan i Sundbyberg
REFRESH-INTERVAL;VALUE=DURATION:PT1H
X-Robots-Tag:noindex
X-PUBLISHED-TTL:PT1H
BEGIN:VTIMEZONE
TZID:Europe/Stockholm
BEGIN:DAYLIGHT
TZOFFSETFROM:+0100
TZOFFSETTO:+0200
TZNAME:CEST
DTSTART:20200329T010000
END:DAYLIGHT
BEGIN:STANDARD
TZOFFSETFROM:+0200
TZOFFSETTO:+0100
TZNAME:CET
DTSTART:20201025T010000
END:STANDARD
BEGIN:DAYLIGHT
TZOFFSETFROM:+0100
TZOFFSETTO:+0200
TZNAME:CEST
DTSTART:20210328T010000
END:DAYLIGHT
BEGIN:STANDARD
TZOFFSETFROM:+0200
TZOFFSETTO:+0100
TZNAME:CET
DTSTART:20211031T010000
END:STANDARD
BEGIN:DAYLIGHT
TZOFFSETFROM:+0100
TZOFFSETTO:+0200
TZNAME:CEST
DTSTART:20220327T010000
END:DAYLIGHT
BEGIN:STANDARD
TZOFFSETFROM:+0200
TZOFFSETTO:+0100
TZNAME:CET
DTSTART:20221030T010000
END:STANDARD
END:VTIMEZONE
BEGIN:VEVENT
DTSTART;TZID=Europe/Stockholm:20210509T110000
DTEND;TZID=Europe/Stockholm:20210509T111500
DTSTAMP:20260425T044944
CREATED:20210507T112529Z
LAST-MODIFIED:20210507T115228Z
UID:2659-1620558000-1620558900@www.centrumkyrkan.se
SUMMARY:Nattvard
DESCRIPTION:
URL:https://www.centrumkyrkan.se/kalender-namn/nattvard/
CATEGORIES:Nattvard
ATTACH;FMTTYPE=image/jpeg:https://www.centrumkyrkan.se/wp-content/uploads/2020/03/Inför-Hans-ansikte-19b.jpg
END:VEVENT
BEGIN:VEVENT
DTSTART;TZID=Europe/Stockholm:20210509T112000
DTEND;TZID=Europe/Stockholm:20210509T113500
DTSTAMP:20260425T044944
CREATED:20210507T112706Z
LAST-MODIFIED:20210507T115228Z
UID:2662-1620559200-1620560100@www.centrumkyrkan.se
SUMMARY:Nattvard
DESCRIPTION:
URL:https://www.centrumkyrkan.se/kalender-namn/nattvard-2/
CATEGORIES:Nattvard
ATTACH;FMTTYPE=image/jpeg:https://www.centrumkyrkan.se/wp-content/uploads/2020/03/Inför-Hans-ansikte-19b.jpg
END:VEVENT
BEGIN:VEVENT
DTSTART;TZID=Europe/Stockholm:20210509T114500
DTEND;TZID=Europe/Stockholm:20210509T120000
DTSTAMP:20260425T044944
CREATED:20210507T113337Z
LAST-MODIFIED:20210507T115228Z
UID:2666-1620560700-1620561600@www.centrumkyrkan.se
SUMMARY:Nattvard
DESCRIPTION:Välkommen till en nattvardsstund i kyrkan.
URL:https://www.centrumkyrkan.se/kalender-namn/nattvard-3/
CATEGORIES:Nattvard
ATTACH;FMTTYPE=image/jpeg:https://www.centrumkyrkan.se/wp-content/uploads/2020/03/Inför-Hans-ansikte-19b.jpg
END:VEVENT
END:VCALENDAR